Workbook

Sheet  Tổng hợp Gửi Sở
A1: UBND THÀNH PHỐ HỒ CHÍ MINH TRƯỜNG CAO ĐẲNG LÝ TỰ TRỌNG THÀNH PHỐ HỒ CHÍ MINH | F1: CỘNG HÒA XÃ HỘI CHỦ NGHĨA VIỆT NAM Độc lập - Tự do - Hạnh phúc
A2: BẢNG TỔNG HỢP KẾT QUẢ ĐÁNH GIÁ, PHÂN LOẠI THEO HIỆU QUẢ CÔNG VIỆC TRONG QUÝ 3/2019
A4: STT | B4: Họ và tên | C4: Mã nhân viên | D4: Kết quả xếp loại | E4: Đơn vị/chức vụ | F4: Hoàn thành xuất sắc nhiệm vụ | G4: Hoàn thành tốt nhiệm vụ | H4: Hoàn thành nhiệm vụ | I4: Không hoàn thành nhiệm vụ | J4: Hội đồng biểu quyết | K4: Ghi chú
A5: -1 | B5: -2 | C5: (3) | D5: (14) | E5: (3) | F5: -3 | G5: -4 | H5: -5 | I5: -6 | J5: -7 | K5: (3)
A6: 1 | B6: Phạm Hữu Lộc | C6: 41200001203 | D6: =IFERROR((VLOOKUP($C6,'Mẫu 4A'!$D$10:$L$400,9,0)),0) -> Không đánh giá | E6: Hiệu trưởng | F6: Công chức do Sở Giáo dục và Đào tạo đánh giá
A7: I | B7: Viên chức | F7: =SUM(COUNTIF(F8:F22,"X"),COUNTIF(F24:F109,"X"),COUNTIF(F111:F203,"X"),COUNTIF(F205:F216,"X"),COUNTIF(F221:F261,"X")) -> 99 | G7: =SUM(COUNTIF(G8:G22,"X"),COUNTIF(G24:G109,"X"),COUNTIF(G111:G203,"X"),COUNTIF(G205:G216,"X"),COUNTIF(G221:G261,"X")) -> 140 | H7: =SUM(COUNTIF(H8:H22,"X"),COUNTIF(H24:H109,"X"),COUNTIF(H111:H203,"X"),COUNTIF(H205:H216,"X"),COUNTIF(H221:H261,"X")) -> 7 | I7: =SUM(COUNTIF(I8:I22,"X"),COUNTIF(I24:I109,"X"),COUNTIF(I111:I203,"X"),COUNTIF(I205:I216,"X"),COUNTIF(I221:I261,"X")) -> 1
A8: 1 | B8: Đinh Hồng Minh | C8: 11100000791 | D8: =IFERROR((VLOOKUP($C8,'Mẫu 4A'!$D$10:$L$400,9,0)),0) -> Xuất sắc | E8: Phó Hiệu trưởng | F8: =IF($D8="Xuất sắc","X","") -> X | G8: =IF($D8="Tốt","X","") | H8: =IF($D8="Hoàn thành","X","") | I8: =IF($D8="Không hoàn thành","X","") | J8: 14/14
A9: 2 | B9: Đinh Văn Đệ | C9: 50200000021 | D9: =IFERROR((VLOOKUP($C9,'Mẫu 4A'!$D$10:$L$400,9,0)),0) -> Xuất sắc | E9: Phó Hiệu trưởng | F9: =IF($D9="Xuất sắc","X","") -> X | G9: =IF($D9="Tốt","X","") | H9: =IF($D9="Hoàn thành","X","") | I9: =IF($D9="Không hoàn thành","X","") | J9: 14/14
A10: 3 | B10: Châu Văn Bảo | C10: 50200000021 | D10: =IFERROR((VLOOKUP($C10,'Mẫu 4A'!$D$10:$L$400,9,0)),0) -> Xuất sắc | E10: Phó Hiệu trưởng | F10: =IF($D10="Xuất sắc","X","") -> X | G10: =IF($D10="Tốt","X","") | H10: =IF($D10="Hoàn thành","X","") | I10: =IF($D10="Không hoàn thành","X","") | J10: 14/14
A11: 4 | B11: Lâm Viết Dũng | C11: 50800000104 | D11: =IFERROR((VLOOKUP($C11,'Mẫu 4A'!$D$10:$L$400,9,0)),0) -> Xuất sắc | E11: P. TC-HC-TH | F11: =IF($D11="Xuất sắc","X","") -> X | G11: =IF($D11="Tốt","X","") | H11: =IF($D11="Hoàn thành","X","") | I11: =IF($D11="Không hoàn thành","X","") | J11: 14/14
A12: 5 | B12: Nguyễn Thị Hoa | C12: 11100000743 | D12: =IFERROR((VLOOKUP($C12,'Mẫu 4A'!$D$10:$L$400,9,0)),0) -> Xuất sắc | E12: " | F12: =IF($D12="Xuất sắc","X","") -> X | G12: =IF($D12="Tốt","X","") | H12: =IF($D12="Hoàn thành","X","") | I12: =IF($D12="Không hoàn thành","X","") | J12: 14/14
A13: 6 | B13: Nguyễn Thành Nam | C13: 60400000280 | D13: =IFERROR((VLOOKUP($C13,'Mẫu 4A'!$D$10:$L$400,9,0)),0) -> Tốt | E13: " | F13: =IF($D13="Xuất sắc","X","") | G13: =IF($D13="Tốt","X","") -> X | H13: =IF($D13="Hoàn thành","X","") | I13: =IF($D13="Không hoàn thành","X","") | J13: 14/14
A14: 7 | B14: Phan Thị Ngọc Phượng | C14: 11100082854 | D14: =IFERROR((VLOOKUP($C14,'Mẫu 4A'!$D$10:$L$400,9,0)),0) -> Xuất sắc | E14: " | F14: =IF($D14="Xuất sắc","X","") -> X | G14: =IF($D14="Tốt","X","") | H14: =IF($D14="Hoàn thành","X","") | I14: =IF($D14="Không hoàn thành","X","") | J14: 14/14
A15: 8 | B15: Vũ Như Quỳnh | C15: 11100082861 | D15: =IFERROR((VLOOKUP($C15,'Mẫu 4A'!$D$10:$L$400,9,0)),0) -> Xuất sắc | E15: " | F15: =IF($D15="Xuất sắc","X","") -> X | G15: =IF($D15="Tốt","X","") | H15: =IF($D15="Hoàn thành","X","") | I15: =IF($D15="Không hoàn thành","X","") | J15: 14/14
A16: 9 | B16: Trần Thị Ánh Phượng | C16: 11100115699 | D16: =IFERROR((VLOOKUP($C16,'Mẫu 4A'!$D$10:$L$400,9,0)),0) -> Xuất sắc | E16: " | F16: =IF($D16="Xuất sắc","X","") -> X | G16: =IF($D16="Tốt","X","") | H16: =IF($D16="Hoàn thành","X","") | I16: =IF($D16="Không hoàn thành","X","") | J16: 14/14
A17: 10 | B17: Nguyễn Thị Bích Liễu | C17: 40400000515 | D17: =IFERROR((VLOOKUP($C17,'Mẫu 4A'!$D$10:$L$400,9,0)),0) -> Xuất sắc | E17: " | F17: =IF($D17="Xuất sắc","X","") -> X | G17: =IF($D17="Tốt","X","") | H17: =IF($D17="Hoàn thành","X","") | I17: =IF($D17="Không hoàn thành","X","") | J17: 14/14 | K17: Nghỉ thai sản từ 04/02/19 đến 04/8/2019 (đánh giá 2 tháng)
A18: 11 | B18: Trần Thị Phương Oanh | C18: 11100071604 | D18: =IFERROR((VLOOKUP($C18,'Mẫu 4A'!$D$10:$L$400,9,0)),0) -> Xuất sắc | E18: " | F18: =IF($D18="Xuất sắc","X","") -> X | G18: =IF($D18="Tốt","X","") | H18: =IF($D18="Hoàn thành","X","") | I18: =IF($D18="Không hoàn thành","X","") | J18: 14/14
A19: 12 | B19: Lưu Hoàng Hải Yến | C19: 80300000835 | D19: =IFERROR((VLOOKUP($C19,'Mẫu 4A'!$D$10:$L$400,9,0)),0) -> Xuất sắc | E19: " | F19: =IF($D19="Xuất sắc","X","") -> X | G19: =IF($D19="Tốt","X","") | H19: =IF($D19="Hoàn thành","X","") | I19: =IF($D19="Không hoàn thành","X","") | J19: 14/14
A20: 13 | B20: Huỳnh Thị Minh Ly | C20: 11100115713 | D20: =IFERROR((VLOOKUP($C20,'Mẫu 4A'!$D$10:$L$400,9,0)),0) -> Xuất sắc | E20: " | F20: =IF($D20="Xuất sắc","X","") -> X | G20: =IF($D20="Tốt","X","") | H20: =IF($D20="Hoàn thành","X","") | I20: =IF($D20="Không hoàn thành","X","") | J20: 14/14
A21: 14 | B21: Nguyễn Văn Chì | C21: 40700000887 | D21: =IFERROR((VLOOKUP($C21,'Mẫu 4A'!$D$10:$L$400,9,0)),0) -> Xuất sắc | E21: " | F21: =IF($D21="Xuất sắc","X","") -> X | G21: =IF($D21="Tốt","X","") | H21: =IF($D21="Hoàn thành","X","") | I21: =IF($D21="Không hoàn thành","X","") | J21: 14/14
A22: 15 | B22: Thân Thị Nhung | C22: 40700000683 | D22: =IFERROR((VLOOKUP($C22,'Mẫu 4A'!$D$10:$L$400,9,0)),0) -> Xuất sắc | E22: " | F22: =IF($D22="Xuất sắc","X","") -> X | G22: =IF($D22="Tốt","X","") | H22: =IF($D22="Hoàn thành","X","") | I22: =IF($D22="Không hoàn thành","X","") | J22: 14/14
A23: 16 | B23: Nguyễn Thị Vân | C23: 80500000584 | D23: =IFERROR((VLOOKUP($C23,'Mẫu 4A'!$D$10:$L$400,9,0)),0) -> Không đánh giá | E23: " | F23: Không đánh giá, nghỉ thai sản từ tháng 02/4/2019 | J23: 14/14
A24: 17 | B24: Lê Xuân Thiện | C24: 11100000742 | D24: =IFERROR((VLOOKUP($C24,'Mẫu 4A'!$D$10:$L$400,9,0)),0) -> Xuất sắc | E24: P. CTCT-HSSV | F24: =IF($D24="Xuất sắc","X","") -> X | G24: =IF($D24="Tốt","X","") | H24: =IF($D24="Hoàn thành","X","") | I24: =IF($D24="Không hoàn thành","X","") | J24: 14/14
A25: 18 | B25: Hồ Minh Lợi | C25: 11100000704 | D25: =IFERROR((VLOOKUP($C25,'Mẫu 4A'!$D$10:$L$400,9,0)),0) -> Xuất sắc | E25: " | F25: =IF($D25="Xuất sắc","X","") -> X | G25: =IF($D25="Tốt","X","") | H25: =IF($D25="Hoàn thành","X","") | I25: =IF($D25="Không hoàn thành","X","") | J25: 14/14
A26: 19 | B26: Nguyễn Ngọc Hiệp | C26: 11100000751 | D26: =IFERROR((VLOOKUP($C26,'Mẫu 4A'!$D$10:$L$400,9,0)),0) -> Tốt | E26: " | F26: =IF($D26="Xuất sắc","X","") | G26: =IF($D26="Tốt","X","") -> X | H26: =IF($D26="Hoàn thành","X","") | I26: =IF($D26="Không hoàn thành","X","") | J26: 14/14
A27: 20 | B27: Nguyễn Thị Kim Anh | C27: 11100115721 | D27: =IFERROR((VLOOKUP($C27,'Mẫu 4A'!$D$10:$L$400,9,0)),0) -> Xuất sắc | E27: " | F27: =IF($D27="Xuất sắc","X","") -> X | G27: =IF($D27="Tốt","X","") | H27: =IF($D27="Hoàn thành","X","") | I27: =IF($D27="Không hoàn thành","X","") | J27: 14/14
A28: 21 | B28: Phạm Thị Lê Chi | C28: 11100110014 | D28: =IFERROR((VLOOKUP($C28,'Mẫu 4A'!$D$10:$L$400,9,0)),0) -> Hoàn thành | E28: " | F28: =IF($D28="Xuất sắc","X","") | G28: =IF($D28="Tốt","X","") | H28: =IF($D28="Hoàn thành","X","") -> X | I28: =IF($D28="Không hoàn thành","X","") | J28: 14/14 | K28: Thi đua tháng 8 xếp loại B
A29: 22 | B29: Bùi Thị Dương | C29: 11100115717 | D29: =IFERROR((VLOOKUP($C29,'Mẫu 4A'!$D$10:$L$400,9,0)),0) -> Tốt | E29: " | F29: =IF($D29="Xuất sắc","X","") | G29: =IF($D29="Tốt","X","") -> X | H29: =IF($D29="Hoàn thành","X","") | I29: =IF($D29="Không hoàn thành","X","") | J29: 14/14
A30: 23 | B30: Hà Nhật Thanh | C30: 11100000741 | D30: =IFERROR((VLOOKUP($C30,'Mẫu 4A'!$D$10:$L$400,9,0)),0) -> Xuất sắc | E30: " | F30: =IF($D30="Xuất sắc","X","") -> X | G30: =IF($D30="Tốt","X","") | H30: =IF($D30="Hoàn thành","X","") | I30: =IF($D30="Không hoàn thành","X","") | J30: 14/14
A31: 24 | B31: Trần Thị Thu Hà | C31: 11100071600 | D31: =IFERROR((VLOOKUP($C31,'Mẫu 4A'!$D$10:$L$400,9,0)),0) -> Xuất sắc | E31: " | F31: =IF($D31="Xuất sắc","X","") -> X | G31: =IF($D31="Tốt","X","") | H31: =IF($D31="Hoàn thành","X","") | I31: =IF($D31="Không hoàn thành","X","") | J31: 14/14
A32: 25 | B32: Phan Đức Long | C32: 11100000789 | D32: =IFERROR((VLOOKUP($C32,'Mẫu 4A'!$D$10:$L$400,9,0)),0) -> Tốt | E32: " | F32: =IF($D32="Xuất sắc","X","") | G32: =IF($D32="Tốt","X","") -> X | H32: =IF($D32="Hoàn thành","X","") | I32: =IF($D32="Không hoàn thành","X","") | J32: 14/14
A33: 26 | B33: Nguyễn Tất Thắng | C33: 11100000772 | D33: =IFERROR((VLOOKUP($C33,'Mẫu 4A'!$D$10:$L$400,9,0)),0) -> Xuất sắc | E33: " | F33: =IF($D33="Xuất sắc","X","") -> X | G33: =IF($D33="Tốt","X","") | H33: =IF($D33="Hoàn thành","X","") | I33: =IF($D33="Không hoàn thành","X","") | J33: 14/14
A34: 27 | B34: Nguyễn Chí Nhân | C34: 11100066861 | D34: =IFERROR((VLOOKUP($C34,'Mẫu 4A'!$D$10:$L$400,9,0)),0) -> Tốt | E34: P. KT&ĐBCL | F34: =IF($D34="Xuất sắc","X","") | G34: =IF($D34="Tốt","X","") -> X | H34: =IF($D34="Hoàn thành","X","") | I34: =IF($D34="Không hoàn thành","X","") | J34: 14/14
A35: 28 | B35: Võ Thị Anh Đào | C35: 11100000701 | D35: =IFERROR((VLOOKUP($C35,'Mẫu 4A'!$D$10:$L$400,9,0)),0) -> Xuất sắc | E35: " | F35: =IF($D35="Xuất sắc","X","") -> X | G35: =IF($D35="Tốt","X","") | H35: =IF($D35="Hoàn thành","X","") | I35: =IF($D35="Không hoàn thành","X","") | J35: 14/14
A36: 29 | B36: Nguyễn Thanh Sơn | C36: 11100122989 | D36: =IFERROR((VLOOKUP($C36,'Mẫu 4A'!$D$10:$L$400,9,0)),0) -> Tốt | E36: " | F36: =IF($D36="Xuất sắc","X","") | G36: =IF($D36="Tốt","X","") -> X | H36: =IF($D36="Hoàn thành","X","") | I36: =IF($D36="Không hoàn thành","X","") | J36: 14/14
A37: 30 | B37: Lương Minh Dũng | C37: 40800000245 | D37: =IFERROR((VLOOKUP($C37,'Mẫu 4A'!$D$10:$L$400,9,0)),0) -> Xuất sắc | E37: " | F37: =IF($D37="Xuất sắc","X","") -> X | G37: =IF($D37="Tốt","X","") | H37: =IF($D37="Hoàn thành","X","") | I37: =IF($D37="Không hoàn thành","X","") | J37: 14/14
A38: 31 | B38: Nguyễn Thị Tuyết | C38: 50700000482 | D38: =IFERROR((VLOOKUP($C38,'Mẫu 4A'!$D$10:$L$400,9,0)),0) -> Xuất sắc | E38: " | F38: =IF($D38="Xuất sắc","X","") -> X | G38: =IF($D38="Tốt","X","") | H38: =IF($D38="Hoàn thành","X","") | I38: =IF($D38="Không hoàn thành","X","") | J38: 14/14
A39: 32 | B39: Vũ Thị Thu Thủy | C39: 11100115710 | D39: =IFERROR((VLOOKUP($C39,'Mẫu 4A'!$D$10:$L$400,9,0)),0) -> Tốt | E39: " | F39: =IF($D39="Xuất sắc","X","") | G39: =IF($D39="Tốt","X","") -> X | H39: =IF($D39="Hoàn thành","X","") | I39: =IF($D39="Không hoàn thành","X","") | J39: 14/14
A40: 33 | B40: Nguyễn Kính | C40: 50800000800 | D40: =IFERROR((VLOOKUP($C40,'Mẫu 4A'!$D$10:$L$400,9,0)),0) -> Xuất sắc | E40: P. KH-TC | F40: =IF($D40="Xuất sắc","X","") -> X | G40: =IF($D40="Tốt","X","") | H40: =IF($D40="Hoàn thành","X","") | I40: =IF($D40="Không hoàn thành","X","") | J40: 14/14
A41: 34 | B41: Nguyễn Thị Kim Dung | C41: 11100071598 | D41: =IFERROR((VLOOKUP($C41,'Mẫu 4A'!$D$10:$L$400,9,0)),0) -> Tốt | E41: " | F41: =IF($D41="Xuất sắc","X","") | G41: =IF($D41="Tốt","X","") -> X | H41: =IF($D41="Hoàn thành","X","") | I41: =IF($D41="Không hoàn thành","X","") | J41: 14/14
...

Sheet  Tổng hợp theo ĐV (2)
A1: UBND THÀNH PHỐ HỒ CHÍ MINH TRƯỜNG CAO ĐẲNG LÝ TỰ TRỌNG THÀNH PHỐ HỒ CHÍ MINH | F1: CỘNG HÒA XÃ HỘI CHỦ NGHĨA VIỆT NAM Độc lập - Tự do - Hạnh phúc
A2: BẢNG TỔNG HỢP KẾT QUẢ ĐÁNH GIÁ, PHÂN LOẠI THEO HIỆU QUẢ CÔNG VIỆC TRONG QUÝ 3/2019
A4: STT | B4: Họ và tên | C4: Mã nhân viên | D4: Kết quả xếp loại | E4: Đơn vị/chức vụ | F4: Hoàn thành xuất sắc nhiệm vụ | G4: Hoàn thành tốt nhiệm vụ | H4: Hoàn thành nhiệm vụ | I4: Không hoàn thành nhiệm vụ | J4: Ghi chú
A5: (1) | C5: (3) | D5: (14) | E5: (3) | F5: (14) | G5: (3) | H5: (14) | I5: (3) | J5: (14)
A6: 1 | B6: Phạm Hữu Lộc | C6: 41200001203 | D6: =IFERROR((VLOOKUP($C6,'Mẫu 4A'!$D$10:$L$400,9,0)),0) -> Không đánh giá | E6: Hiệu trưởng | F6: Công chức, Sở GDĐT đánh giá, phân loại
A7: I | B7: Viên chức | F7: =SUM(COUNTIF(F8:F22,"X"),COUNTIF(F24:F109,"X"),COUNTIF(F111:F203,"X"),COUNTIF(F205:F216,"X"),COUNTIF(F221:F261,"X")) -> 99 | G7: =SUM(COUNTIF(G8:G22,"X"),COUNTIF(G24:G109,"X"),COUNTIF(G111:G203,"X"),COUNTIF(G205:G216,"X"),COUNTIF(G221:G261,"X")) -> 140 | H7: =SUM(COUNTIF(H8:H22,"X"),COUNTIF(H24:H109,"X"),COUNTIF(H111:H203,"X"),COUNTIF(H205:H216,"X"),COUNTIF(H221:H261,"X")) -> 7 | I7: =SUM(COUNTIF(I8:I22,"X"),COUNTIF(I24:I109,"X"),COUNTIF(I111:I203,"X"),COUNTIF(I205:I216,"X"),COUNTIF(I221:I261,"X")) -> 1
A8: 1 | B8: Đinh Hồng Minh | C8: 11100000791 | D8: =IFERROR((VLOOKUP($C8,'Mẫu 4A'!$D$10:$L$400,9,0)),0) -> Xuất sắc | E8: Phó Hiệu trưởng | F8: =IF($D8="Xuất sắc","X","") -> X | G8: =IF($D8="Tốt","X","") | H8: =IF($D8="Hoàn thành","X","") | I8: =IF($D8="Không hoàn thành","X","")
A9: 2 | B9: Đinh Văn Đệ | C9: 50200000021 | D9: =IFERROR((VLOOKUP($C9,'Mẫu 4A'!$D$10:$L$400,9,0)),0) -> Xuất sắc | E9: Phó Hiệu trưởng | F9: =IF($D9="Xuất sắc","X","") -> X | G9: =IF($D9="Tốt","X","") | H9: =IF($D9="Hoàn thành","X","") | I9: =IF($D9="Không hoàn thành","X","")
A10: 3 | B10: Châu Văn Bảo | C10: 50200000021 | D10: =IFERROR((VLOOKUP($C10,'Mẫu 4A'!$D$10:$L$400,9,0)),0) -> Xuất sắc | E10: Phó Hiệu trưởng | F10: =IF($D10="Xuất sắc","X","") -> X | G10: =IF($D10="Tốt","X","") | H10: =IF($D10="Hoàn thành","X","") | I10: =IF($D10="Không hoàn thành","X","")
A11: 4 | B11: Lâm Viết Dũng | C11: 50800000104 | D11: =IFERROR((VLOOKUP($C11,'Mẫu 4A'!$D$10:$L$400,9,0)),0) -> Xuất sắc | E11: P. TC-HC-TH | F11: =IF($D11="Xuất sắc","X","") -> X | G11: =IF($D11="Tốt","X","") | H11: =IF($D11="Hoàn thành","X","") | I11: =IF($D11="Không hoàn thành","X","")
A12: 5 | B12: Nguyễn Thị Hoa | C12: 11100000743 | D12: =IFERROR((VLOOKUP($C12,'Mẫu 4A'!$D$10:$L$400,9,0)),0) -> Xuất sắc | E12: " | F12: =IF($D12="Xuất sắc","X","") -> X | G12: =IF($D12="Tốt","X","") | H12: =IF($D12="Hoàn thành","X","") | I12: =IF($D12="Không hoàn thành","X","")
A13: 6 | B13: Nguyễn Thành Nam | C13: 60400000280 | D13: =IFERROR((VLOOKUP($C13,'Mẫu 4A'!$D$10:$L$400,9,0)),0) -> Tốt | E13: " | F13: =IF($D13="Xuất sắc","X","") | G13: =IF($D13="Tốt","X","") -> X | H13: =IF($D13="Hoàn thành","X","") | I13: =IF($D13="Không hoàn thành","X","")
A14: 7 | B14: Phan Thị Ngọc Phượng | C14: 11100082854 | D14: =IFERROR((VLOOKUP($C14,'Mẫu 4A'!$D$10:$L$400,9,0)),0) -> Xuất sắc | E14: " | F14: =IF($D14="Xuất sắc","X","") -> X | G14: =IF($D14="Tốt","X","") | H14: =IF($D14="Hoàn thành","X","") | I14: =IF($D14="Không hoàn thành","X","")
A15: 8 | B15: Vũ Như Quỳnh | C15: 11100082861 | D15: =IFERROR((VLOOKUP($C15,'Mẫu 4A'!$D$10:$L$400,9,0)),0) -> Xuất sắc | E15: " | F15: =IF($D15="Xuất sắc","X","") -> X | G15: =IF($D15="Tốt","X","") | H15: =IF($D15="Hoàn thành","X","") | I15: =IF($D15="Không hoàn thành","X","")
A16: 9 | B16: Trần Thị Ánh Phượng | C16: 11100115699 | D16: =IFERROR((VLOOKUP($C16,'Mẫu 4A'!$D$10:$L$400,9,0)),0) -> Xuất sắc | E16: " | F16: =IF($D16="Xuất sắc","X","") -> X | G16: =IF($D16="Tốt","X","") | H16: =IF($D16="Hoàn thành","X","") | I16: =IF($D16="Không hoàn thành","X","")
A17: 10 | B17: Nguyễn Thị Bích Liễu | C17: 40400000515 | D17: =IFERROR((VLOOKUP($C17,'Mẫu 4A'!$D$10:$L$400,9,0)),0) -> Xuất sắc | E17: " | F17: =IF($D17="Xuất sắc","X","") -> X | G17: =IF($D17="Tốt","X","") | H17: =IF($D17="Hoàn thành","X","") | I17: =IF($D17="Không hoàn thành","X","") | J17: Nghỉ thai sản từ 04/02/19 đến 04/8/2019 (đánh giá 2 tháng)
A18: 11 | B18: Trần Thị Phương Oanh | C18: 11100071604 | D18: =IFERROR((VLOOKUP($C18,'Mẫu 4A'!$D$10:$L$400,9,0)),0) -> Xuất sắc | E18: " | F18: =IF($D18="Xuất sắc","X","") -> X | G18: =IF($D18="Tốt","X","") | H18: =IF($D18="Hoàn thành","X","") | I18: =IF($D18="Không hoàn thành","X","")
A19: 12 | B19: Lưu Hoàng Hải Yến | C19: 80300000835 | D19: =IFERROR((VLOOKUP($C19,'Mẫu 4A'!$D$10:$L$400,9,0)),0) -> Xuất sắc | E19: " | F19: =IF($D19="Xuất sắc","X","") -> X | G19: =IF($D19="Tốt","X","") | H19: =IF($D19="Hoàn thành","X","") | I19: =IF($D19="Không hoàn thành","X","")
A20: 13 | B20: Huỳnh Thị Minh Ly | C20: 11100115713 | D20: =IFERROR((VLOOKUP($C20,'Mẫu 4A'!$D$10:$L$400,9,0)),0) -> Xuất sắc | E20: " | F20: =IF($D20="Xuất sắc","X","") -> X | G20: =IF($D20="Tốt","X","") | H20: =IF($D20="Hoàn thành","X","") | I20: =IF($D20="Không hoàn thành","X","")
A21: 14 | B21: Nguyễn Văn Chì | C21: 40700000887 | D21: =IFERROR((VLOOKUP($C21,'Mẫu 4A'!$D$10:$L$400,9,0)),0) -> Xuất sắc | E21: " | F21: =IF($D21="Xuất sắc","X","") -> X | G21: =IF($D21="Tốt","X","") | H21: =IF($D21="Hoàn thành","X","") | I21: =IF($D21="Không hoàn thành","X","")
A22: 15 | B22: Thân Thị Nhung | C22: 40700000683 | D22: =IFERROR((VLOOKUP($C22,'Mẫu 4A'!$D$10:$L$400,9,0)),0) -> Xuất sắc | E22: " | F22: =IF($D22="Xuất sắc","X","") -> X | G22: =IF($D22="Tốt","X","") | H22: =IF($D22="Hoàn thành","X","") | I22: =IF($D22="Không hoàn thành","X","")
A23: 16 | B23: Nguyễn Thị Vân | C23: 80500000584 | D23: =IFERROR((VLOOKUP($C23,'Mẫu 4A'!$D$10:$L$400,9,0)),0) -> Không đánh giá | E23: " | F23: Không đánh giá, nghỉ thai sản từ tháng 02/4/2019
A24: 17 | B24: Lê Xuân Thiện | C24: 11100000742 | D24: =IFERROR((VLOOKUP($C24,'Mẫu 4A'!$D$10:$L$400,9,0)),0) -> Xuất sắc | E24: P. CTCT-HSSV | F24: =IF($D24="Xuất sắc","X","") -> X | G24: =IF($D24="Tốt","X","") | H24: =IF($D24="Hoàn thành","X","") | I24: =IF($D24="Không hoàn thành","X","")
A25: 18 | B25: Hồ Minh Lợi | C25: 11100000704 | D25: =IFERROR((VLOOKUP($C25,'Mẫu 4A'!$D$10:$L$400,9,0)),0) -> Xuất sắc | E25: " | F25: =IF($D25="Xuất sắc","X","") -> X | G25: =IF($D25="Tốt","X","") | H25: =IF($D25="Hoàn thành","X","") | I25: =IF($D25="Không hoàn thành","X","")
A26: 19 | B26: Nguyễn Ngọc Hiệp | C26: 11100000751 | D26: =IFERROR((VLOOKUP($C26,'Mẫu 4A'!$D$10:$L$400,9,0)),0) -> Tốt | E26: " | F26: =IF($D26="Xuất sắc","X","") | G26: =IF($D26="Tốt","X","") -> X | H26: =IF($D26="Hoàn thành","X","") | I26: =IF($D26="Không hoàn thành","X","")
A27: 20 | B27: Nguyễn Thị Kim Anh | C27: 11100115721 | D27: =IFERROR((VLOOKUP($C27,'Mẫu 4A'!$D$10:$L$400,9,0)),0) -> Xuất sắc | E27: " | F27: =IF($D27="Xuất sắc","X","") -> X | G27: =IF($D27="Tốt","X","") | H27: =IF($D27="Hoàn thành","X","") | I27: =IF($D27="Không hoàn thành","X","")
A28: 21 | B28: Phạm Thị Lê Chi | C28: 11100110014 | D28: =IFERROR((VLOOKUP($C28,'Mẫu 4A'!$D$10:$L$400,9,0)),0) -> Hoàn thành | E28: " | F28: =IF($D28="Xuất sắc","X","") | G28: =IF($D28="Tốt","X","") | H28: =IF($D28="Hoàn thành","X","") -> X | I28: =IF($D28="Không hoàn thành","X","") | J28: Thi đua tháng 8 xếp loại B
A29: 22 | B29: Bùi Thị Dương | C29: 11100115717 | D29: =IFERROR((VLOOKUP($C29,'Mẫu 4A'!$D$10:$L$400,9,0)),0) -> Tốt | E29: " | F29: =IF($D29="Xuất sắc","X","") | G29: =IF($D29="Tốt","X","") -> X | H29: =IF($D29="Hoàn thành","X","") | I29: =IF($D29="Không hoàn thành","X","")
A30: 23 | B30: Hà Nhật Thanh | C30: 11100000741 | D30: =IFERROR((VLOOKUP($C30,'Mẫu 4A'!$D$10:$L$400,9,0)),0) -> Xuất sắc | E30: " | F30: =IF($D30="Xuất sắc","X","") -> X | G30: =IF($D30="Tốt","X","") | H30: =IF($D30="Hoàn thành","X","") | I30: =IF($D30="Không hoàn thành","X","")
A31: 24 | B31: Trần Thị Thu Hà | C31: 11100071600 | D31: =IFERROR((VLOOKUP($C31,'Mẫu 4A'!$D$10:$L$400,9,0)),0) -> Xuất sắc | E31: " | F31: =IF($D31="Xuất sắc","X","") -> X | G31: =IF($D31="Tốt","X","") | H31: =IF($D31="Hoàn thành","X","") | I31: =IF($D31="Không hoàn thành","X","")
A32: 25 | B32: Phan Đức Long | C32: 11100000789 | D32: =IFERROR((VLOOKUP($C32,'Mẫu 4A'!$D$10:$L$400,9,0)),0) -> Tốt | E32: " | F32: =IF($D32="Xuất sắc","X","") | G32: =IF($D32="Tốt","X","") -> X | H32: =IF($D32="Hoàn thành","X","") | I32: =IF($D32="Không hoàn thành","X","")
A33: 26 | B33: Nguyễn Tất Thắng | C33: 11100000772 | D33: =IFERROR((VLOOKUP($C33,'Mẫu 4A'!$D$10:$L$400,9,0)),0) -> Xuất sắc | E33: " | F33: =IF($D33="Xuất sắc","X","") -> X | G33: =IF($D33="Tốt","X","") | H33: =IF($D33="Hoàn thành","X","") | I33: =IF($D33="Không hoàn thành","X","")
A34: 27 | B34: Nguyễn Chí Nhân | C34: 11100066861 | D34: =IFERROR((VLOOKUP($C34,'Mẫu 4A'!$D$10:$L$400,9,0)),0) -> Tốt | E34: P. KT&ĐBCL | F34: =IF($D34="Xuất sắc","X","") | G34: =IF($D34="Tốt","X","") -> X | H34: =IF($D34="Hoàn thành","X","") | I34: =IF($D34="Không hoàn thành","X","")
A35: 28 | B35: Võ Thị Anh Đào | C35: 11100000701 | D35: =IFERROR((VLOOKUP($C35,'Mẫu 4A'!$D$10:$L$400,9,0)),0) -> Xuất sắc | E35: " | F35: =IF($D35="Xuất sắc","X","") -> X | G35: =IF($D35="Tốt","X","") | H35: =IF($D35="Hoàn thành","X","") | I35: =IF($D35="Không hoàn thành","X","")
A36: 29 | B36: Nguyễn Thanh Sơn | C36: 11100122989 | D36: =IFERROR((VLOOKUP($C36,'Mẫu 4A'!$D$10:$L$400,9,0)),0) -> Tốt | E36: " | F36: =IF($D36="Xuất sắc","X","") | G36: =IF($D36="Tốt","X","") -> X | H36: =IF($D36="Hoàn thành","X","") | I36: =IF($D36="Không hoàn thành","X","")
A37: 30 | B37: Lương Minh Dũng | C37: 40800000245 | D37: =IFERROR((VLOOKUP($C37,'Mẫu 4A'!$D$10:$L$400,9,0)),0) -> Xuất sắc | E37: " | F37: =IF($D37="Xuất sắc","X","") -> X | G37: =IF($D37="Tốt","X","") | H37: =IF($D37="Hoàn thành","X","") | I37: =IF($D37="Không hoàn thành","X","")
A38: 31 | B38: Nguyễn Thị Tuyết | C38: 50700000482 | D38: =IFERROR((VLOOKUP($C38,'Mẫu 4A'!$D$10:$L$400,9,0)),0) -> Xuất sắc | E38: " | F38: =IF($D38="Xuất sắc","X","") -> X | G38: =IF($D38="Tốt","X","") | H38: =IF($D38="Hoàn thành","X","") | I38: =IF($D38="Không hoàn thành","X","")
A39: 32 | B39: Vũ Thị Thu Thủy | C39: 11100115710 | D39: =IFERROR((VLOOKUP($C39,'Mẫu 4A'!$D$10:$L$400,9,0)),0) -> Tốt | E39: " | F39: =IF($D39="Xuất sắc","X","") | G39: =IF($D39="Tốt","X","") -> X | H39: =IF($D39="Hoàn thành","X","") | I39: =IF($D39="Không hoàn thành","X","")
A40: 33 | B40: Nguyễn Kính | C40: 50800000800 | D40: =IFERROR((VLOOKUP($C40,'Mẫu 4A'!$D$10:$L$400,9,0)),0) -> Xuất sắc | E40: P. KH-TC | F40: =IF($D40="Xuất sắc","X","") -> X | G40: =IF($D40="Tốt","X","") | H40: =IF($D40="Hoàn thành","X","") | I40: =IF($D40="Không hoàn thành","X","")
A41: 34 | B41: Nguyễn Thị Kim Dung | C41: 11100071598 | D41: =IFERROR((VLOOKUP($C41,'Mẫu 4A'!$D$10:$L$400,9,0)),0) -> Tốt | E41: " | F41: =IF($D41="Xuất sắc","X","") | G41: =IF($D41="Tốt","X","") -> X | H41: =IF($D41="Hoàn thành","X","") | I41: =IF($D41="Không hoàn thành","X","")
...

Sheet  Tổng hợp theo ĐV
A1: TRƯỜNG CAO ĐẲNG LÝ TỰ TRỌNG THÀNH PHỐ HỒ CHÍ MINH PHÒNG TỔ CHỨC - HÀNH CHÍNH - TỔNG HỢP | F1: Mẫu 4B
A3: BÁO CÁO DANH SÁCH TỔNG HỢP KẾT QUẢ ĐÁNH GIÁ, PHÂN LOẠI CỦA CÔNG CHỨC, VIÊN CHỨC Kỳ đánh giá: Quý 3/2019
A5: STT | B5: HỌ VÀ TÊN | D5: Họ và tên | E5: Mã nhân viên | F5: Kết quả xếp loại | G5: Đơn vị/chức vụ | H5: Hoàn thành xuất sắc nhiệm vụ | I5: Hoàn thành tốt nhiệm vụ | J5: Hoàn thành nhiệm vụ | K5: Không hoàn thành nhiệm vụ | L5: Ghi chú
A6: (1) | B6: (2) | E6: (3) | F6: (14) | G6: (3) | H6: (14) | I6: (3) | J6: (14) | K6: (3) | L6: (14)
A7: I | B7: BAN GIÁM HIỆU
A8: a | B8: Viên chức
A9: 1 | B9: Phạm Hữu | C9: Lộc | D9: =TRIM(B9&" "&C9) -> Phạm Hữu Lộc | E9: 41200001203 | F9: =IFERROR((VLOOKUP($E9,'Mẫu 4A'!$D$10:$L$400,9,0)),0) -> Không đánh giá | G9: Hiệu trưởng | H9: =IF($F9="Xuất sắc","X","") | I9: =IF($F9="Tốt","X","") | J9: =IF($F9="Hoàn thành","X","") | K9: =IF($F9="Không hoàn thành","X","")
A10: 2 | B10: Đinh Hồng | C10: Minh | D10: =TRIM(B10&" "&C10) -> Đinh Hồng Minh | E10: 11100000791 | F10: =IFERROR((VLOOKUP($E10,'Mẫu 4A'!$D$10:$L$400,9,0)),0) -> Xuất sắc | G10: Phó Hiệu trưởng | H10: =IF($F10="Xuất sắc","X","") -> X | I10: =IF($F10="Tốt","X","") | J10: =IF($F10="Hoàn thành","X","") | K10: =IF($F10="Không hoàn thành","X","")
A11: 3 | B11: Đinh Văn | C11: Đệ | D11: =TRIM(B11&" "&C11) -> Đinh Văn Đệ | E11: 50200000021 | F11: =IFERROR((VLOOKUP($E11,'Mẫu 4A'!$D$10:$L$400,9,0)),0) -> Xuất sắc | G11: Phó Hiệu trưởng | H11: =IF($F11="Xuất sắc","X","") -> X | I11: =IF($F11="Tốt","X","") | J11: =IF($F11="Hoàn thành","X","") | K11: =IF($F11="Không hoàn thành","X","")
A12: 4 | B12: Châu Văn | C12: Bảo | D12: =TRIM(B12&" "&C12) -> Châu Văn Bảo | E12: 50200000021 | F12: =IFERROR((VLOOKUP($E12,'Mẫu 4A'!$D$10:$L$400,9,0)),0) -> Xuất sắc | G12: Phó Hiệu trưởng | H12: =IF($F12="Xuất sắc","X","") -> X | I12: =IF($F12="Tốt","X","") | J12: =IF($F12="Hoàn thành","X","") | K12: =IF($F12="Không hoàn thành","X","")
A13: I | B13: PHÒNG TỔ CHỨC - HÀNH CHÍNH - TỔNG HỢP | H13: =IF($F13="Xuất sắc","X","") | I13: =IF($F13="Tốt","X","") | J13: =IF($F13="Hoàn thành","X","") | K13: =IF($F13="Không hoàn thành","X","")
A14: a | B14: Viên chức | H14: =IF($F14="Xuất sắc","X","") | I14: =IF($F14="Tốt","X","") | J14: =IF($F14="Hoàn thành","X","") | K14: =IF($F14="Không hoàn thành","X","")
A15: 1 | B15: Lâm Viết | C15: Dũng | D15: =TRIM(B15&" "&C15) -> Lâm Viết Dũng | E15: 50800000104 | F15: =IFERROR((VLOOKUP($E15,'Mẫu 4A'!$D$10:$L$400,9,0)),0) -> Xuất sắc | G15: P. TC-HC-TH | H15: =IF($F15="Xuất sắc","X","") -> X | I15: =IF($F15="Tốt","X","") | J15: =IF($F15="Hoàn thành","X","") | K15: =IF($F15="Không hoàn thành","X","")
A16: 2 | B16: Nguyễn Thị | C16: Hoa | D16: =TRIM(B16&" "&C16) -> Nguyễn Thị Hoa | E16: 11100000743 | F16: =IFERROR((VLOOKUP($E16,'Mẫu 4A'!$D$10:$L$400,9,0)),0) -> Xuất sắc | G16: " | H16: =IF($F16="Xuất sắc","X","") -> X | I16: =IF($F16="Tốt","X","") | J16: =IF($F16="Hoàn thành","X","") | K16: =IF($F16="Không hoàn thành","X","")
A17: 3 | B17: Nguyễn Thành | C17: Nam | D17: =TRIM(B17&" "&C17) -> Nguyễn Thành Nam | E17: 60400000280 | F17: =IFERROR((VLOOKUP($E17,'Mẫu 4A'!$D$10:$L$400,9,0)),0) -> Tốt | G17: " | H17: =IF($F17="Xuất sắc","X","") | I17: =IF($F17="Tốt","X","") -> X | J17: =IF($F17="Hoàn thành","X","") | K17: =IF($F17="Không hoàn thành","X","")
A18: 4 | B18: Phan Thị Ngọc | C18: Phượng | D18: =TRIM(B18&" "&C18) -> Phan Thị Ngọc Phượng | E18: 11100082854 | F18: =IFERROR((VLOOKUP($E18,'Mẫu 4A'!$D$10:$L$400,9,0)),0) -> Xuất sắc | G18: " | H18: =IF($F18="Xuất sắc","X","") -> X | I18: =IF($F18="Tốt","X","") | J18: =IF($F18="Hoàn thành","X","") | K18: =IF($F18="Không hoàn thành","X","")
A19: 5 | B19: Vũ Như | C19: Quỳnh | D19: =TRIM(B19&" "&C19) -> Vũ Như Quỳnh | E19: 11100082861 | F19: =IFERROR((VLOOKUP($E19,'Mẫu 4A'!$D$10:$L$400,9,0)),0) -> Xuất sắc | G19: " | H19: =IF($F19="Xuất sắc","X","") -> X | I19: =IF($F19="Tốt","X","") | J19: =IF($F19="Hoàn thành","X","") | K19: =IF($F19="Không hoàn thành","X","")
A20: 6 | B20: Trần Thị Ánh | C20: Phượng | D20: =TRIM(B20&" "&C20) -> Trần Thị Ánh Phượng | E20: 11100115699 | F20: =IFERROR((VLOOKUP($E20,'Mẫu 4A'!$D$10:$L$400,9,0)),0) -> Xuất sắc | G20: " | H20: =IF($F20="Xuất sắc","X","") -> X | I20: =IF($F20="Tốt","X","") | J20: =IF($F20="Hoàn thành","X","") | K20: =IF($F20="Không hoàn thành","X","")
A21: 7 | B21: Nguyễn Thị Bích | C21: Liễu | D21: =TRIM(B21&" "&C21) -> Nguyễn Thị Bích Liễu | E21: 40400000515 | F21: =IFERROR((VLOOKUP($E21,'Mẫu 4A'!$D$10:$L$400,9,0)),0) -> Xuất sắc | G21: " | H21: =IF($F21="Xuất sắc","X","") -> X | I21: =IF($F21="Tốt","X","") | J21: =IF($F21="Hoàn thành","X","") | K21: =IF($F21="Không hoàn thành","X","") | L21: Nghỉ thai sản từ 04/02/19 đến 04/8/2019 (đánh giá 2 tháng)
A22: 8 | B22: Trần Thị Phương | C22: Oanh | D22: =TRIM(B22&" "&C22) -> Trần Thị Phương Oanh | E22: 11100071604 | F22: =IFERROR((VLOOKUP($E22,'Mẫu 4A'!$D$10:$L$400,9,0)),0) -> Xuất sắc | G22: " | H22: =IF($F22="Xuất sắc","X","") -> X | I22: =IF($F22="Tốt","X","") | J22: =IF($F22="Hoàn thành","X","") | K22: =IF($F22="Không hoàn thành","X","")
A23: 9 | B23: Lưu Hoàng Hải | C23: Yến | D23: =TRIM(B23&" "&C23) -> Lưu Hoàng Hải Yến | E23: 80300000835 | F23: =IFERROR((VLOOKUP($E23,'Mẫu 4A'!$D$10:$L$400,9,0)),0) -> Xuất sắc | G23: " | H23: =IF($F23="Xuất sắc","X","") -> X | I23: =IF($F23="Tốt","X","") | J23: =IF($F23="Hoàn thành","X","") | K23: =IF($F23="Không hoàn thành","X","")
A24: 10 | B24: Huỳnh Thị Minh | C24: Ly | D24: =TRIM(B24&" "&C24) -> Huỳnh Thị Minh Ly | E24: 11100115713 | F24: =IFERROR((VLOOKUP($E24,'Mẫu 4A'!$D$10:$L$400,9,0)),0) -> Xuất sắc | G24: " | H24: =IF($F24="Xuất sắc","X","") -> X | I24: =IF($F24="Tốt","X","") | J24: =IF($F24="Hoàn thành","X","") | K24: =IF($F24="Không hoàn thành","X","")
A25: 11 | B25: Nguyễn Văn | C25: Chì | D25: =TRIM(B25&" "&C25) -> Nguyễn Văn Chì | E25: 40700000887 | F25: =IFERROR((VLOOKUP($E25,'Mẫu 4A'!$D$10:$L$400,9,0)),0) -> Xuất sắc | G25: " | H25: =IF($F25="Xuất sắc","X","") -> X | I25: =IF($F25="Tốt","X","") | J25: =IF($F25="Hoàn thành","X","") | K25: =IF($F25="Không hoàn thành","X","")
A26: 12 | B26: Thân Thị | C26: Nhung | D26: =TRIM(B26&" "&C26) -> Thân Thị Nhung | E26: 40700000683 | F26: =IFERROR((VLOOKUP($E26,'Mẫu 4A'!$D$10:$L$400,9,0)),0) -> Xuất sắc | G26: " | H26: =IF($F26="Xuất sắc","X","") -> X | I26: =IF($F26="Tốt","X","") | J26: =IF($F26="Hoàn thành","X","") | K26: =IF($F26="Không hoàn thành","X","")
A27: 13 | B27: Nguyễn Thị | C27: Vân | D27: =TRIM(B27&" "&C27) -> Nguyễn Thị Vân | E27: 80500000584 | F27: =IFERROR((VLOOKUP($E27,'Mẫu 4A'!$D$10:$L$400,9,0)),0) -> Không đánh giá | G27: " | H27: =IF($F27="Xuất sắc","X","") | I27: =IF($F27="Tốt","X","") | J27: =IF($F27="Hoàn thành","X","") | K27: =IF($F27="Không hoàn thành","X","") | L27: Nghỉ thai sản từ 02/04/2019 đến 02/10/2019
A28: c | B28: Hợp đồng Sở | H28: =IF($F28="Xuất sắc","X","") | I28: =IF($F28="Tốt","X","") | J28: =IF($F28="Hoàn thành","X","") | K28: =IF($F28="Không hoàn thành","X","")
A29: 14 | B29: Lê Hùng | C29: Thanh | D29: =TRIM(B29&" "&C29) -> Lê Hùng Thanh | E29: 11100000803 | F29: =IFERROR((VLOOKUP($E29,'Mẫu 4A'!$D$10:$L$400,9,0)),0) -> Xuất sắc | G29: P. TC-HC-TH | H29: =IF($F29="Xuất sắc","X","") -> X | I29: =IF($F29="Tốt","X","") | J29: =IF($F29="Hoàn thành","X","") | K29: =IF($F29="Không hoàn thành","X","")
A30: 15 | B30: Huỳnh Thị Xuân | C30: Mai | D30: =TRIM(B30&" "&C30) -> Huỳnh Thị Xuân Mai | E30: 11100071597 | F30: =IFERROR((VLOOKUP($E30,'Mẫu 4A'!$D$10:$L$400,9,0)),0) -> Xuất sắc | G30: " | H30: =IF($F30="Xuất sắc","X","") -> X | I30: =IF($F30="Tốt","X","") | J30: =IF($F30="Hoàn thành","X","") | K30: =IF($F30="Không hoàn thành","X","")
A31: 16 | B31: Trần Văn Cu | C31: Anh | D31: =TRIM(B31&" "&C31) -> Trần Văn Cu Anh | E31: 11100000805 | F31: =IFERROR((VLOOKUP($E31,'Mẫu 4A'!$D$10:$L$400,9,0)),0) -> Xuất sắc | G31: " | H31: =IF($F31="Xuất sắc","X","") -> X | I31: =IF($F31="Tốt","X","") | J31: =IF($F31="Hoàn thành","X","") | K31: =IF($F31="Không hoàn thành","X","")
A32: d | B32: Hợp đồng 68 | H32: =IF($F32="Xuất sắc","X","") | I32: =IF($F32="Tốt","X","") | J32: =IF($F32="Hoàn thành","X","") | K32: =IF($F32="Không hoàn thành","X","")
A33: 17 | B33: Huỳnh Thanh | C33: Nhàn | D33: =TRIM(B33&" "&C33) -> Huỳnh Thanh Nhàn | E33: 79000H05.000574 | F33: =IFERROR((VLOOKUP($E33,'Mẫu 4A'!$D$10:$L$400,9,0)),0) -> Xuất sắc | G33: P. TC-HC-TH | H33: =IF($F33="Xuất sắc","X","") -> X | I33: =IF($F33="Tốt","X","") | J33: =IF($F33="Hoàn thành","X","") | K33: =IF($F33="Không hoàn thành","X","")
A34: 18 | B34: Phạm Hữu Thành | C34: Phú | D34: =TRIM(B34&" "&C34) -> Phạm Hữu Thành Phú | E34: 79000H05.000575 | F34: =IFERROR((VLOOKUP($E34,'Mẫu 4A'!$D$10:$L$400,9,0)),0) -> Xuất sắc | G34: " | H34: =IF($F34="Xuất sắc","X","") -> X | I34: =IF($F34="Tốt","X","") | J34: =IF($F34="Hoàn thành","X","") | K34: =IF($F34="Không hoàn thành","X","")
A35: 19 | B35: Lê Hồng | C35: Phúc | D35: =TRIM(B35&" "&C35) -> Lê Hồng Phúc | E35: 79000H05.000448 | F35: =IFERROR((VLOOKUP($E35,'Mẫu 4A'!$D$10:$L$400,9,0)),0) -> Xuất sắc | G35: " | H35: =IF($F35="Xuất sắc","X","") -> X | I35: =IF($F35="Tốt","X","") | J35: =IF($F35="Hoàn thành","X","") | K35: =IF($F35="Không hoàn thành","X","")
A36: 20 | B36: Nguyễn Hữu Xuân | C36: Vũ | D36: =TRIM(B36&" "&C36) -> Nguyễn Hữu Xuân Vũ | E36: 79000H05.000420 | F36: =IFERROR((VLOOKUP($E36,'Mẫu 4A'!$D$10:$L$400,9,0)),0) -> Tốt | G36: " | H36: =IF($F36="Xuất sắc","X","") | I36: =IF($F36="Tốt","X","") -> X | J36: =IF($F36="Hoàn thành","X","") | K36: =IF($F36="Không hoàn thành","X","")
A37: e | B37: Hợp đồng trường | H37: =IF($F37="Xuất sắc","X","") | I37: =IF($F37="Tốt","X","") | J37: =IF($F37="Hoàn thành","X","") | K37: =IF($F37="Không hoàn thành","X","")
A38: 21 | B38: Phạm Hữu | C38: Tấn | D38: =TRIM(B38&" "&C38) -> Phạm Hữu Tấn | E38: 79000H05.000568 | F38: =IFERROR((VLOOKUP($E38,'Mẫu 4A'!$D$10:$L$400,9,0)),0) -> Tốt | G38: P. TC-HC-TH | H38: =IF($F38="Xuất sắc","X","") | I38: =IF($F38="Tốt","X","") -> X | J38: =IF($F38="Hoàn thành","X","") | K38: =IF($F38="Không hoàn thành","X","")
A39: 22 | B39: Nguyễn Tiến | C39: Hưng | D39: =TRIM(B39&" "&C39) -> Nguyễn Tiến Hưng | E39: 79000H05.000299 | F39: =IFERROR((VLOOKUP($E39,'Mẫu 4A'!$D$10:$L$400,9,0)),0) -> Tốt | G39: " | H39: =IF($F39="Xuất sắc","X","") | I39: =IF($F39="Tốt","X","") -> X | J39: =IF($F39="Hoàn thành","X","") | K39: =IF($F39="Không hoàn thành","X","")
A40: 23 | B40: Đồng Anh | C40: Tuấn | D40: =TRIM(B40&" "&C40) -> Đồng Anh Tuấn | E40: 79000H05.000527 | F40: =IFERROR((VLOOKUP($E40,'Mẫu 4A'!$D$10:$L$400,9,0)),0) -> Tốt | G40: " | H40: =IF($F40="Xuất sắc","X","") | I40: =IF($F40="Tốt","X","") -> X | J40: =IF($F40="Hoàn thành","X","") | K40: =IF($F40="Không hoàn thành","X","") | L40: HĐ thi đua nhắc nhở tháng 9/2019
A41: 24 | B41: Trần Thanh | C41: Phương | D41: =TRIM(B41&" "&C41) -> Trần Thanh Phương | E41: 79000H05.326689 | F41: =IFERROR((VLOOKUP($E41,'Mẫu 4A'!$D$10:$L$400,9,0)),0) -> Tốt | G41: " | H41: =IF($F41="Xuất sắc","X","") | I41: =IF($F41="Tốt","X","") -> X | J41: =IF($F41="Hoàn thành","X","") | K41: =IF($F41="Không hoàn thành","X","")
A42: 25 | B42: Nguyễn Thanh | C42: Hiền | D42: =TRIM(B42&" "&C42) -> Nguyễn Thanh Hiền | E42: 79000H05.110707 | F42: =IFERROR((VLOOKUP($E42,'Mẫu 4A'!$D$10:$L$400,9,0)),0) -> Tốt | G42: " | H42: =IF($F42="Xuất sắc","X","") | I42: =IF($F42="Tốt","X","") -> X | J42: =IF($F42="Hoàn thành","X","") | K42: =IF($F42="Không hoàn thành","X","")
...

Sheet Mẫu 4A
A1: TRƯỜNG CAO ĐẲNG LÝ TỰ TRỌNG THÀNH PHỐ HỒ CHÍ MINH PHÒNG TỔ CHỨC - HÀNH CHÍNH - TỔNG HỢP | L1: Mẫu 4B
A3: BÁO CÁO DANH SÁCH TỔNG HỢP KẾT QUẢ ĐÁNH GIÁ, PHÂN LOẠI CỦA CÔNG CHỨC, VIÊN CHỨC Kỳ đánh giá: Quý 3/2019
A5: STT | B5: HỌ VÀ TÊN | D5: MÃ NHÂN VIÊN | E5: ĐIỂM TỰ ĐÁNH GIÁ | F5: Kết quả cá nhân xếp loại | G5: HỘI ĐỒNG ĐÁNH GIÁ | M5: Ghi chú
G6: Tiêu chí I+II | H6: Tiêu chí III | I6: Tổng số Điểm cộng | J6: Tổng số Điểm trừ | K6: Tổng điểm | L6: Kết quả xếp loại
A7: (1) | B7: (2) | D7: (3) | G7: (9) | H7: (10) | I7: (11) | J7: (12) | K7: (13)=(9+10+11)-(12) | L7: (14)
A8: I | B8: BAN GIÁM HIỆU
A9: a | B9: Viên chức
A10: 1 | B10: Phạm Hữu | C10: Lộc | D10: 41200001203 | E10: 99 | F10: =IF(AND($E10>=90,$E10<=100),"Xuất sắc",IF(AND($E10>=75,$E10<90),"Tốt",IF(AND($E10>=50,$E10<75),"Hoàn thành",IF(AND($E10<50,$E10>0),"Không hoàn thành",IF($E10=0,"Không đánh giá",""))))) -> Xuất sắc | K10: =G10+H10+I10-J10 -> 0 | L10: =IF(AND($K10>=90,$K10<=100),"Xuất sắc",IF(AND($K10>=75,$K10<90),"Tốt",IF(AND($K10>=50,$K10<75),"Hoàn thành",IF(AND($K10<50,$K10>0),"Không hoàn thành",IF($K10=0,"Không đánh giá",""))))) -> Không đánh giá
A11: 2 | B11: Đinh Hồng | C11: Minh | D11: 11100000791 | E11: 95 | F11: =IF(AND($E11>=90,$E11<=100),"Xuất sắc",IF(AND($E11>=75,$E11<90),"Tốt",IF(AND($E11>=50,$E11<75),"Hoàn thành",IF(AND($E11<50,$E11>0),"Không hoàn thành",IF($E11=0,"Không đánh giá",""))))) -> Xuất sắc | G11: 35 | H11: 60 | K11: =G11+H11+I11-J11 -> 95 | L11: =IF(AND($K11>=90,$K11<=100),"Xuất sắc",IF(AND($K11>=75,$K11<90),"Tốt",IF(AND($K11>=50,$K11<75),"Hoàn thành",IF(AND($K11<50,$K11>0),"Không hoàn thành",IF($K11=0,"Không đánh giá",""))))) -> Xuất sắc
A12: 3 | B12: Đinh Văn | C12: Đệ | D12: 50200000021 | E12: 96 | F12: =IF(AND($E12>=90,$E12<=100),"Xuất sắc",IF(AND($E12>=75,$E12<90),"Tốt",IF(AND($E12>=50,$E12<75),"Hoàn thành",IF(AND($E12<50,$E12>0),"Không hoàn thành",IF($E12=0,"Không đánh giá",""))))) -> Xuất sắc | G12: 36 | H12: 60 | K12: =G12+H12+I12-J12 -> 96 | L12: =IF(AND($K12>=90,$K12<=100),"Xuất sắc",IF(AND($K12>=75,$K12<90),"Tốt",IF(AND($K12>=50,$K12<75),"Hoàn thành",IF(AND($K12<50,$K12>0),"Không hoàn thành",IF($K12=0,"Không đánh giá",""))))) -> Xuất sắc
A13: 4 | B13: Châu Văn | C13: Bảo | D13: 50200000021 | E13: 96 | F13: =IF(AND($E13>=90,$E13<=100),"Xuất sắc",IF(AND($E13>=75,$E13<90),"Tốt",IF(AND($E13>=50,$E13<75),"Hoàn thành",IF(AND($E13<50,$E13>0),"Không hoàn thành",IF($E13=0,"Không đánh giá",""))))) -> Xuất sắc | G13: 36 | H13: 60 | K13: =G13+H13+I13-J13 -> 96 | L13: =IF(AND($K13>=90,$K13<=100),"Xuất sắc",IF(AND($K13>=75,$K13<90),"Tốt",IF(AND($K13>=50,$K13<75),"Hoàn thành",IF(AND($K13<50,$K13>0),"Không hoàn thành",IF($K13=0,"Không đánh giá",""))))) -> Xuất sắc
A14: I | B14: PHÒNG TỔ CHỨC - HÀNH CHÍNH - TỔNG HỢP
A15: a | B15: Viên chức
A16: 1 | B16: Lâm Viết | C16: Dũng | D16: 50800000104 | E16: 95 | F16: =IF(AND($E16>=90,$E16<=100),"Xuất sắc",IF(AND($E16>=75,$E16<90),"Tốt",IF(AND($E16>=50,$E16<75),"Hoàn thành",IF(AND($E16<50,$E16>0),"Không hoàn thành",IF($E16=0,"Không đánh giá",""))))) -> Xuất sắc | G16: 35 | H16: 60 | K16: =G16+H16+I16-J16 -> 95 | L16: =IF(AND($K16>=90,$K16<=100),"Xuất sắc",IF(AND($K16>=75,$K16<90),"Tốt",IF(AND($K16>=50,$K16<75),"Hoàn thành",IF(AND($K16<50,$K16>0),"Không hoàn thành",IF($K16=0,"Không đánh giá",""))))) -> Xuất sắc
A17: 2 | B17: Nguyễn Thị | C17: Hoa | D17: 11100000743 | E17: 89 | F17: =IF(AND($E17>=90,$E17<=100),"Xuất sắc",IF(AND($E17>=75,$E17<90),"Tốt",IF(AND($E17>=50,$E17<75),"Hoàn thành",IF(AND($E17<50,$E17>0),"Không hoàn thành",IF($E17=0,"Không đánh giá",""))))) -> Tốt | G17: 33 | H17: 60 | K17: =G17+H17+I17-J17 -> 93 | L17: =IF(AND($K17>=90,$K17<=100),"Xuất sắc",IF(AND($K17>=75,$K17<90),"Tốt",IF(AND($K17>=50,$K17<75),"Hoàn thành",IF(AND($K17<50,$K17>0),"Không hoàn thành",IF($K17=0,"Không đánh giá",""))))) -> Xuất sắc
A18: 3 | B18: Nguyễn Thành | C18: Nam | D18: 60400000280 | E18: 94 | F18: =IF(AND($E18>=90,$E18<=100),"Xuất sắc",IF(AND($E18>=75,$E18<90),"Tốt",IF(AND($E18>=50,$E18<75),"Hoàn thành",IF(AND($E18<50,$E18>0),"Không hoàn thành",IF($E18=0,"Không đánh giá",""))))) -> Xuất sắc | G18: 29 | H18: 60 | K18: =G18+H18+I18-J18 -> 89 | L18: =IF(AND($K18>=90,$K18<=100),"Xuất sắc",IF(AND($K18>=75,$K18<90),"Tốt",IF(AND($K18>=50,$K18<75),"Hoàn thành",IF(AND($K18<50,$K18>0),"Không hoàn thành",IF($K18=0,"Không đánh giá",""))))) -> Tốt
A19: 4 | B19: Phan Thị Ngọc | C19: Phượng | D19: 11100082854 | E19: 91 | F19: =IF(AND($E19>=90,$E19<=100),"Xuất sắc",IF(AND($E19>=75,$E19<90),"Tốt",IF(AND($E19>=50,$E19<75),"Hoàn thành",IF(AND($E19<50,$E19>0),"Không hoàn thành",IF($E19=0,"Không đánh giá",""))))) -> Xuất sắc | G19: 31 | H19: 60 | K19: =G19+H19+I19-J19 -> 91 | L19: =IF(AND($K19>=90,$K19<=100),"Xuất sắc",IF(AND($K19>=75,$K19<90),"Tốt",IF(AND($K19>=50,$K19<75),"Hoàn thành",IF(AND($K19<50,$K19>0),"Không hoàn thành",IF($K19=0,"Không đánh giá",""))))) -> Xuất sắc
A20: 5 | B20: Vũ Như | C20: Quỳnh | D20: 11100082861 | E20: 92 | F20: =IF(AND($E20>=90,$E20<=100),"Xuất sắc",IF(AND($E20>=75,$E20<90),"Tốt",IF(AND($E20>=50,$E20<75),"Hoàn thành",IF(AND($E20<50,$E20>0),"Không hoàn thành",IF($E20=0,"Không đánh giá",""))))) -> Xuất sắc | G20: 32 | H20: 60 | K20: =G20+H20+I20-J20 -> 92 | L20: =IF(AND($K20>=90,$K20<=100),"Xuất sắc",IF(AND($K20>=75,$K20<90),"Tốt",IF(AND($K20>=50,$K20<75),"Hoàn thành",IF(AND($K20<50,$K20>0),"Không hoàn thành",IF($K20=0,"Không đánh giá",""))))) -> Xuất sắc
A21: 6 | B21: Trần Thị Ánh | C21: Phượng | D21: 11100115699 | E21: 91 | F21: =IF(AND($E21>=90,$E21<=100),"Xuất sắc",IF(AND($E21>=75,$E21<90),"Tốt",IF(AND($E21>=50,$E21<75),"Hoàn thành",IF(AND($E21<50,$E21>0),"Không hoàn thành",IF($E21=0,"Không đánh giá",""))))) -> Xuất sắc | G21: 31 | H21: 60 | K21: =G21+H21+I21-J21 -> 91 | L21: =IF(AND($K21>=90,$K21<=100),"Xuất sắc",IF(AND($K21>=75,$K21<90),"Tốt",IF(AND($K21>=50,$K21<75),"Hoàn thành",IF(AND($K21<50,$K21>0),"Không hoàn thành",IF($K21=0,"Không đánh giá",""))))) -> Xuất sắc
A22: 7 | B22: Nguyễn Thị Bích | C22: Liễu | D22: 40400000515 | E22: 90 | F22: =IF(AND($E22>=90,$E22<=100),"Xuất sắc",IF(AND($E22>=75,$E22<90),"Tốt",IF(AND($E22>=50,$E22<75),"Hoàn thành",IF(AND($E22<50,$E22>0),"Không hoàn thành",IF($E22=0,"Không đánh giá",""))))) -> Xuất sắc | G22: 30 | H22: 60 | K22: =G22+H22+I22-J22 -> 90 | L22: =IF(AND($K22>=90,$K22<=100),"Xuất sắc",IF(AND($K22>=75,$K22<90),"Tốt",IF(AND($K22>=50,$K22<75),"Hoàn thành",IF(AND($K22<50,$K22>0),"Không hoàn thành",IF($K22=0,"Không đánh giá",""))))) -> Xuất sắc | M22: Nghỉ thai sản từ 04/02/19 đến 04/8/2019 (đánh giá 2 tháng)
A23: 8 | B23: Trần Thị Phương | C23: Oanh | D23: 11100071604 | E23: 91 | F23: =IF(AND($E23>=90,$E23<=100),"Xuất sắc",IF(AND($E23>=75,$E23<90),"Tốt",IF(AND($E23>=50,$E23<75),"Hoàn thành",IF(AND($E23<50,$E23>0),"Không hoàn thành",IF($E23=0,"Không đánh giá",""))))) -> Xuất sắc | G23: 31 | H23: 60 | K23: =G23+H23+I23-J23 -> 91 | L23: =IF(AND($K23>=90,$K23<=100),"Xuất sắc",IF(AND($K23>=75,$K23<90),"Tốt",IF(AND($K23>=50,$K23<75),"Hoàn thành",IF(AND($K23<50,$K23>0),"Không hoàn thành",IF($K23=0,"Không đánh giá",""))))) -> Xuất sắc
A24: 9 | B24: Lưu Hoàng Hải | C24: Yến | D24: 80300000835 | E24: 90 | F24: =IF(AND($E24>=90,$E24<=100),"Xuất sắc",IF(AND($E24>=75,$E24<90),"Tốt",IF(AND($E24>=50,$E24<75),"Hoàn thành",IF(AND($E24<50,$E24>0),"Không hoàn thành",IF($E24=0,"Không đánh giá",""))))) -> Xuất sắc | G24: 30 | H24: 60 | K24: =G24+H24+I24-J24 -> 90 | L24: =IF(AND($K24>=90,$K24<=100),"Xuất sắc",IF(AND($K24>=75,$K24<90),"Tốt",IF(AND($K24>=50,$K24<75),"Hoàn thành",IF(AND($K24<50,$K24>0),"Không hoàn thành",IF($K24=0,"Không đánh giá",""))))) -> Xuất sắc
A25: 10 | B25: Huỳnh Thị Minh | C25: Ly | D25: 11100115713 | E25: 94.5 | F25: =IF(AND($E25>=90,$E25<=100),"Xuất sắc",IF(AND($E25>=75,$E25<90),"Tốt",IF(AND($E25>=50,$E25<75),"Hoàn thành",IF(AND($E25<50,$E25>0),"Không hoàn thành",IF($E25=0,"Không đánh giá",""))))) -> Xuất sắc | G25: 32.5 | H25: 60 | K25: =G25+H25+I25-J25 -> 92.5 | L25: =IF(AND($K25>=90,$K25<=100),"Xuất sắc",IF(AND($K25>=75,$K25<90),"Tốt",IF(AND($K25>=50,$K25<75),"Hoàn thành",IF(AND($K25<50,$K25>0),"Không hoàn thành",IF($K25=0,"Không đánh giá",""))))) -> Xuất sắc
A26: 11 | B26: Nguyễn Văn | C26: Chì | D26: 40700000887 | E26: 90 | F26: =IF(AND($E26>=90,$E26<=100),"Xuất sắc",IF(AND($E26>=75,$E26<90),"Tốt",IF(AND($E26>=50,$E26<75),"Hoàn thành",IF(AND($E26<50,$E26>0),"Không hoàn thành",IF($E26=0,"Không đánh giá",""))))) -> Xuất sắc | G26: 30 | H26: 60 | K26: =G26+H26+I26-J26 -> 90 | L26: =IF(AND($K26>=90,$K26<=100),"Xuất sắc",IF(AND($K26>=75,$K26<90),"Tốt",IF(AND($K26>=50,$K26<75),"Hoàn thành",IF(AND($K26<50,$K26>0),"Không hoàn thành",IF($K26=0,"Không đánh giá",""))))) -> Xuất sắc
A27: 12 | B27: Thân Thị | C27: Nhung | D27: 40700000683 | E27: 93 | F27: =IF(AND($E27>=90,$E27<=100),"Xuất sắc",IF(AND($E27>=75,$E27<90),"Tốt",IF(AND($E27>=50,$E27<75),"Hoàn thành",IF(AND($E27<50,$E27>0),"Không hoàn thành",IF($E27=0,"Không đánh giá",""))))) -> Xuất sắc | G27: 33 | H27: 60 | K27: =G27+H27+I27-J27 -> 93 | L27: =IF(AND($K27>=90,$K27<=100),"Xuất sắc",IF(AND($K27>=75,$K27<90),"Tốt",IF(AND($K27>=50,$K27<75),"Hoàn thành",IF(AND($K27<50,$K27>0),"Không hoàn thành",IF($K27=0,"Không đánh giá",""))))) -> Xuất sắc
A28: 13 | B28: Nguyễn Thị | C28: Vân | D28: 80500000584 | E28: 0 | F28: =IF(AND($E28>=90,$E28<=100),"Xuất sắc",IF(AND($E28>=75,$E28<90),"Tốt",IF(AND($E28>=50,$E28<75),"Hoàn thành",IF(AND($E28<50,$E28>0),"Không hoàn thành",IF($E28=0,"Không đánh giá",""))))) -> Không đánh giá | G28: 0 | H28: 0 | K28: =G28+H28+I28-J28 -> 0 | L28: =IF(AND($K28>=90,$K28<=100),"Xuất sắc",IF(AND($K28>=75,$K28<90),"Tốt",IF(AND($K28>=50,$K28<75),"Hoàn thành",IF(AND($K28<50,$K28>0),"Không hoàn thành",IF($K28=0,"Không đánh giá",""))))) -> Không đánh giá | M28: Nghỉ thai sản từ 02/04/2019 đến 02/10/2019
A29: c | B29: Hợp đồng Sở
A30: 14 | B30: Lê Hùng | C30: Thanh | D30: 11100000803 | E30: 90 | F30: =IF(AND($E30>=90,$E30<=100),"Xuất sắc",IF(AND($E30>=75,$E30<90),"Tốt",IF(AND($E30>=50,$E30<75),"Hoàn thành",IF(AND($E30<50,$E30>0),"Không hoàn thành",IF($E30=0,"Không đánh giá",""))))) -> Xuất sắc | G30: 30 | H30: 60 | K30: =G30+H30+I30-J30 -> 90 | L30: =IF(AND($K30>=90,$K30<=100),"Xuất sắc",IF(AND($K30>=75,$K30<90),"Tốt",IF(AND($K30>=50,$K30<75),"Hoàn thành",IF(AND($K30<50,$K30>0),"Không hoàn thành",IF($K30=0,"Không đánh giá",""))))) -> Xuất sắc
A31: 15 | B31: Huỳnh Thị Xuân | C31: Mai | D31: 11100071597 | E31: 91 | F31: =IF(AND($E31>=90,$E31<=100),"Xuất sắc",IF(AND($E31>=75,$E31<90),"Tốt",IF(AND($E31>=50,$E31<75),"Hoàn thành",IF(AND($E31<50,$E31>0),"Không hoàn thành",IF($E31=0,"Không đánh giá",""))))) -> Xuất sắc | G31: 31 | H31: 60 | K31: =G31+H31+I31-J31 -> 91 | L31: =IF(AND($K31>=90,$K31<=100),"Xuất sắc",IF(AND($K31>=75,$K31<90),"Tốt",IF(AND($K31>=50,$K31<75),"Hoàn thành",IF(AND($K31<50,$K31>0),"Không hoàn thành",IF($K31=0,"Không đánh giá",""))))) -> Xuất sắc
A32: 16 | B32: Trần Văn Cu | C32: Anh | D32: 11100000805 | E32: 88 | F32: =IF(AND($E32>=90,$E32<=100),"Xuất sắc",IF(AND($E32>=75,$E32<90),"Tốt",IF(AND($E32>=50,$E32<75),"Hoàn thành",IF(AND($E32<50,$E32>0),"Không hoàn thành",IF($E32=0,"Không đánh giá",""))))) -> Tốt | G32: 30 | H32: 60 | K32: =G32+H32+I32-J32 -> 90 | L32: =IF(AND($K32>=90,$K32<=100),"Xuất sắc",IF(AND($K32>=75,$K32<90),"Tốt",IF(AND($K32>=50,$K32<75),"Hoàn thành",IF(AND($K32<50,$K32>0),"Không hoàn thành",IF($K32=0,"Không đánh giá",""))))) -> Xuất sắc
A33: d | B33: Hợp đồng 68
A34: 17 | B34: Huỳnh Thanh | C34: Nhàn | D34: 79000H05.000574 | E34: 97 | F34: =IF(AND($E34>=90,$E34<=100),"Xuất sắc",IF(AND($E34>=75,$E34<90),"Tốt",IF(AND($E34>=50,$E34<75),"Hoàn thành",IF(AND($E34<50,$E34>0),"Không hoàn thành",IF($E34=0,"Không đánh giá",""))))) -> Xuất sắc | G34: 32 | H34: 60 | K34: =G34+H34+I34-J34 -> 92 | L34: =IF(AND($K34>=90,$K34<=100),"Xuất sắc",IF(AND($K34>=75,$K34<90),"Tốt",IF(AND($K34>=50,$K34<75),"Hoàn thành",IF(AND($K34<50,$K34>0),"Không hoàn thành",IF($K34=0,"Không đánh giá",""))))) -> Xuất sắc
A35: 18 | B35: Phạm Hữu Thành | C35: Phú | D35: 79000H05.000575 | E35: 93 | F35: =IF(AND($E35>=90,$E35<=100),"Xuất sắc",IF(AND($E35>=75,$E35<90),"Tốt",IF(AND($E35>=50,$E35<75),"Hoàn thành",IF(AND($E35<50,$E35>0),"Không hoàn thành",IF($E35=0,"Không đánh giá",""))))) -> Xuất sắc | G35: 33 | H35: 60 | K35: =G35+H35+I35-J35 -> 93 | L35: =IF(AND($K35>=90,$K35<=100),"Xuất sắc",IF(AND($K35>=75,$K35<90),"Tốt",IF(AND($K35>=50,$K35<75),"Hoàn thành",IF(AND($K35<50,$K35>0),"Không hoàn thành",IF($K35=0,"Không đánh giá",""))))) -> Xuất sắc
A36: 19 | B36: Lê Hồng | C36: Phúc | D36: 79000H05.000448 | E36: 90 | F36: =IF(AND($E36>=90,$E36<=100),"Xuất sắc",IF(AND($E36>=75,$E36<90),"Tốt",IF(AND($E36>=50,$E36<75),"Hoàn thành",IF(AND($E36<50,$E36>0),"Không hoàn thành",IF($E36=0,"Không đánh giá",""))))) -> Xuất sắc | G36: 30 | H36: 60 | K36: =G36+H36+I36-J36 -> 90 | L36: =IF(AND($K36>=90,$K36<=100),"Xuất sắc",IF(AND($K36>=75,$K36<90),"Tốt",IF(AND($K36>=50,$K36<75),"Hoàn thành",IF(AND($K36<50,$K36>0),"Không hoàn thành",IF($K36=0,"Không đánh giá",""))))) -> Xuất sắc
A37: 20 | B37: Nguyễn Hữu Xuân | C37: Vũ | D37: 79000H05.000420 | E37: 88 | F37: =IF(AND($E37>=90,$E37<=100),"Xuất sắc",IF(AND($E37>=75,$E37<90),"Tốt",IF(AND($E37>=50,$E37<75),"Hoàn thành",IF(AND($E37<50,$E37>0),"Không hoàn thành",IF($E37=0,"Không đánh giá",""))))) -> Tốt | G37: 28 | H37: 60 | K37: =G37+H37+I37-J37 -> 88 | L37: =IF(AND($K37>=90,$K37<=100),"Xuất sắc",IF(AND($K37>=75,$K37<90),"Tốt",IF(AND($K37>=50,$K37<75),"Hoàn thành",IF(AND($K37<50,$K37>0),"Không hoàn thành",IF($K37=0,"Không đánh giá",""))))) -> Tốt
A38: e | B38: Hợp đồng trường
A39: 21 | B39: Phạm Hữu | C39: Tấn | D39: 79000H05.000568 | E39: 94 | F39: =IF(AND($E39>=90,$E39<=100),"Xuất sắc",IF(AND($E39>=75,$E39<90),"Tốt",IF(AND($E39>=50,$E39<75),"Hoàn thành",IF(AND($E39<50,$E39>0),"Không hoàn thành",IF($E39=0,"Không đánh giá",""))))) -> Xuất sắc | G39: 28 | H39: 60 | K39: =G39+H39+I39-J39 -> 88 | L39: =IF(AND($K39>=90,$K39<=100),"Xuất sắc",IF(AND($K39>=75,$K39<90),"Tốt",IF(AND($K39>=50,$K39<75),"Hoàn thành",IF(AND($K39<50,$K39>0),"Không hoàn thành",IF($K39=0,"Không đánh giá",""))))) -> Tốt
A40: 22 | B40: Nguyễn Tiến | C40: Hưng | D40: 79000H05.000299 | E40: 80 | F40: =IF(AND($E40>=90,$E40<=100),"Xuất sắc",IF(AND($E40>=75,$E40<90),"Tốt",IF(AND($E40>=50,$E40<75),"Hoàn thành",IF(AND($E40<50,$E40>0),"Không hoàn thành",IF($E40=0,"Không đánh giá",""))))) -> Tốt | G40: 30 | H40: 50 | K40: =G40+H40+I40-J40 -> 80 | L40: =IF(AND($K40>=90,$K40<=100),"Xuất sắc",IF(AND($K40>=75,$K40<90),"Tốt",IF(AND($K40>=50,$K40<75),"Hoàn thành",IF(AND($K40<50,$K40>0),"Không hoàn thành",IF($K40=0,"Không đánh giá",""))))) -> Tốt
A41: 23 | B41: Đồng Anh | C41: Tuấn | D41: 79000H05.000527 | E41: 80 | F41: =IF(AND($E41>=90,$E41<=100),"Xuất sắc",IF(AND($E41>=75,$E41<90),"Tốt",IF(AND($E41>=50,$E41<75),"Hoàn thành",IF(AND($E41<50,$E41>0),"Không hoàn thành",IF($E41=0,"Không đánh giá",""))))) -> Tốt | G41: 30 | H41: 50 | J41: 2.4 | K41: =G41+H41+I41-J41 -> 77.6 | L41: =IF(AND($K41>=90,$K41<=100),"Xuất sắc",IF(AND($K41>=75,$K41<90),"Tốt",IF(AND($K41>=50,$K41<75),"Hoàn thành",IF(AND($K41<50,$K41>0),"Không hoàn thành",IF($K41=0,"Không đánh giá",""))))) -> Tốt | M41: HĐ thi đua nhắc nhở tháng 9/2019
A42: 24 | B42: Trần Thanh | C42: Phương | D42: 79000H05.326689 | E42: 77 | F42: =IF(AND($E42>=90,$E42<=100),"Xuất sắc",IF(AND($E42>=75,$E42<90),"Tốt",IF(AND($E42>=50,$E42<75),"Hoàn thành",IF(AND($E42<50,$E42>0),"Không hoàn thành",IF($E42=0,"Không đánh giá",""))))) -> Tốt | G42: 34 | H42: 50 | K42: =G42+H42+I42-J42 -> 84 | L42: =IF(AND($K42>=90,$K42<=100),"Xuất sắc",IF(AND($K42>=75,$K42<90),"Tốt",IF(AND($K42>=50,$K42<75),"Hoàn thành",IF(AND($K42<50,$K42>0),"Không hoàn thành",IF($K42=0,"Không đánh giá",""))))) -> Tốt
...

Sheet Mẫu 4A (2)
A1: UBND THÀNH PHỐ HỒ CHÍ MINH TRƯỜNG CAO ĐẲNG LÝ TỰ TRỌNG THÀNH PHỐ HỒ CHÍ MINH | E1: CỘNG HÒA XÃ HỘI CHỦ NGHĨA VIỆT NAM Độc lập - Tự do - Hạnh phúc
A3: BÁO CÁO TỔNG HỢP KẾT QUẢ ĐÁNH GIÁ, PHÂN LOẠI THEO HIỆU QUẢ CÔNG VIỆC CỦA CÁN BỘ - GIẢNG VIÊN - NHÂN VIÊN TRONG QUÝ 3/2019
A5: Stt | B5: Họ và tên | D5: MÃ NHÂN VIÊN | E5: Kết quả đánh giá, phân loại theo hiệu quả công việc | F5: Ghi chú
A6: -1 | B6: -2 | E6: -3 | F6: -4
A7: I | B7: BAN GIÁM HIỆU
A8: a | B8: Viên chức
A9: 1 | B9: Phạm Hữu | C9: Lộc | D9: 41200001203 | F9: Công chức, Sở GDĐT đánh giá, phân loại
A10: =A9+1 -> 2 | B10: Đinh Hồng | C10: Minh | D10: 11100000791 | E10: Hoàn thành Xuất sắc nhiệm vụ
A11: =A10+1 -> 3 | B11: Đinh Văn | C11: Đệ | D11: 50200000021 | E11: Hoàn thành Xuất sắc nhiệm vụ
A12: =A11+1 -> 4 | B12: Châu Văn | C12: Bảo | D12: 50200000021 | E12: Hoàn thành Xuất sắc nhiệm vụ
A13: I | B13: PHÒNG TỔ CHỨC - HÀNH CHÍNH - TỔNG HỢP
A14: a | B14: Viên chức
A15: =A12+1 -> 5 | B15: Lâm Viết | C15: Dũng | D15: 50800000104 | E15: Hoàn thành Xuất sắc nhiệm vụ
A16: =A15+1 -> 6 | B16: Nguyễn Thị | C16: Hoa | D16: 11100000743 | E16: Hoàn thành Xuất sắc nhiệm vụ
A17: =A16+1 -> 7 | B17: Nguyễn Thành | C17: Nam | D17: 60400000280 | E17: Hoàn thành Tốt nhiệm vụ
A18: =A17+1 -> 8 | B18: Phan Thị Ngọc | C18: Phượng | D18: 11100082854 | E18: Hoàn thành Xuất sắc nhiệm vụ
A19: =A18+1 -> 9 | B19: Vũ Như | C19: Quỳnh | D19: 11100082861 | E19: Hoàn thành Xuất sắc nhiệm vụ
A20: =A19+1 -> 10 | B20: Trần Thị Ánh | C20: Phượng | D20: 11100115699 | E20: Hoàn thành Xuất sắc nhiệm vụ
A21: =A20+1 -> 11 | B21: Nguyễn Thị Bích | C21: Liễu | D21: 40400000515 | E21: Hoàn thành Xuất sắc nhiệm vụ | F21: Nghỉ thai sản từ 04/02/19 đến 04/8/2019 (đánh giá 2 tháng)
A22: =A21+1 -> 12 | B22: Trần Thị Phương | C22: Oanh | D22: 11100071604 | E22: Hoàn thành Xuất sắc nhiệm vụ
A23: =A22+1 -> 13 | B23: Lưu Hoàng Hải | C23: Yến | D23: 80300000835 | E23: Hoàn thành Xuất sắc nhiệm vụ
A24: =A23+1 -> 14 | B24: Huỳnh Thị Minh | C24: Ly | D24: 11100115713 | E24: Hoàn thành Xuất sắc nhiệm vụ
A25: =A24+1 -> 15 | B25: Nguyễn Văn | C25: Chì | D25: 40700000887 | E25: Hoàn thành Xuất sắc nhiệm vụ
A26: =A25+1 -> 16 | B26: Thân Thị | C26: Nhung | D26: 40700000683 | E26: Hoàn thành Xuất sắc nhiệm vụ
A27: =A26+1 -> 17 | B27: Nguyễn Thị | C27: Vân | D27: 80500000584 | E27: Không đánh giá | F27: Nghỉ thai sản từ 02/04/19 đến 02/10/2019
A28: c | B28: Hợp đồng Sở
A29: =A27+1 -> 18 | B29: Lê Hùng | C29: Thanh | D29: 11100000803 | E29: Hoàn thành Xuất sắc nhiệm vụ
A30: =A29+1 -> 19 | B30: Huỳnh Thị Xuân | C30: Mai | D30: 11100071597 | E30: Hoàn thành Xuất sắc nhiệm vụ
A31: =A30+1 -> 20 | B31: Trần Văn Cu | C31: Anh | D31: 11100000805 | E31: Hoàn thành Xuất sắc nhiệm vụ
A32: d | B32: Hợp đồng 68
A33: =A31+1 -> 21 | B33: Huỳnh Thanh | C33: Nhàn | D33: 79000H05.000574 | E33: Hoàn thành Xuất sắc nhiệm vụ
A34: =A33+1 -> 22 | B34: Phạm Hữu Thành | C34: Phú | D34: 79000H05.000575 | E34: Hoàn thành Xuất sắc nhiệm vụ
A35: =A34+1 -> 23 | B35: Lê Hồng | C35: Phúc | D35: 79000H05.000448 | E35: Hoàn thành Xuất sắc nhiệm vụ
A36: =A35+1 -> 24 | B36: Nguyễn Hữu Xuân | C36: Vũ | D36: 79000H05.000420 | E36: Hoàn thành Tốt nhiệm vụ
A37: e | B37: Hợp đồng trường
A38: =A36+1 -> 25 | B38: Phạm Hữu | C38: Tấn | D38: 79000H05.000568 | E38: Hoàn thành Tốt nhiệm vụ
A39: =A38+1 -> 26 | B39: Nguyễn Tiến | C39: Hưng | D39: 79000H05.000299 | E39: Hoàn thành Tốt nhiệm vụ
A40: =A39+1 -> 27 | B40: Đồng Anh | C40: Tuấn | D40: 79000H05.000527 | E40: Hoàn thành Tốt nhiệm vụ | F40: HĐ thi đua nhắc nhở tháng 9/2019
A41: =A40+1 -> 28 | B41: Trần Thanh | C41: Phương | D41: 79000H05.326689 | E41: Hoàn thành Tốt nhiệm vụ
A42: =A41+1 -> 29 | B42: Nguyễn Thanh | C42: Hiền | D42: 79000H05.110707 | E42: Hoàn thành Tốt nhiệm vụ
...
