Workbook

Sheet  Tổng hợp Gửi Sở
A1: UBND THÀNH PHỐ HỒ CHÍ MINH TRƯỜNG CAO ĐẲNG LÝ TỰ TRỌNG THÀNH PHỐ HỒ CHÍ MINH | F1: CỘNG HÒA XÃ HỘI CHỦ NGHĨA VIỆT NAM Độc lập - Tự do - Hạnh phúc
A2: BẢNG TỔNG HỢP KẾT QUẢ ĐÁNH GIÁ, PHÂN LOẠI THEO HIỆU QUẢ CÔNG VIỆC TRONG QUÝ 3/2019
A4: STT | B4: Họ và tên | C4: Mã nhân viên | D4: Kết quả xếp loại | E4: Đơn vị/chức vụ | F4: Hoàn thành xuất sắc nhiệm vụ | G4: Hoàn thành tốt nhiệm vụ | H4: Hoàn thành nhiệm vụ | I4: Không hoàn thành nhiệm vụ | J4: Hội đồng biểu quyết | K4: Ghi chú
A5: -1 | B5: -2 | C5: (3) | D5: (14) | E5: (3) | F5: -3 | G5: -4 | H5: -5 | I5: -6 | J5: -7 | K5: (3)
A6: 1 | B6: Phạm Hữu Lộc | C6: 41200001203 | D6: =IFERROR((VLOOKUP($C6,'Mẫu 4A'!$D$10:$L$400,9,0)),0) -> Không đánh giá | E6: Hiệu trưởng | F6: Công chức do Sở Giáo dục và Đào tạo đánh giá
A7: I | B7: Viên chức | F7: =SUM(COUNTIF(F8:F22,"X"),COUNTIF(F24:F109,"X"),COUNTIF(F111:F203,"X"),COUNTIF(F205:F216,"X"),COUNTIF(F221:F261,"X")) -> 99 | G7: =SUM(COUNTIF(G8:G22,"X"),COUNTIF(G24:G109,"X"),COUNTIF(G111:G203,"X"),COUNTIF(G205:G216,"X"),COUNTIF(G221:G261,"X")) -> 140 | H7: =SUM(COUNTIF(H8:H22,"X"),COUNTIF(H24:H109,"X"),COUNTIF(H111:H203,"X"),COUNTIF(H205:H216,"X"),COUNTIF(H221:H261,"X")) -> 7 | I7: =SUM(COUNTIF(I8:I22,"X"),COUNTIF(I24:I109,"X"),COUNTIF(I111:I203,"X"),COUNTIF(I205:I216,"X"),COUNTIF(I221:I261,"X")) -> 1
A8: 1 | B8: Đinh Hồng Minh | C8: 11100000791 | D8: =IFERROR((VLOOKUP($C8,'Mẫu 4A'!$D$10:$L$400,9,0)),0) -> Xuất sắc | E8: Phó Hiệu trưởng | F8: =IF($D8="Xuất sắc","X","") -> X | G8: =IF($D8="Tốt","X","") | H8: =IF($D8="Hoàn thành","X","") | I8: =IF($D8="Không hoàn thành","X","") | J8: 14/14
A9: 2 | B9: Đinh Văn Đệ | C9: 50200000021 | D9: =IFERROR((VLOOKUP($C9,'Mẫu 4A'!$D$10:$L$400,9,0)),0) -> Xuất sắc | E9: Phó Hiệu trưởng | F9: =IF($D9="Xuất sắc","X","") -> X | G9: =IF($D9="Tốt","X","") | H9: =IF($D9="Hoàn thành","X","") | I9: =IF($D9="Không hoàn thành","X","") | J9: 14/14
A10: 3 | B10: Châu Văn Bảo | C10: 50200000021 | D10: =IFERROR((VLOOKUP($C10,'Mẫu 4A'!$D$10:$L$400,9,0)),0) -> Xuất sắc | E10: Phó Hiệu trưởng | F10: =IF($D10="Xuất sắc","X","") -> X | G10: =IF($D10="Tốt","X","") | H10: =IF($D10="Hoàn thành","X","") | I10: =IF($D10="Không hoàn thành","X","") | J10: 14/14
A11: 4 | B11: Lâm Viết Dũng | C11: 50800000104 | D11: =IFERROR((VLOOKUP($C11,'Mẫu 4A'!$D$10:$L$400,9,0)),0) -> Xuất sắc | E11: P. TC-HC-TH | F11: =IF($D11="Xuất sắc","X","") -> X | G11: =IF($D11="Tốt","X","") | H11: =IF($D11="Hoàn thành","X","") | I11: =IF($D11="Không hoàn thành","X","") | J11: 14/14
A12: 5 | B12: Nguyễn Thị Hoa | C12: 11100000743 | D12: =IFERROR((VLOOKUP($C12,'Mẫu 4A'!$D$10:$L$400,9,0)),0) -> Xuất sắc | E12: " | F12: =IF($D12="Xuất sắc","X","") -> X | G12: =IF($D12="Tốt","X","") | H12: =IF($D12="Hoàn thành","X","") | I12: =IF($D12="Không hoàn thành","X","") | J12: 14/14
A13: 6 | B13: Nguyễn Thành Nam | C13: 60400000280 | D13: =IFERROR((VLOOKUP($C13,'Mẫu 4A'!$D$10:$L$400,9,0)),0) -> Tốt | E13: " | F13: =IF($D13="Xuất sắc","X","") | G13: =IF($D13="Tốt","X","") -> X | H13: =IF($D13="Hoàn thành","X","") | I13: =IF($D13="Không hoàn thành","X","") | J13: 14/14
A14: 7 | B14: Phan Thị Ngọc Phượng | C14: 11100082854 | D14: =IFERROR((VLOOKUP($C14,'Mẫu 4A'!$D$10:$L$400,9,0)),0) -> Xuất sắc | E14: " | F14: =IF($D14="Xuất sắc","X","") -> X | G14: =IF($D14="Tốt","X","") | H14: =IF($D14="Hoàn thành","X","") | I14: =IF($D14="Không hoàn thành","X","") | J14: 14/14
A15: 8 | B15: Vũ Như Quỳnh | C15: 11100082861 | D15: =IFERROR((VLOOKUP($C15,'Mẫu 4A'!$D$10:$L$400,9,0)),0) -> Xuất sắc | E15: " | F15: =IF($D15="Xuất sắc","X","") -> X | G15: =IF($D15="Tốt","X","") | H15: =IF($D15="Hoàn thành","X","") | I15: =IF($D15="Không hoàn thành","X","") | J15: 14/14
A16: 9 | B16: Trần Thị Ánh Phượng | C16: 11100115699 | D16: =IFERROR((VLOOKUP($C16,'Mẫu 4A'!$D$10:$L$400,9,0)),0) -> Xuất sắc | E16: " | F16: =IF($D16="Xuất sắc","X","") -> X | G16: =IF($D16="Tốt","X","") | H16: =IF($D16="Hoàn thành","X","") | I16: =IF($D16="Không hoàn thành","X","") | J16: 14/14
A17: 10 | B17: Nguyễn Thị Bích Liễu | C17: 40400000515 | D17: =IFERROR((VLOOKUP($C17,'Mẫu 4A'!$D$10:$L$400,9,0)),0) -> Xuất sắc | E17: " | F17: =IF($D17="Xuất sắc","X","") -> X | G17: =IF($D17="Tốt","X","") | H17: =IF($D17="Hoàn thành","X","") | I17: =IF($D17="Không hoàn thành","X","") | J17: 14/14 | K17: Nghỉ thai sản từ 04/02/19 đến 04/8/2019 (đánh giá 2 tháng)
A18: 11 | B18: Trần Thị Phương Oanh | C18: 11100071604 | D18: =IFERROR((VLOOKUP($C18,'Mẫu 4A'!$D$10:$L$400,9,0)),0) -> Xuất sắc | E18: " | F18: =IF($D18="Xuất sắc","X","") -> X | G18: =IF($D18="Tốt","X","") | H18: =IF($D18="Hoàn thành","X","") | I18: =IF($D18="Không hoàn thành","X","") | J18: 14/14
A19: 12 | B19: Lưu Hoàng Hải Yến | C19: 80300000835 | D19: =IFERROR((VLOOKUP($C19,'Mẫu 4A'!$D$10:$L$400,9,0)),0) -> Xuất sắc | E19: " | F19: =IF($D19="Xuất sắc","X","") -> X | G19: =IF($D19="Tốt","X","") | H19: =IF($D19="Hoàn thành","X","") | I19: =IF($D19="Không hoàn thành","X","") | J19: 14/14
A20: 13 | B20: Huỳnh Thị Minh Ly | C20: 11100115713 | D20: =IFERROR((VLOOKUP($C20,'Mẫu 4A'!$D$10:$L$400,9,0)),0) -> Xuất sắc | E20: " | F20: =IF($D20="Xuất sắc","X","") -> X | G20: =IF($D20="Tốt","X","") | H20: =IF($D20="Hoàn thành","X","") | I20: =IF($D20="Không hoàn thành","X","") | J20: 14/14
A21: 14 | B21: Nguyễn Văn Chì | C21: 40700000887 | D21: =IFERROR((VLOOKUP($C21,'Mẫu 4A'!$D$10:$L$400,9,0)),0) -> Xuất sắc | E21: " | F21: =IF($D21="Xuất sắc","X","") -> X | G21: =IF($D21="Tốt","X","") | H21: =IF($D21="Hoàn thành","X","") | I21: =IF($D21="Không hoàn thành","X","") | J21: 14/14
A22: 15 | B22: Thân Thị Nhung | C22: 40700000683 | D22: =IFERROR((VLOOKUP($C22,'Mẫu 4A'!$D$10:$L$400,9,0)),0) -> Xuất sắc | E22: " | F22: =IF($D22="Xuất sắc","X","") -> X | G22: =IF($D22="Tốt","X","") | H22: =IF($D22="Hoàn thành","X","") | I22: =IF($D22="Không hoàn thành","X","") | J22: 14/14
A23: 16 | B23: Nguyễn Thị Vân | C23: 80500000584 | D23: =IFERROR((VLOOKUP($C23,'Mẫu 4A'!$D$10:$L$400,9,0)),0) -> Không đánh giá | E23: " | F23: Không đánh giá, nghỉ thai sản từ tháng 02/4/2019 | J23: 14/14
A24: 17 | B24: Lê Xuân Thiện | C24: 11100000742 | D24: =IFERROR((VLOOKUP($C24,'Mẫu 4A'!$D$10:$L$400,9,0)),0) -> Xuất sắc | E24: P. CTCT-HSSV | F24: =IF($D24="Xuất sắc","X","") -> X | G24: =IF($D24="Tốt","X","") | H24: =IF($D24="Hoàn thành","X","") | I24: =IF($D24="Không hoàn thành","X","") | J24: 14/14
A25: 18 | B25: Hồ Minh Lợi | C25: 11100000704 | D25: =IFERROR((VLOOKUP($C25,'Mẫu 4A'!$D$10:$L$400,9,0)),0) -> Xuất sắc | E25: " | F25: =IF($D25="Xuất sắc","X","") -> X | G25: =IF($D25="Tốt","X","") | H25: =IF($D25="Hoàn thành","X","") | I25: =IF($D25="Không hoàn thành","X","") | J25: 14/14
A26: 19 | B26: Nguyễn Ngọc Hiệp | C26: 11100000751 | D26: =IFERROR((VLOOKUP($C26,'Mẫu 4A'!$D$10:$L$400,9,0)),0) -> Tốt | E26: " | F26: =IF($D26="Xuất sắc","X","") | G26: =IF($D26="Tốt","X","") -> X | H26: =IF($D26="Hoàn thành","X","") | I26: =IF($D26="Không hoàn thành","X","") | J26: 14/14
A27: 20 | B27: Nguyễn Thị Kim Anh | C27: 11100115721 | D27: =IFERROR((VLOOKUP($C27,'Mẫu 4A'!$D$10:$L$400,9,0)),0) -> Xuất sắc | E27: " | F27: =IF($D27="Xuất sắc","X","") -> X | G27: =IF($D27="Tốt","X","") | H27: =IF($D27="Hoàn thành","X","") | I27: =IF($D27="Không hoàn thành","X","") | J27: 14/14
A28: 21 | B28: Phạm Thị Lê Chi | C28: 11100110014 | D28: =IFERROR((VLOOKUP($C28,'Mẫu 4A'!$D$10:$L$400,9,0)),0) -> Hoàn thành | E28: " | F28: =IF($D28="Xuất sắc","X","") | G28: =IF($D28="Tốt","X","") | H28: =IF($D28="Hoàn thành","X","") -> X | I28: =IF($D28="Không hoàn thành","X","") | J28: 14/14 | K28: Thi đua tháng 8 xếp loại B
A29: 22 | B29: Bùi Thị Dương | C29: 11100115717 | D29: =IFERROR((VLOOKUP($C29,'Mẫu 4A'!$D$10:$L$400,9,0)),0) -> Tốt | E29: " | F29: =IF($D29="Xuất sắc","X","") | G29: =IF($D29="Tốt","X","") -> X | H29: =IF($D29="Hoàn thành","X","") | I29: =IF($D29="Không hoàn thành","X","") | J29: 14/14
A30: 23 | B30: Hà Nhật Thanh | C30: 11100000741 | D30: =IFERROR((VLOOKUP($C30,'Mẫu 4A'!$D$10:$L$400,9,0)),0) -> Xuất sắc | E30: " | F30: =IF($D30="Xuất sắc","X","") -> X | G30: =IF($D30="Tốt","X","") | H30: =IF($D30="Hoàn thành","X","") | I30: =IF($D30="Không hoàn thành","X","") | J30: 14/14
A31: 24 | B31: Trần Thị Thu Hà | C31: 11100071600 | D31: =IFERROR((VLOOKUP($C31,'Mẫu 4A'!$D$10:$L$400,9,0)),0) -> Xuất sắc | E31: " | F31: =IF($D31="Xuất sắc","X","") -> X | G31: =IF($D31="Tốt","X","") | H31: =IF($D31="Hoàn thành","X","") | I31: =IF($D31="Không hoàn thành","X","") | J31: 14/14
A32: 25 | B32: Phan Đức Long | C32: 11100000789 | D32: =IFERROR((VLOOKUP($C32,'Mẫu 4A'!$D$10:$L$400,9,0)),0) -> Tốt | E32: " | F32: =IF($D32="Xuất sắc","X","") | G32: =IF($D32="Tốt","X","") -> X | H32: =IF($D32="Hoàn thành","X","") | I32: =IF($D32="Không hoàn thành","X","") | J32: 14/14
A33: 26 | B33: Nguyễn Tất Thắng | C33: 11100000772 | D33: =IFERROR((VLOOKUP($C33,'Mẫu 4A'!$D$10:$L$400,9,0)),0) -> Xuất sắc | E33: " | F33: =IF($D33="Xuất sắc","X","") -> X | G33: =IF($D33="Tốt","X","") | H33: =IF($D33="Hoàn thành","X","") | I33: =IF($D33="Không hoàn thành","X","") | J33: 14/14
A34: 27 | B34: Nguyễn Chí Nhân | C34: 11100066861 | D34: =IFERROR((VLOOKUP($C34,'Mẫu 4A'!$D$10:$L$400,9,0)),0) -> Tốt | E34: P. KT&ĐBCL | F34: =IF($D34="Xuất sắc","X","") | G34: =IF($D34="Tốt","X","") -> X | H34: =IF($D34="Hoàn thành","X","") | I34: =IF($D34="Không hoàn thành","X","") | J34: 14/14
A35: 28 | B35: Võ Thị Anh Đào | C35: 11100000701 | D35: =IFERROR((VLOOKUP($C35,'Mẫu 4A'!$D$10:$L$400,9,0)),0) -> Xuất sắc | E35: " | F35: =IF($D35="Xuất sắc","X","") -> X | G35: =IF($D35="Tốt","X","") | H35: =IF($D35="Hoàn thành","X","") | I35: =IF($D35="Không hoàn thành","X","") | J35: 14/14
A36: 29 | B36: Nguyễn Thanh Sơn | C36: 11100122989 | D36: =IFERROR((VLOOKUP($C36,'Mẫu 4A'!$D$10:$L$400,9,0)),0) -> Tốt | E36: " | F36: =IF($D36="Xuất sắc","X","") | G36: =IF($D36="Tốt","X","") -> X | H36: =IF($D36="Hoàn thành","X","") | I36: =IF($D36="Không hoàn thành","X","") | J36: 14/14
A37: 30 | B37: Lương Minh Dũng | C37: 40800000245 | D37: =IFERROR((VLOOKUP($C37,'Mẫu 4A'!$D$10:$L$400,9,0)),0) -> Xuất sắc | E37: " | F37: =IF($D37="Xuất sắc","X","") -> X | G37: =IF($D37="Tốt","X","") | H37: =IF($D37="Hoàn thành","X","") | I37: =IF($D37="Không hoàn thành","X","") | J37: 14/14
A38: 31 | B38: Nguyễn Thị Tuyết | C38: 50700000482 | D38: =IFERROR((VLOOKUP($C38,'Mẫu 4A'!$D$10:$L$400,9,0)),0) -> Xuất sắc | E38: " | F38: =IF($D38="Xuất sắc","X","") -> X | G38: =IF($D38="Tốt","X","") | H38: =IF($D38="Hoàn thành","X","") | I38: =IF($D38="Không hoàn thành","X","") | J38: 14/14
A39: 32 | B39: Vũ Thị Thu Thủy | C39: 11100115710 | D39: =IFERROR((VLOOKUP($C39,'Mẫu 4A'!$D$10:$L$400,9,0)),0) -> Tốt | E39: " | F39: =IF($D39="Xuất sắc","X","") | G39: =IF($D39="Tốt","X","") -> X | H39: =IF($D39="Hoàn thành","X","") | I39: =IF($D39="Không hoàn thành","X","") | J39: 14/14
A40: 33 | B40: Nguyễn Kính | C40: 50800000800 | D40: =IFERROR((VLOOKUP($C40,'Mẫu 4A'!$D$10:$L$400,9,0)),0) -> Xuất sắc | E40: P. KH-TC | F40: =IF($D40="Xuất sắc","X","") -> X | G40: =IF($D40="Tốt","X","") | H40: =IF($D40="Hoàn thành","X","") | I40: =IF($D40="Không hoàn thành","X","") | J40: 14/14
A41: 34 | B41: Nguyễn Thị Kim Dung | C41: 11100071598 | D41: =IFERROR((VLOOKUP($C41,'Mẫu 4A'!$D$10:$L$400,9,0)),0) -> Tốt | E41: " | F41: =IF($D41="Xuất sắc","X","") | G41: =IF($D41="Tốt","X","") -> X | H41: =IF($D41="Hoàn thành","X","") | I41: =IF($D41="Không hoàn thành","X","") | J41: 14/14
A42: 35 | B42: Hồng Mộng Tuyết Dung | C42: 11100115722 | D42: =IFERROR((VLOOKUP($C42,'Mẫu 4A'!$D$10:$L$400,9,0)),0) -> Xuất sắc | E42: " | F42: =IF($D42="Xuất sắc","X","") -> X | G42: =IF($D42="Tốt","X","") | H42: =IF($D42="Hoàn thành","X","") | I42: =IF($D42="Không hoàn thành","X","") | J42: 14/14
A43: 36 | B43: Đỗ Thị Ngọc | C43: 50800001163 | D43: =IFERROR((VLOOKUP($C43,'Mẫu 4A'!$D$10:$L$400,9,0)),0) -> Xuất sắc | E43: " | F43: =IF($D43="Xuất sắc","X","") -> X | G43: =IF($D43="Tốt","X","") | H43: =IF($D43="Hoàn thành","X","") | I43: =IF($D43="Không hoàn thành","X","") | J43: 14/14
A44: 37 | B44: Trần Thị Minh Thoa | C44: 11100121674 | D44: =IFERROR((VLOOKUP($C44,'Mẫu 4A'!$D$10:$L$400,9,0)),0) -> Xuất sắc | E44: " | F44: =IF($D44="Xuất sắc","X","") -> X | G44: =IF($D44="Tốt","X","") | H44: =IF($D44="Hoàn thành","X","") | I44: =IF($D44="Không hoàn thành","X","") | J44: 14/14
A45: 38 | B45: Nguyễn Thị Hồng Thắm | C45: 40700000691 | D45: =IFERROR((VLOOKUP($C45,'Mẫu 4A'!$D$10:$L$400,9,0)),0) -> Xuất sắc | E45: " | F45: =IF($D45="Xuất sắc","X","") -> X | G45: =IF($D45="Tốt","X","") | H45: =IF($D45="Hoàn thành","X","") | I45: =IF($D45="Không hoàn thành","X","") | J45: 14/14
A46: 39 | B46: Phạm Lê Đông Hưng | C46: 50700000361 | D46: =IFERROR((VLOOKUP($C46,'Mẫu 4A'!$D$10:$L$400,9,0)),0) -> Xuất sắc | E46: " | F46: =IF($D46="Xuất sắc","X","") -> X | G46: =IF($D46="Tốt","X","") | H46: =IF($D46="Hoàn thành","X","") | I46: =IF($D46="Không hoàn thành","X","") | J46: 14/14
A47: 40 | B47: Lê Quang Liêm | C47: 50200000160 | D47: =IFERROR((VLOOKUP($C47,'Mẫu 4A'!$D$10:$L$400,9,0)),0) -> Xuất sắc | E47: P. QT-DV | F47: =IF($D47="Xuất sắc","X","") -> X | G47: =IF($D47="Tốt","X","") | H47: =IF($D47="Hoàn thành","X","") | I47: =IF($D47="Không hoàn thành","X","") | J47: 14/14
A48: 41 | B48: Nguyễn Văn Thành | C48: 11100000723 | D48: =IFERROR((VLOOKUP($C48,'Mẫu 4A'!$D$10:$L$400,9,0)),0) -> Tốt | E48: " | F48: =IF($D48="Xuất sắc","X","") | G48: =IF($D48="Tốt","X","") -> X | H48: =IF($D48="Hoàn thành","X","") | I48: =IF($D48="Không hoàn thành","X","") | J48: 14/14
A49: 42 | B49: Nguyễn Trọng Phú | C49: 11100083294 | D49: =IFERROR((VLOOKUP($C49,'Mẫu 4A'!$D$10:$L$400,9,0)),0) -> Tốt | E49: " | F49: =IF($D49="Xuất sắc","X","") | G49: =IF($D49="Tốt","X","") -> X | H49: =IF($D49="Hoàn thành","X","") | I49: =IF($D49="Không hoàn thành","X","") | J49: 14/14
A50: 43 | B50: Đỗ Văn Trong | C50: 11100071601 | D50: =IFERROR((VLOOKUP($C50,'Mẫu 4A'!$D$10:$L$400,9,0)),0) -> Tốt | E50: " | F50: =IF($D50="Xuất sắc","X","") | G50: =IF($D50="Tốt","X","") -> X | H50: =IF($D50="Hoàn thành","X","") | I50: =IF($D50="Không hoàn thành","X","") | J50: 14/14
A51: 44 | B51: Giáp Văn Thịnh | C51: 11100115709 | D51: =IFERROR((VLOOKUP($C51,'Mẫu 4A'!$D$10:$L$400,9,0)),0) -> Xuất sắc | E51: " | F51: =IF($D51="Xuất sắc","X","") -> X | G51: =IF($D51="Tốt","X","") | H51: =IF($D51="Hoàn thành","X","") | I51: =IF($D51="Không hoàn thành","X","") | J51: 14/14
... A69: 62 | B69: Võ Thị Lệ Trân | C69: 50700000428 | D69: =IFERROR((VLOOKUP($C69,'Mẫu 4A'!$D$10:$L$400,9,0)),0) -> Xuất sắc | E69: " | F69: =IF($D69="Xuất sắc","X","") -> X | G69: =IF($D69="Tốt","X","") | H69: =IF($D69="Hoàn thành","X","") | I69: =IF($D69="Không hoàn thành","X","") | J69: 14/14
A70: 63 | B70: Thái Thị My Sa | C70: 80600000227 | D70: =IFERROR((VLOOKUP($C70,'Mẫu 4A'!$D$10:$L$400,9,0)),0) -> Tốt | E70: " | F70: =IF($D70="Xuất sắc","X","") | G70: =IF($D70="Tốt","X","") -> X | H70: =IF($D70="Hoàn thành","X","") | I70: =IF($D70="Không hoàn thành","X","") | J70: 14/14 | K70: Nghỉ thai sản từ tháng 16/02/19 đến 16/8/2019 (đánh giá 2 tháng)
A71: 64 | B71: Nguyễn Thị Hải Hà | C71: 11100115720 | D71: =IFERROR((VLOOKUP($C71,'Mẫu 4A'!$D$10:$L$400,9,0)),0) -> Xuất sắc | E71: " | F71: =IF($D71="Xuất sắc","X","") -> X | G71: =IF($D71="Tốt","X","") | H71: =IF($D71="Hoàn thành","X","") | I71: =IF($D71="Không hoàn thành","X","") | J71: 14/14
A72: 65 | B72: Nguyễn Ngọc Trang | C72: 11100000746 | D72: =IFERROR((VLOOKUP($C72,'Mẫu 4A'!$D$10:$L$400,9,0)),0) -> Tốt | E72: Phòng QLKH-HTQT | F72: =IF($D72="Xuất sắc","X","") | G72: =IF($D72="Tốt","X","") -> X | H72: =IF($D72="Hoàn thành","X","") | I72: =IF($D72="Không hoàn thành","X","") | J72: 14/14 | K72: HĐ thi đua nhắc nhở tháng 9/2019
A73: 66 | B73: Huỳnh Thị Cẩm Hoa | C73: 31000001254 | D73: =IFERROR((VLOOKUP($C73,'Mẫu 4A'!$D$10:$L$400,9,0)),0) -> Tốt | E73: " | F73: =IF($D73="Xuất sắc","X","") | G73: =IF($D73="Tốt","X","") -> X | H73: =IF($D73="Hoàn thành","X","") | I73: =IF($D73="Không hoàn thành","X","") | J73: 14/14
A74: 67 | B74: Nguyễn Thanh Lâm | C74: 11100065744 | D74: =IFERROR((VLOOKUP($C74,'Mẫu 4A'!$D$10:$L$400,9,0)),0) -> Xuất sắc | E74: Tổ TT-PC | F74: =IF($D74="Xuất sắc","X","") -> X | G74: =IF($D74="Tốt","X","") | H74: =IF($D74="Hoàn thành","X","") | I74: =IF($D74="Không hoàn thành","X","") | J74: 14/14
A75: 68 | B75: Phạm Minh Nghĩa | C75: 11100000702 | D75: =IFERROR((VLOOKUP($C75,'Mẫu 4A'!$D$10:$L$400,9,0)),0) -> Tốt | E75: " | F75: =IF($D75="Xuất sắc","X","") | G75: =IF($D75="Tốt","X","") -> X | H75: =IF($D75="Hoàn thành","X","") | I75: =IF($D75="Không hoàn thành","X","") | J75: 14/14
A76: 69 | B76: Nguyễn Thị Ngọc Anh | C76: 50700000360 | D76: =IFERROR((VLOOKUP($C76,'Mẫu 4A'!$D$10:$L$400,9,0)),0) -> Tốt | E76: " | F76: =IF($D76="Xuất sắc","X","") | G76: =IF($D76="Tốt","X","") -> X | H76: =IF($D76="Hoàn thành","X","") | I76: =IF($D76="Không hoàn thành","X","") | J76: 14/14
A77: 70 | B77: Nguyễn Văn Chiến | C77: 40800000177 | D77: =IFERROR((VLOOKUP($C77,'Mẫu 4A'!$D$10:$L$400,9,0)),0) -> Tốt | E77: TT QHDN | F77: =IF($D77="Xuất sắc","X","") | G77: =IF($D77="Tốt","X","") -> X | H77: =IF($D77="Hoàn thành","X","") | I77: =IF($D77="Không hoàn thành","X","") | J77: 14/14
A78: 71 | B78: Mai Nguyễn Hoàng Yến | C78: 40800000380 | D78: =IFERROR((VLOOKUP($C78,'Mẫu 4A'!$D$10:$L$400,9,0)),0) -> Tốt | E78: " | F78: =IF($D78="Xuất sắc","X","") | G78: =IF($D78="Tốt","X","") -> X | H78: =IF($D78="Hoàn thành","X","") | I78: =IF($D78="Không hoàn thành","X","") | J78: 14/14 | K78: HĐ thi đua nhắc nhở tháng 8/2019
A79: 72 | B79: Nguyễn Hữu Thiện | C79: 11100083326 | D79: =IFERROR((VLOOKUP($C79,'Mẫu 4A'!$D$10:$L$400,9,0)),0) -> Xuất sắc | E79: TT ĐH và QLDL | F79: =IF($D79="Xuất sắc","X","") -> X | G79: =IF($D79="Tốt","X","") | H79: =IF($D79="Hoàn thành","X","") | I79: =IF($D79="Không hoàn thành","X","") | J79: 14/14
A80: 73 | B80: Trương Hữu Lộc | C80: 40800000361 | D80: =IFERROR((VLOOKUP($C80,'Mẫu 4A'!$D$10:$L$400,9,0)),0) -> Xuất sắc | E80: " | F80: =IF($D80="Xuất sắc","X","") -> X | G80: =IF($D80="Tốt","X","") | H80: =IF($D80="Hoàn thành","X","") | I80: =IF($D80="Không hoàn thành","X","") | J80: 14/14
A81: 74 | B81: Trang Thị Xuân Uyên | C81: 11100000785 | D81: =IFERROR((VLOOKUP($C81,'Mẫu 4A'!$D$10:$L$400,9,0)),0) -> Tốt | E81: TT Y tế | F81: =IF($D81="Xuất sắc","X","") | G81: =IF($D81="Tốt","X","") -> X | H81: =IF($D81="Hoàn thành","X","") | I81: =IF($D81="Không hoàn thành","X","") | J81: 14/14
A82: 75 | B82: Bùi Thị Lan Anh | C82: 11100115711 | D82: =IFERROR((VLOOKUP($C82,'Mẫu 4A'!$D$10:$L$400,9,0)),0) -> Tốt | E82: " | F82: =IF($D82="Xuất sắc","X","") | G82: =IF($D82="Tốt","X","") -> X | H82: =IF($D82="Hoàn thành","X","") | I82: =IF($D82="Không hoàn thành","X","") | J82: 14/14
A83: 76 | B83: Đỗ Tuấn Việt | C83: 11100082715 | D83: =IFERROR((VLOOKUP($C83,'Mẫu 4A'!$D$10:$L$400,9,0)),0) -> Tốt | E83: TT Thư viện | F83: =IF($D83="Xuất sắc","X","") | G83: =IF($D83="Tốt","X","") -> X | H83: =IF($D83="Hoàn thành","X","") | I83: =IF($D83="Không hoàn thành","X","") | J83: 14/14
A84: 77 | B84: Trần Thị Diễm Thúy | C84: 40700000674 | D84: =IFERROR((VLOOKUP($C84,'Mẫu 4A'!$D$10:$L$400,9,0)),0) -> Tốt | E84: " | F84: =IF($D84="Xuất sắc","X","") | G84: =IF($D84="Tốt","X","") -> X | H84: =IF($D84="Hoàn thành","X","") | I84: =IF($D84="Không hoàn thành","X","") | J84: 14/14
A85: 78 | B85: Nguyễn Tứ Cảnh | C85: 11100000754 | D85: =IFERROR((VLOOKUP($C85,'Mẫu 4A'!$D$10:$L$400,9,0)),0) -> Tốt | E85: " | F85: =IF($D85="Xuất sắc","X","") | G85: =IF($D85="Tốt","X","") -> X | H85: =IF($D85="Hoàn thành","X","") | I85: =IF($D85="Không hoàn thành","X","") | J85: 14/14
A86: 79 | B86: Đặng Thu Hà | C86: 40400000544 | D86: =IFERROR((VLOOKUP($C86,'Mẫu 4A'!$D$10:$L$400,9,0)),0) -> Xuất sắc | E86: " | F86: =IF($D86="Xuất sắc","X","") -> X | G86: =IF($D86="Tốt","X","") | H86: =IF($D86="Hoàn thành","X","") | I86: =IF($D86="Không hoàn thành","X","") | J86: 14/14
A87: 80 | B87: Đỗ Thị Tâm | C87: 11100083302 | D87: =IFERROR((VLOOKUP($C87,'Mẫu 4A'!$D$10:$L$400,9,0)),0) -> Tốt | E87: TT Đào tạo Lý Tự Trọng | F87: =IF($D87="Xuất sắc","X","") | G87: =IF($D87="Tốt","X","") -> X | H87: =IF($D87="Hoàn thành","X","") | I87: =IF($D87="Không hoàn thành","X","") | J87: 14/14
A88: 81 | B88: Trần Kim Thu Liễu | C88: 11100000718 | D88: =IFERROR((VLOOKUP($C88,'Mẫu 4A'!$D$10:$L$400,9,0)),0) -> Xuất sắc | E88: Khoa KHCB | F88: =IF($D88="Xuất sắc","X","") -> X | G88: =IF($D88="Tốt","X","") | H88: =IF($D88="Hoàn thành","X","") | I88: =IF($D88="Không hoàn thành","X","") | J88: 14/14
A89: 82 | B89: Phạm Thị Thu Nga | C89: 11100000799 | D89: =IFERROR((VLOOKUP($C89,'Mẫu 4A'!$D$10:$L$400,9,0)),0) -> Tốt | E89: " | F89: =IF($D89="Xuất sắc","X","") | G89: =IF($D89="Tốt","X","") -> X | H89: =IF($D89="Hoàn thành","X","") | I89: =IF($D89="Không hoàn thành","X","") | J89: 14/14 | K89: Nghỉ thai sản từ 19/02/2019 đến ngày 19/8/2019 (đánh giá 2 tháng)
A90: 83 | B90: Nguyễn Thị Huyền Nga | C90: 11100067878 | D90: =IFERROR((VLOOKUP($C90,'Mẫu 4A'!$D$10:$L$400,9,0)),0) -> Tốt | E90: " | F90: =IF($D90="Xuất sắc","X","") | G90: =IF($D90="Tốt","X","") -> X | H90: =IF($D90="Hoàn thành","X","") | I90: =IF($D90="Không hoàn thành","X","") | J90: 14/14
A91: 84 | B91: Lê Thái Hùng | C91: 11100067268 | D91: =IFERROR((VLOOKUP($C91,'Mẫu 4A'!$D$10:$L$400,9,0)),0) -> Tốt | E91: " | F91: =IF($D91="Xuất sắc","X","") | G91: =IF($D91="Tốt","X","") -> X | H91: =IF($D91="Hoàn thành","X","") | I91: =IF($D91="Không hoàn thành","X","") | J91: 14/14
A92: 85 | B92: Nguyễn Văn Hậu | C92: 31100001602 | D92: =IFERROR((VLOOKUP($C92,'Mẫu 4A'!$D$10:$L$400,9,0)),0) -> Tốt | E92: " | F92: =IF($D92="Xuất sắc","X","") | G92: =IF($D92="Tốt","X","") -> X | H92: =IF($D92="Hoàn thành","X","") | I92: =IF($D92="Không hoàn thành","X","") | J92: 14/14
A93: 86 | B93: Dương Đức Kiên | C93: 31100001640 | D93: =IFERROR((VLOOKUP($C93,'Mẫu 4A'!$D$10:$L$400,9,0)),0) -> Tốt | E93: " | F93: =IF($D93="Xuất sắc","X","") | G93: =IF($D93="Tốt","X","") -> X | H93: =IF($D93="Hoàn thành","X","") | I93: =IF($D93="Không hoàn thành","X","") | J93: 14/14 | K93: HĐ thi đua nhắc nhở tháng 8/2019
A94: 87 | B94: Hà Như Mai | C94: 11100096296 | D94: =IFERROR((VLOOKUP($C94,'Mẫu 4A'!$D$10:$L$400,9,0)),0) -> Tốt | E94: " | F94: =IF($D94="Xuất sắc","X","") | G94: =IF($D94="Tốt","X","") -> X | H94: =IF($D94="Hoàn thành","X","") | I94: =IF($D94="Không hoàn thành","X","") | J94: 14/14
A95: 88 | B95: Cao Thị Nga | C95: 11100000757 | D95: =IFERROR((VLOOKUP($C95,'Mẫu 4A'!$D$10:$L$400,9,0)),0) -> Tốt | E95: " | F95: =IF($D95="Xuất sắc","X","") | G95: =IF($D95="Tốt","X","") -> X | H95: =IF($D95="Hoàn thành","X","") | I95: =IF($D95="Không hoàn thành","X","") | J95: 14/14
A96: 89 | B96: Nguyễn Thị Cẩm Thạch | C96: 20500006963 | D96: =IFERROR((VLOOKUP($C96,'Mẫu 4A'!$D$10:$L$400,9,0)),0) -> Tốt | E96: " | F96: =IF($D96="Xuất sắc","X","") | G96: =IF($D96="Tốt","X","") -> X | H96: =IF($D96="Hoàn thành","X","") | I96: =IF($D96="Không hoàn thành","X","") | J96: 14/14
A97: 90 | B97: Nguyễn Thị Thủy | C97: 11100109681 | D97: =IFERROR((VLOOKUP($C97,'Mẫu 4A'!$D$10:$L$400,9,0)),0) -> Tốt | E97: " | F97: =IF($D97="Xuất sắc","X","") | G97: =IF($D97="Tốt","X","") -> X | H97: =IF($D97="Hoàn thành","X","") | I97: =IF($D97="Không hoàn thành","X","") | J97: 14/14
A98: 91 | B98: Nguyễn Văn Đông | C98: 11100000796 | D98: =IFERROR((VLOOKUP($C98,'Mẫu 4A'!$D$10:$L$400,9,0)),0) -> Tốt | E98: " | F98: =IF($D98="Xuất sắc","X","") | G98: =IF($D98="Tốt","X","") -> X | H98: =IF($D98="Hoàn thành","X","") | I98: =IF($D98="Không hoàn thành","X","") | J98: 14/14
A99: 92 | B99: Đặng Thị Kiến Trúc | C99: 11100067776 | D99: =IFERROR((VLOOKUP($C99,'Mẫu 4A'!$D$10:$L$400,9,0)),0) -> Tốt | E99: " | F99: =IF($D99="Xuất sắc","X","") | G99: =IF($D99="Tốt","X","") -> X | H99: =IF($D99="Hoàn thành","X","") | I99: =IF($D99="Không hoàn thành","X","") | J99: 14/14
A100: 93 | B100: Nguyễn Thanh Tú | C100: 11100000752 | D100: =IFERROR((VLOOKUP($C100,'Mẫu 4A'!$D$10:$L$400,9,0)),0) -> Tốt | E100: " | F100: =IF($D100="Xuất sắc","X","") | G100: =IF($D100="Tốt","X","") -> X | H100: =IF($D100="Hoàn thành","X","") | I100: =IF($D100="Không hoàn thành","X","") | J100: 14/14
A101: 94 | B101: Trần Thị Ánh Tuyết | C101: 11100096308 | D101: =IFERROR((VLOOKUP($C101,'Mẫu 4A'!$D$10:$L$400,9,0)),0) -> Tốt | E101: " | F101: =IF($D101="Xuất sắc","X","") | G101: =IF($D101="Tốt","X","") -> X | H101: =IF($D101="Hoàn thành","X","") | I101: =IF($D101="Không hoàn thành","X","") | J101: 14/14 | K101: Hội đồng thi đua nhắc nhở tháng 8/2019
A102: 95 | B102: Trịnh Khắc Vũ | C102: 11100109967 | D102: =IFERROR((VLOOKUP($C102,'Mẫu 4A'!$D$10:$L$400,9,0)),0) -> Tốt | E102: " | F102: =IF($D102="Xuất sắc","X","") | G102: =IF($D102="Tốt","X","") -> X | H102: =IF($D102="Hoàn thành","X","") | I102: =IF($D102="Không hoàn thành","X","") | J102: 14/14
A103: 96 | B103: Nguyễn Phương Hà | C103: 11100067248 | D103: =IFERROR((VLOOKUP($C103,'Mẫu 4A'!$D$10:$L$400,9,0)),0) -> Tốt | E103: " | F103: =IF($D103="Xuất sắc","X","") | G103: =IF($D103="Tốt","X","") -> X | H103: =IF($D103="Hoàn thành","X","") | I103: =IF($D103="Không hoàn thành","X","") | J103: 14/14
A104: 97 | B104: Nguyễn Thị Thanh Tú | C104: 11100082584 | D104: =IFERROR((VLOOKUP($C104,'Mẫu 4A'!$D$10:$L$400,9,0)),0) -> Xuất sắc | E104: " | F104: =IF($D104="Xuất sắc","X","") -> X | G104: =IF($D104="Tốt","X","") | H104: =IF($D104="Hoàn thành","X","") | I104: =IF($D104="Không hoàn thành","X","") | J104: 14/14
A105: 98 | B105: Giang Phi Hùng | C105: 11100113288 | D105: =IFERROR((VLOOKUP($C105,'Mẫu 4A'!$D$10:$L$400,9,0)),0) -> Tốt | E105: " | F105: =IF($D105="Xuất sắc","X","") | G105: =IF($D105="Tốt","X","") -> X | H105: =IF($D105="Hoàn thành","X","") | I105: =IF($D105="Không hoàn thành","X","") | J105: 14/14
A106: 99 | B106: Nguyễn Mạnh Phương | C106: 11100097748 | D106: =IFERROR((VLOOKUP($C106,'Mẫu 4A'!$D$10:$L$400,9,0)),0) -> Tốt | E106: " | F106: =IF($D106="Xuất sắc","X","") | G106: =IF($D106="Tốt","X","") -> X | H106: =IF($D106="Hoàn thành","X","") | I106: =IF($D106="Không hoàn thành","X","") | J106: 14/14
A107: 100 | B107: Nguyễn Phú Tân | C107: 11100097744 | D107: =IFERROR((VLOOKUP($C107,'Mẫu 4A'!$D$10:$L$400,9,0)),0) -> Tốt | E107: " | F107: =IF($D107="Xuất sắc","X","") | G107: =IF($D107="Tốt","X","") -> X | H107: =IF($D107="Hoàn thành","X","") | I107: =IF($D107="Không hoàn thành","X","") | J107: 14/14
A108: 101 | B108: Nguyễn Đức Thắng | C108: 11100000763 | D108: =IFERROR((VLOOKUP($C108,'Mẫu 4A'!$D$10:$L$400,9,0)),0) -> Tốt | E108: " | F108: =IF($D108="Xuất sắc","X","") | G108: =IF($D108="Tốt","X","") -> X | H108: =IF($D108="Hoàn thành","X","") | I108: =IF($D108="Không hoàn thành","X","") | J108: 14/14
A109: 102 | B109: Nguyễn Thị Thu Hà | C109: 60300000097 | D109: =IFERROR((VLOOKUP($C109,'Mẫu 4A'!$D$10:$L$400,9,0)),0) -> Tốt | E109: " | F109: =IF($D109="Xuất sắc","X","") | G109: =IF($D109="Tốt","X","") -> X | H109: =IF($D109="Hoàn thành","X","") | I109: =IF($D109="Không hoàn thành","X","") | J109: 14/14
A110: 103 | B110: Phạm Thị Thu Hiền | C110: 60300000060 | D110: =IFERROR((VLOOKUP($C110,'Mẫu 4A'!$D$10:$L$400,9,0)),0) -> Không đánh giá | E110: " | F110: Không đánh giá, nghỉ thai sản từ tháng 29/6/2019 | J110: 14/14 | K110: Nghỉ thai sản từ ngày 29/6/2019
A111: 104 | B111: Võ Thị Hồng Lan | C111: 11100091472 | D111: =IFERROR((VLOOKUP($C111,'Mẫu 4A'!$D$10:$L$400,9,0)),0) -> Tốt | E111: " | F111: =IF($D111="Xuất sắc","X","") | G111: =IF($D111="Tốt","X","") -> X | H111: =IF($D111="Hoàn thành","X","") | I111: =IF($D111="Không hoàn thành","X","") | J111: 14/14
A112: 105 | B112: Nguyễn Thị Thu Tâm | C112: 11100066702 | D112: =IFERROR((VLOOKUP($C112,'Mẫu 4A'!$D$10:$L$400,9,0)),0) -> Hoàn thành | E112: " | F112: =IF($D112="Xuất sắc","X","") | G112: =IF($D112="Tốt","X","") | H112: =IF($D112="Hoàn thành","X","") -> X | I112: =IF($D112="Không hoàn thành","X","") | J112: 14/14 | K112: Thi đua tháng 7 xếp loại B
A113: 106 | B113: Vương Thanh Thủy | C113: 11100000801 | D113: =IFERROR((VLOOKUP($C113,'Mẫu 4A'!$D$10:$L$400,9,0)),0) -> Tốt | E113: " | F113: =IF($D113="Xuất sắc","X","") | G113: =IF($D113="Tốt","X","") -> X | H113: =IF($D113="Hoàn thành","X","") | I113: =IF($D113="Không hoàn thành","X","") | J113: 14/14
A114: 107 | B114: Lê Nguyễn Mỹ Trâm | C114: 11100119654 | D114: =IFERROR((VLOOKUP($C114,'Mẫu 4A'!$D$10:$L$400,9,0)),0) -> Tốt | E114: " | F114: =IF($D114="Xuất sắc","X","") | G114: =IF($D114="Tốt","X","") -> X | H114: =IF($D114="Hoàn thành","X","") | I114: =IF($D114="Không hoàn thành","X","") | J114: 14/14 | K114: Thi đua tháng 7 xếp loại B
A115: 108 | B115: Nguyễn Thị Bảo Trân | C115: 11100000737 | D115: =IFERROR((VLOOKUP($C115,'Mẫu 4A'!$D$10:$L$400,9,0)),0) -> Tốt | E115: " | F115: =IF($D115="Xuất sắc","X","") | G115: =IF($D115="Tốt","X","") -> X | H115: =IF($D115="Hoàn thành","X","") | I115: =IF($D115="Không hoàn thành","X","") | J115: 14/14
A116: 109 | B116: Trần Thanh Trúc | C116: 60200000550 | D116: =IFERROR((VLOOKUP($C116,'Mẫu 4A'!$D$10:$L$400,9,0)),0) -> Tốt | E116: " | F116: =IF($D116="Xuất sắc","X","") | G116: =IF($D116="Tốt","X","") -> X | H116: =IF($D116="Hoàn thành","X","") | I116: =IF($D116="Không hoàn thành","X","") | J116: 14/14
A117: 110 | B117: Lê Văn Bình | C117: 60100001140 | D117: =IFERROR((VLOOKUP($C117,'Mẫu 4A'!$D$10:$L$400,9,0)),0) -> Tốt | E117: " | F117: =IF($D117="Xuất sắc","X","") | G117: =IF($D117="Tốt","X","") -> X | H117: =IF($D117="Hoàn thành","X","") | I117: =IF($D117="Không hoàn thành","X","") | J117: 14/14
A118: 111 | B118: Ngô Thanh Điền | C118: 11100000810 | D118: =IFERROR((VLOOKUP($C118,'Mẫu 4A'!$D$10:$L$400,9,0)),0) -> Tốt | E118: " | F118: =IF($D118="Xuất sắc","X","") | G118: =IF($D118="Tốt","X","") -> X | H118: =IF($D118="Hoàn thành","X","") | I118: =IF($D118="Không hoàn thành","X","") | J118: 14/14
...

Sheet  Tổng hợp theo ĐV (2)
A1: UBND THÀNH PHỐ HỒ CHÍ MINH TRƯỜNG CAO ĐẲNG LÝ TỰ TRỌNG THÀNH PHỐ HỒ CHÍ MINH | F1: CỘNG HÒA XÃ HỘI CHỦ NGHĨA VIỆT NAM Độc lập - Tự do - Hạnh phúc
A2: BẢNG TỔNG HỢP KẾT QUẢ ĐÁNH GIÁ, PHÂN LOẠI THEO HIỆU QUẢ CÔNG VIỆC TRONG QUÝ 3/2019
A4: STT | B4: Họ và tên | C4: Mã nhân viên | D4: Kết quả xếp loại | E4: Đơn vị/chức vụ | F4: Hoàn thành xuất sắc nhiệm vụ | G4: Hoàn thành tốt nhiệm vụ | H4: Hoàn thành nhiệm vụ | I4: Không hoàn thành nhiệm vụ | J4: Ghi chú
A5: (1) | C5: (3) | D5: (14) | E5: (3) | F5: (14) | G5: (3) | H5: (14) | I5: (3) | J5: (14)
A6: 1 | B6: Phạm Hữu Lộc | C6: 41200001203 | D6: =IFERROR((VLOOKUP($C6,'Mẫu 4A'!$D$10:$L$400,9,0)),0) -> Không đánh giá | E6: Hiệu trưởng | F6: Công chức, Sở GDĐT đánh giá, phân loại
A7: I | B7: Viên chức | F7: =SUM(COUNTIF(F8:F22,"X"),COUNTIF(F24:F109,"X"),COUNTIF(F111:F203,"X"),COUNTIF(F205:F216,"X"),COUNTIF(F221:F261,"X")) -> 99 | G7: =SUM(COUNTIF(G8:G22,"X"),COUNTIF(G24:G109,"X"),COUNTIF(G111:G203,"X"),COUNTIF(G205:G216,"X"),COUNTIF(G221:G261,"X")) -> 140 | H7: =SUM(COUNTIF(H8:H22,"X"),COUNTIF(H24:H109,"X"),COUNTIF(H111:H203,"X"),COUNTIF(H205:H216,"X"),COUNTIF(H221:H261,"X")) -> 7 | I7: =SUM(COUNTIF(I8:I22,"X"),COUNTIF(I24:I109,"X"),COUNTIF(I111:I203,"X"),COUNTIF(I205:I216,"X"),COUNTIF(I221:I261,"X")) -> 1
A8: 1 | B8: Đinh Hồng Minh | C8: 11100000791 | D8: =IFERROR((VLOOKUP($C8,'Mẫu 4A'!$D$10:$L$400,9,0)),0) -> Xuất sắc | E8: Phó Hiệu trưởng | F8: =IF($D8="Xuất sắc","X","") -> X | G8: =IF($D8="Tốt","X","") | H8: =IF($D8="Hoàn thành","X","") | I8: =IF($D8="Không hoàn thành","X","")
A9: 2 | B9: Đinh Văn Đệ | C9: 50200000021 | D9: =IFERROR((VLOOKUP($C9,'Mẫu 4A'!$D$10:$L$400,9,0)),0) -> Xuất sắc | E9: Phó Hiệu trưởng | F9: =IF($D9="Xuất sắc","X","") -> X | G9: =IF($D9="Tốt","X","") | H9: =IF($D9="Hoàn thành","X","") | I9: =IF($D9="Không hoàn thành","X","")
A10: 3 | B10: Châu Văn Bảo | C10: 50200000021 | D10: =IFERROR((VLOOKUP($C10,'Mẫu 4A'!$D$10:$L$400,9,0)),0) -> Xuất sắc | E10: Phó Hiệu trưởng | F10: =IF($D10="Xuất sắc","X","") -> X | G10: =IF($D10="Tốt","X","") | H10: =IF($D10="Hoàn thành","X","") | I10: =IF($D10="Không hoàn thành","X","")
A11: 4 | B11: Lâm Viết Dũng | C11: 50800000104 | D11: =IFERROR((VLOOKUP($C11,'Mẫu 4A'!$D$10:$L$400,9,0)),0) -> Xuất sắc | E11: P. TC-HC-TH | F11: =IF($D11="Xuất sắc","X","") -> X | G11: =IF($D11="Tốt","X","") | H11: =IF($D11="Hoàn thành","X","") | I11: =IF($D11="Không hoàn thành","X","")
A12: 5 | B12: Nguyễn Thị Hoa | C12: 11100000743 | D12: =IFERROR((VLOOKUP($C12,'Mẫu 4A'!$D$10:$L$400,9,0)),0) -> Xuất sắc | E12: " | F12: =IF($D12="Xuất sắc","X","") -> X | G12: =IF($D12="Tốt","X","") | H12: =IF($D12="Hoàn thành","X","") | I12: =IF($D12="Không hoàn thành","X","")
A13: 6 | B13: Nguyễn Thành Nam | C13: 60400000280 | D13: =IFERROR((VLOOKUP($C13,'Mẫu 4A'!$D$10:$L$400,9,0)),0) -> Tốt | E13: " | F13: =IF($D13="Xuất sắc","X","") | G13: =IF($D13="Tốt","X","") -> X | H13: =IF($D13="Hoàn thành","X","") | I13: =IF($D13="Không hoàn thành","X","")
A14: 7 | B14: Phan Thị Ngọc Phượng | C14: 11100082854 | D14: =IFERROR((VLOOKUP($C14,'Mẫu 4A'!$D$10:$L$400,9,0)),0) -> Xuất sắc | E14: " | F14: =IF($D14="Xuất sắc","X","") -> X | G14: =IF($D14="Tốt","X","") | H14: =IF($D14="Hoàn thành","X","") | I14: =IF($D14="Không hoàn thành","X","")
A15: 8 | B15: Vũ Như Quỳnh | C15: 11100082861 | D15: =IFERROR((VLOOKUP($C15,'Mẫu 4A'!$D$10:$L$400,9,0)),0) -> Xuất sắc | E15: " | F15: =IF($D15="Xuất sắc","X","") -> X | G15: =IF($D15="Tốt","X","") | H15: =IF($D15="Hoàn thành","X","") | I15: =IF($D15="Không hoàn thành","X","")
A16: 9 | B16: Trần Thị Ánh Phượng | C16: 11100115699 | D16: =IFERROR((VLOOKUP($C16,'Mẫu 4A'!$D$10:$L$400,9,0)),0) -> Xuất sắc | E16: " | F16: =IF($D16="Xuất sắc","X","") -> X | G16: =IF($D16="Tốt","X","") | H16: =IF($D16="Hoàn thành","X","") | I16: =IF($D16="Không hoàn thành","X","")
A17: 10 | B17: Nguyễn Thị Bích Liễu | C17: 40400000515 | D17: =IFERROR((VLOOKUP($C17,'Mẫu 4A'!$D$10:$L$400,9,0)),0) -> Xuất sắc | E17: " | F17: =IF($D17="Xuất sắc","X","") -> X | G17: =IF($D17="Tốt","X","") | H17: =IF($D17="Hoàn thành","X","") | I17: =IF($D17="Không hoàn thành","X","") | J17: Nghỉ thai sản từ 04/02/19 đến 04/8/2019 (đánh giá 2 tháng)
A18: 11 | B18: Trần Thị Phương Oanh | C18: 11100071604 | D18: =IFERROR((VLOOKUP($C18,'Mẫu 4A'!$D$10:$L$400,9,0)),0) -> Xuất sắc | E18: " | F18: =IF($D18="Xuất sắc","X","") -> X | G18: =IF($D18="Tốt","X","") | H18: =IF($D18="Hoàn thành","X","") | I18: =IF($D18="Không hoàn thành","X","")
A19: 12 | B19: Lưu Hoàng Hải Yến | C19: 80300000835 | D19: =IFERROR((VLOOKUP($C19,'Mẫu 4A'!$D$10:$L$400,9,0)),0) -> Xuất sắc | E19: " | F19: =IF($D19="Xuất sắc","X","") -> X | G19: =IF($D19="Tốt","X","") | H19: =IF($D19="Hoàn thành","X","") | I19: =IF($D19="Không hoàn thành","X","")
A20: 13 | B20: Huỳnh Thị Minh Ly | C20: 11100115713 | D20: =IFERROR((VLOOKUP($C20,'Mẫu 4A'!$D$10:$L$400,9,0)),0) -> Xuất sắc | E20: " | F20: =IF($D20="Xuất sắc","X","") -> X | G20: =IF($D20="Tốt","X","") | H20: =IF($D20="Hoàn thành","X","") | I20: =IF($D20="Không hoàn thành","X","")
A21: 14 | B21: Nguyễn Văn Chì | C21: 40700000887 | D21: =IFERROR((VLOOKUP($C21,'Mẫu 4A'!$D$10:$L$400,9,0)),0) -> Xuất sắc | E21: " | F21: =IF($D21="Xuất sắc","X","") -> X | G21: =IF($D21="Tốt","X","") | H21: =IF($D21="Hoàn thành","X","") | I21: =IF($D21="Không hoàn thành","X","")
A22: 15 | B22: Thân Thị Nhung | C22: 40700000683 | D22: =IFERROR((VLOOKUP($C22,'Mẫu 4A'!$D$10:$L$400,9,0)),0) -> Xuất sắc | E22: " | F22: =IF($D22="Xuất sắc","X","") -> X | G22: =IF($D22="Tốt","X","") | H22: =IF($D22="Hoàn thành","X","") | I22: =IF($D22="Không hoàn thành","X","")
A23: 16 | B23: Nguyễn Thị Vân | C23: 80500000584 | D23: =IFERROR((VLOOKUP($C23,'Mẫu 4A'!$D$10:$L$400,9,0)),0) -> Không đánh giá | E23: " | F23: Không đánh giá, nghỉ thai sản từ tháng 02/4/2019
A24: 17 | B24: Lê Xuân Thiện | C24: 11100000742 | D24: =IFERROR((VLOOKUP($C24,'Mẫu 4A'!$D$10:$L$400,9,0)),0) -> Xuất sắc | E24: P. CTCT-HSSV | F24: =IF($D24="Xuất sắc","X","") -> X | G24: =IF($D24="Tốt","X","") | H24: =IF($D24="Hoàn thành","X","") | I24: =IF($D24="Không hoàn thành","X","")
A25: 18 | B25: Hồ Minh Lợi | C25: 11100000704 | D25: =IFERROR((VLOOKUP($C25,'Mẫu 4A'!$D$10:$L$400,9,0)),0) -> Xuất sắc | E25: " | F25: =IF($D25="Xuất sắc","X","") -> X | G25: =IF($D25="Tốt","X","") | H25: =IF($D25="Hoàn thành","X","") | I25: =IF($D25="Không hoàn thành","X","")
A26: 19 | B26: Nguyễn Ngọc Hiệp | C26: 11100000751 | D26: =IFERROR((VLOOKUP($C26,'Mẫu 4A'!$D$10:$L$400,9,0)),0) -> Tốt | E26: " | F26: =IF($D26="Xuất sắc","X","") | G26: =IF($D26="Tốt","X","") -> X | H26: =IF($D26="Hoàn thành","X","") | I26: =IF($D26="Không hoàn thành","X","")
A27: 20 | B27: Nguyễn Thị Kim Anh | C27: 11100115721 | D27: =IFERROR((VLOOKUP($C27,'Mẫu 4A'!$D$10:$L$400,9,0)),0) -> Xuất sắc | E27: " | F27: =IF($D27="Xuất sắc","X","") -> X | G27: =IF($D27="Tốt","X","") | H27: =IF($D27="Hoàn thành","X","") | I27: =IF($D27="Không hoàn thành","X","")
A28: 21 | B28: Phạm Thị Lê Chi | C28: 11100110014 | D28: =IFERROR((VLOOKUP($C28,'Mẫu 4A'!$D$10:$L$400,9,0)),0) -> Hoàn thành | E28: " | F28: =IF($D28="Xuất sắc","X","") | G28: =IF($D28="Tốt","X","") | H28: =IF($D28="Hoàn thành","X","") -> X | I28: =IF($D28="Không hoàn thành","X","") | J28: Thi đua tháng 8 xếp loại B
A29: 22 | B29: Bùi Thị Dương | C29: 11100115717 | D29: =IFERROR((VLOOKUP($C29,'Mẫu 4A'!$D$10:$L$400,9,0)),0) -> Tốt | E29: " | F29: =IF($D29="Xuất sắc","X","") | G29: =IF($D29="Tốt","X","") -> X | H29: =IF($D29="Hoàn thành","X","") | I29: =IF($D29="Không hoàn thành","X","")
A30: 23 | B30: Hà Nhật Thanh | C30: 11100000741 | D30: =IFERROR((VLOOKUP($C30,'Mẫu 4A'!$D$10:$L$400,9,0)),0) -> Xuất sắc | E30: " | F30: =IF($D30="Xuất sắc","X","") -> X | G30: =IF($D30="Tốt","X","") | H30: =IF($D30="Hoàn thành","X","") | I30: =IF($D30="Không hoàn thành","X","")
A31: 24 | B31: Trần Thị Thu Hà | C31: 11100071600 | D31: =IFERROR((VLOOKUP($C31,'Mẫu 4A'!$D$10:$L$400,9,0)),0) -> Xuất sắc | E31: " | F31: =IF($D31="Xuất sắc","X","") -> X | G31: =IF($D31="Tốt","X","") | H31: =IF($D31="Hoàn thành","X","") | I31: =IF($D31="Không hoàn thành","X","")
A32: 25 | B32: Phan Đức Long | C32: 11100000789 | D32: =IFERROR((VLOOKUP($C32,'Mẫu 4A'!$D$10:$L$400,9,0)),0) -> Tốt | E32: " | F32: =IF($D32="Xuất sắc","X","") | G32: =IF($D32="Tốt","X","") -> X | H32: =IF($D32="Hoàn thành","X","") | I32: =IF($D32="Không hoàn thành","X","")
A33: 26 | B33: Nguyễn Tất Thắng | C33: 11100000772 | D33: =IFERROR((VLOOKUP($C33,'Mẫu 4A'!$D$10:$L$400,9,0)),0) -> Xuất sắc | E33: " | F33: =IF($D33="Xuất sắc","X","") -> X | G33: =IF($D33="Tốt","X","") | H33: =IF($D33="Hoàn thành","X","") | I33: =IF($D33="Không hoàn thành","X","")
A34: 27 | B34: Nguyễn Chí Nhân | C34: 11100066861 | D34: =IFERROR((VLOOKUP($C34,'Mẫu 4A'!$D$10:$L$400,9,0)),0) -> Tốt | E34: P. KT&ĐBCL | F34: =IF($D34="Xuất sắc","X","") | G34: =IF($D34="Tốt","X","") -> X | H34: =IF($D34="Hoàn thành","X","") | I34: =IF($D34="Không hoàn thành","X","")
A35: 28 | B35: Võ Thị Anh Đào | C35: 11100000701 | D35: =IFERROR((VLOOKUP($C35,'Mẫu 4A'!$D$10:$L$400,9,0)),0) -> Xuất sắc | E35: " | F35: =IF($D35="Xuất sắc","X","") -> X | G35: =IF($D35="Tốt","X","") | H35: =IF($D35="Hoàn thành","X","") | I35: =IF($D35="Không hoàn thành","X","")
A36: 29 | B36: Nguyễn Thanh Sơn | C36: 11100122989 | D36: =IFERROR((VLOOKUP($C36,'Mẫu 4A'!$D$10:$L$400,9,0)),0) -> Tốt | E36: " | F36: =IF($D36="Xuất sắc","X","") | G36: =IF($D36="Tốt","X","") -> X | H36: =IF($D36="Hoàn thành","X","") | I36: =IF($D36="Không hoàn thành","X","")
A37: 30 | B37: Lương Minh Dũng | C37: 40800000245 | D37: =IFERROR((VLOOKUP($C37,'Mẫu 4A'!$D$10:$L$400,9,0)),0) -> Xuất sắc | E37: " | F37: =IF($D37="Xuất sắc","X","") -> X | G37: =IF($D37="Tốt","X","") | H37: =IF($D37="Hoàn thành","X","") | I37: =IF($D37="Không hoàn thành","X","")
A38: 31 | B38: Nguyễn Thị Tuyết | C38: 50700000482 | D38: =IFERROR((VLOOKUP($C38,'Mẫu 4A'!$D$10:$L$400,9,0)),0) -> Xuất sắc | E38: " | F38: =IF($D38="Xuất sắc","X","") -> X | G38: =IF($D38="Tốt","X","") | H38: =IF($D38="Hoàn thành","X","") | I38: =IF($D38="Không hoàn thành","X","")
A39: 32 | B39: Vũ Thị Thu Thủy | C39: 11100115710 | D39: =IFERROR((VLOOKUP($C39,'Mẫu 4A'!$D$10:$L$400,9,0)),0) -> Tốt | E39: " | F39: =IF($D39="Xuất sắc","X","") | G39: =IF($D39="Tốt","X","") -> X | H39: =IF($D39="Hoàn thành","X","") | I39: =IF($D39="Không hoàn thành","X","")
A40: 33 | B40: Nguyễn Kính | C40: 50800000800 | D40: =IFERROR((VLOOKUP($C40,'Mẫu 4A'!$D$10:$L$400,9,0)),0) -> Xuất sắc | E40: P. KH-TC | F40: =IF($D40="Xuất sắc","X","") -> X | G40: =IF($D40="Tốt","X","") | H40: =IF($D40="Hoàn thành","X","") | I40: =IF($D40="Không hoàn thành","X","")
A41: 34 | B41: Nguyễn Thị Kim Dung | C41: 11100071598 | D41: =IFERROR((VLOOKUP($C41,'Mẫu 4A'!$D$10:$L$400,9,0)),0) -> Tốt | E41: " | F41: =IF($D41="Xuất sắc","X","") | G41: =IF($D41="Tốt","X","") -> X | H41: =IF($D41="Hoàn thành","X","") | I41: =IF($D41="Không hoàn thành","X","")
A42: 35 | B42: Hồng Mộng Tuyết Dung | C42: 11100115722 | D42: =IFERROR((VLOOKUP($C42,'Mẫu 4A'!$D$10:$L$400,9,0)),0) -> Xuất sắc | E42: " | F42: =IF($D42="Xuất sắc","X","") -> X | G42: =IF($D42="Tốt","X","") | H42: =IF($D42="Hoàn thành","X","") | I42: =IF($D42="Không hoàn thành","X","")
A43: 36 | B43: Đỗ Thị Ngọc | C43: 50800001163 | D43: =IFERROR((VLOOKUP($C43,'Mẫu 4A'!$D$10:$L$400,9,0)),0) -> Xuất sắc | E43: " | F43: =IF($D43="Xuất sắc","X","") -> X | G43: =IF($D43="Tốt","X","") | H43: =IF($D43="Hoàn thành","X","") | I43: =IF($D43="Không hoàn thành","X","")
A44: 37 | B44: Trần Thị Minh Thoa | C44: 11100121674 | D44: =IFERROR((VLOOKUP($C44,'Mẫu 4A'!$D$10:$L$400,9,0)),0) -> Xuất sắc | E44: " | F44: =IF($D44="Xuất sắc","X","") -> X | G44: =IF($D44="Tốt","X","") | H44: =IF($D44="Hoàn thành","X","") | I44: =IF($D44="Không hoàn thành","X","")
A45: 38 | B45: Nguyễn Thị Hồng Thắm | C45: 40700000691 | D45: =IFERROR((VLOOKUP($C45,'Mẫu 4A'!$D$10:$L$400,9,0)),0) -> Xuất sắc | E45: " | F45: =IF($D45="Xuất sắc","X","") -> X | G45: =IF($D45="Tốt","X","") | H45: =IF($D45="Hoàn thành","X","") | I45: =IF($D45="Không hoàn thành","X","")
A46: 39 | B46: Phạm Lê Đông Hưng | C46: 50700000361 | D46: =IFERROR((VLOOKUP($C46,'Mẫu 4A'!$D$10:$L$400,9,0)),0) -> Xuất sắc | E46: " | F46: =IF($D46="Xuất sắc","X","") -> X | G46: =IF($D46="Tốt","X","") | H46: =IF($D46="Hoàn thành","X","") | I46: =IF($D46="Không hoàn thành","X","")
A47: 40 | B47: Lê Quang Liêm | C47: 50200000160 | D47: =IFERROR((VLOOKUP($C47,'Mẫu 4A'!$D$10:$L$400,9,0)),0) -> Xuất sắc | E47: P. QT-DV | F47: =IF($D47="Xuất sắc","X","") -> X | G47: =IF($D47="Tốt","X","") | H47: =IF($D47="Hoàn thành","X","") | I47: =IF($D47="Không hoàn thành","X","")
A48: 41 | B48: Nguyễn Văn Thành | C48: 11100000723 | D48: =IFERROR((VLOOKUP($C48,'Mẫu 4A'!$D$10:$L$400,9,0)),0) -> Tốt | E48: " | F48: =IF($D48="Xuất sắc","X","") | G48: =IF($D48="Tốt","X","") -> X | H48: =IF($D48="Hoàn thành","X","") | I48: =IF($D48="Không hoàn thành","X","")
A49: 42 | B49: Nguyễn Trọng Phú | C49: 11100083294 | D49: =IFERROR((VLOOKUP($C49,'Mẫu 4A'!$D$10:$L$400,9,0)),0) -> Tốt | E49: " | F49: =IF($D49="Xuất sắc","X","") | G49: =IF($D49="Tốt","X","") -> X | H49: =IF($D49="Hoàn thành","X","") | I49: =IF($D49="Không hoàn thành","X","")
A50: 43 | B50: Đỗ Văn Trong | C50: 11100071601 | D50: =IFERROR((VLOOKUP($C50,'Mẫu 4A'!$D$10:$L$400,9,0)),0) -> Tốt | E50: " | F50: =IF($D50="Xuất sắc","X","") | G50: =IF($D50="Tốt","X","") -> X | H50: =IF($D50="Hoàn thành","X","") | I50: =IF($D50="Không hoàn thành","X","")
A51: 44 | B51: Giáp Văn Thịnh | C51: 11100115709 | D51: =IFERROR((VLOOKUP($C51,'Mẫu 4A'!$D$10:$L$400,9,0)),0) -> Xuất sắc | E51: " | F51: =IF($D51="Xuất sắc","X","") -> X | G51: =IF($D51="Tốt","X","") | H51: =IF($D51="Hoàn thành","X","") | I51: =IF($D51="Không hoàn thành","X","")
... A69: 62 | B69: Võ Thị Lệ Trân | C69: 50700000428 | D69: =IFERROR((VLOOKUP($C69,'Mẫu 4A'!$D$10:$L$400,9,0)),0) -> Xuất sắc | E69: " | F69: =IF($D69="Xuất sắc","X","") -> X | G69: =IF($D69="Tốt","X","") | H69: =IF($D69="Hoàn thành","X","") | I69: =IF($D69="Không hoàn thành","X","")
A70: 63 | B70: Thái Thị My Sa | C70: 80600000227 | D70: =IFERROR((VLOOKUP($C70,'Mẫu 4A'!$D$10:$L$400,9,0)),0) -> Tốt | E70: " | F70: =IF($D70="Xuất sắc","X","") | G70: =IF($D70="Tốt","X","") -> X | H70: =IF($D70="Hoàn thành","X","") | I70: =IF($D70="Không hoàn thành","X","") | J70: Nghỉ thai sản từ tháng 16/02/19 đến 16/8/2019 (đánh giá 2 tháng)
A71: 64 | B71: Nguyễn Thị Hải Hà | C71: 11100115720 | D71: =IFERROR((VLOOKUP($C71,'Mẫu 4A'!$D$10:$L$400,9,0)),0) -> Xuất sắc | E71: " | F71: =IF($D71="Xuất sắc","X","") -> X | G71: =IF($D71="Tốt","X","") | H71: =IF($D71="Hoàn thành","X","") | I71: =IF($D71="Không hoàn thành","X","")
A72: 65 | B72: Nguyễn Ngọc Trang | C72: 11100000746 | D72: =IFERROR((VLOOKUP($C72,'Mẫu 4A'!$D$10:$L$400,9,0)),0) -> Tốt | E72: Phòng QLKH-HTQT | F72: =IF($D72="Xuất sắc","X","") | G72: =IF($D72="Tốt","X","") -> X | H72: =IF($D72="Hoàn thành","X","") | I72: =IF($D72="Không hoàn thành","X","") | J72: HĐ thi đua nhắc nhở tháng 9/2019
A73: 66 | B73: Huỳnh Thị Cẩm Hoa | C73: 31000001254 | D73: =IFERROR((VLOOKUP($C73,'Mẫu 4A'!$D$10:$L$400,9,0)),0) -> Tốt | E73: " | F73: =IF($D73="Xuất sắc","X","") | G73: =IF($D73="Tốt","X","") -> X | H73: =IF($D73="Hoàn thành","X","") | I73: =IF($D73="Không hoàn thành","X","")
A74: 67 | B74: Nguyễn Thanh Lâm | C74: 11100065744 | D74: =IFERROR((VLOOKUP($C74,'Mẫu 4A'!$D$10:$L$400,9,0)),0) -> Xuất sắc | E74: Tổ TT-PC | F74: =IF($D74="Xuất sắc","X","") -> X | G74: =IF($D74="Tốt","X","") | H74: =IF($D74="Hoàn thành","X","") | I74: =IF($D74="Không hoàn thành","X","")
A75: 68 | B75: Phạm Minh Nghĩa | C75: 11100000702 | D75: =IFERROR((VLOOKUP($C75,'Mẫu 4A'!$D$10:$L$400,9,0)),0) -> Tốt | E75: " | F75: =IF($D75="Xuất sắc","X","") | G75: =IF($D75="Tốt","X","") -> X | H75: =IF($D75="Hoàn thành","X","") | I75: =IF($D75="Không hoàn thành","X","")
A76: 69 | B76: Nguyễn Thị Ngọc Anh | C76: 50700000360 | D76: =IFERROR((VLOOKUP($C76,'Mẫu 4A'!$D$10:$L$400,9,0)),0) -> Tốt | E76: " | F76: =IF($D76="Xuất sắc","X","") | G76: =IF($D76="Tốt","X","") -> X | H76: =IF($D76="Hoàn thành","X","") | I76: =IF($D76="Không hoàn thành","X","")
A77: 70 | B77: Nguyễn Văn Chiến | C77: 40800000177 | D77: =IFERROR((VLOOKUP($C77,'Mẫu 4A'!$D$10:$L$400,9,0)),0) -> Tốt | E77: TT QHDN | F77: =IF($D77="Xuất sắc","X","") | G77: =IF($D77="Tốt","X","") -> X | H77: =IF($D77="Hoàn thành","X","") | I77: =IF($D77="Không hoàn thành","X","")
A78: 71 | B78: Mai Nguyễn Hoàng Yến | C78: 40800000380 | D78: =IFERROR((VLOOKUP($C78,'Mẫu 4A'!$D$10:$L$400,9,0)),0) -> Tốt | E78: " | F78: =IF($D78="Xuất sắc","X","") | G78: =IF($D78="Tốt","X","") -> X | H78: =IF($D78="Hoàn thành","X","") | I78: =IF($D78="Không hoàn thành","X","") | J78: HĐ thi đua nhắc nhở tháng 8/2019
A79: 72 | B79: Nguyễn Hữu Thiện | C79: 11100083326 | D79: =IFERROR((VLOOKUP($C79,'Mẫu 4A'!$D$10:$L$400,9,0)),0) -> Xuất sắc | E79: TT ĐH và QLDL | F79: =IF($D79="Xuất sắc","X","") -> X | G79: =IF($D79="Tốt","X","") | H79: =IF($D79="Hoàn thành","X","") | I79: =IF($D79="Không hoàn thành","X","")
A80: 73 | B80: Trương Hữu Lộc | C80: 40800000361 | D80: =IFERROR((VLOOKUP($C80,'Mẫu 4A'!$D$10:$L$400,9,0)),0) -> Xuất sắc | E80: " | F80: =IF($D80="Xuất sắc","X","") -> X | G80: =IF($D80="Tốt","X","") | H80: =IF($D80="Hoàn thành","X","") | I80: =IF($D80="Không hoàn thành","X","")
A81: 74 | B81: Trang Thị Xuân Uyên | C81: 11100000785 | D81: =IFERROR((VLOOKUP($C81,'Mẫu 4A'!$D$10:$L$400,9,0)),0) -> Tốt | E81: TT Y tế | F81: =IF($D81="Xuất sắc","X","") | G81: =IF($D81="Tốt","X","") -> X | H81: =IF($D81="Hoàn thành","X","") | I81: =IF($D81="Không hoàn thành","X","")
A82: 75 | B82: Bùi Thị Lan Anh | C82: 11100115711 | D82: =IFERROR((VLOOKUP($C82,'Mẫu 4A'!$D$10:$L$400,9,0)),0) -> Tốt | E82: " | F82: =IF($D82="Xuất sắc","X","") | G82: =IF($D82="Tốt","X","") -> X | H82: =IF($D82="Hoàn thành","X","") | I82: =IF($D82="Không hoàn thành","X","")
A83: 76 | B83: Đỗ Tuấn Việt | C83: 11100082715 | D83: =IFERROR((VLOOKUP($C83,'Mẫu 4A'!$D$10:$L$400,9,0)),0) -> Tốt | E83: TT Thư viện | F83: =IF($D83="Xuất sắc","X","") | G83: =IF($D83="Tốt","X","") -> X | H83: =IF($D83="Hoàn thành","X","") | I83: =IF($D83="Không hoàn thành","X","")
A84: 77 | B84: Trần Thị Diễm Thúy | C84: 40700000674 | D84: =IFERROR((VLOOKUP($C84,'Mẫu 4A'!$D$10:$L$400,9,0)),0) -> Tốt | E84: " | F84: =IF($D84="Xuất sắc","X","") | G84: =IF($D84="Tốt","X","") -> X | H84: =IF($D84="Hoàn thành","X","") | I84: =IF($D84="Không hoàn thành","X","")
A85: 78 | B85: Nguyễn Tứ Cảnh | C85: 11100000754 | D85: =IFERROR((VLOOKUP($C85,'Mẫu 4A'!$D$10:$L$400,9,0)),0) -> Tốt | E85: " | F85: =IF($D85="Xuất sắc","X","") | G85: =IF($D85="Tốt","X","") -> X | H85: =IF($D85="Hoàn thành","X","") | I85: =IF($D85="Không hoàn thành","X","")
A86: 79 | B86: Đặng Thu Hà | C86: 40400000544 | D86: =IFERROR((VLOOKUP($C86,'Mẫu 4A'!$D$10:$L$400,9,0)),0) -> Xuất sắc | E86: " | F86: =IF($D86="Xuất sắc","X","") -> X | G86: =IF($D86="Tốt","X","") | H86: =IF($D86="Hoàn thành","X","") | I86: =IF($D86="Không hoàn thành","X","")
A87: 80 | B87: Đỗ Thị Tâm | C87: 11100083302 | D87: =IFERROR((VLOOKUP($C87,'Mẫu 4A'!$D$10:$L$400,9,0)),0) -> Tốt | E87: TT Đào tạo Lý Tự Trọng | F87: =IF($D87="Xuất sắc","X","") | G87: =IF($D87="Tốt","X","") -> X | H87: =IF($D87="Hoàn thành","X","") | I87: =IF($D87="Không hoàn thành","X","")
A88: 81 | B88: Trần Kim Thu Liễu | C88: 11100000718 | D88: =IFERROR((VLOOKUP($C88,'Mẫu 4A'!$D$10:$L$400,9,0)),0) -> Xuất sắc | E88: Khoa KHCB | F88: =IF($D88="Xuất sắc","X","") -> X | G88: =IF($D88="Tốt","X","") | H88: =IF($D88="Hoàn thành","X","") | I88: =IF($D88="Không hoàn thành","X","")
A89: 82 | B89: Phạm Thị Thu Nga | C89: 11100000799 | D89: =IFERROR((VLOOKUP($C89,'Mẫu 4A'!$D$10:$L$400,9,0)),0) -> Tốt | E89: " | F89: =IF($D89="Xuất sắc","X","") | G89: =IF($D89="Tốt","X","") -> X | H89: =IF($D89="Hoàn thành","X","") | I89: =IF($D89="Không hoàn thành","X","") | J89: Nghỉ thai sản từ 19/02/2019 đến ngày 19/8/2019 (đánh giá 2 tháng)
A90: 83 | B90: Nguyễn Thị Huyền Nga | C90: 11100067878 | D90: =IFERROR((VLOOKUP($C90,'Mẫu 4A'!$D$10:$L$400,9,0)),0) -> Tốt | E90: " | F90: =IF($D90="Xuất sắc","X","") | G90: =IF($D90="Tốt","X","") -> X | H90: =IF($D90="Hoàn thành","X","") | I90: =IF($D90="Không hoàn thành","X","")
A91: 84 | B91: Lê Thái Hùng | C91: 11100067268 | D91: =IFERROR((VLOOKUP($C91,'Mẫu 4A'!$D$10:$L$400,9,0)),0) -> Tốt | E91: " | F91: =IF($D91="Xuất sắc","X","") | G91: =IF($D91="Tốt","X","") -> X | H91: =IF($D91="Hoàn thành","X","") | I91: =IF($D91="Không hoàn thành","X","")
A92: 85 | B92: Nguyễn Văn Hậu | C92: 31100001602 | D92: =IFERROR((VLOOKUP($C92,'Mẫu 4A'!$D$10:$L$400,9,0)),0) -> Tốt | E92: " | F92: =IF($D92="Xuất sắc","X","") | G92: =IF($D92="Tốt","X","") -> X | H92: =IF($D92="Hoàn thành","X","") | I92: =IF($D92="Không hoàn thành","X","")
A93: 86 | B93: Dương Đức Kiên | C93: 31100001640 | D93: =IFERROR((VLOOKUP($C93,'Mẫu 4A'!$D$10:$L$400,9,0)),0) -> Tốt | E93: " | F93: =IF($D93="Xuất sắc","X","") | G93: =IF($D93="Tốt","X","") -> X | H93: =IF($D93="Hoàn thành","X","") | I93: =IF($D93="Không hoàn thành","X","") | J93: HĐ thi đua nhắc nhở tháng 8/2019
A94: 87 | B94: Hà Như Mai | C94: 11100096296 | D94: =IFERROR((VLOOKUP($C94,'Mẫu 4A'!$D$10:$L$400,9,0)),0) -> Tốt | E94: " | F94: =IF($D94="Xuất sắc","X","") | G94: =IF($D94="Tốt","X","") -> X | H94: =IF($D94="Hoàn thành","X","") | I94: =IF($D94="Không hoàn thành","X","")
A95: 88 | B95: Cao Thị Nga | C95: 11100000757 | D95: =IFERROR((VLOOKUP($C95,'Mẫu 4A'!$D$10:$L$400,9,0)),0) -> Tốt | E95: " | F95: =IF($D95="Xuất sắc","X","") | G95: =IF($D95="Tốt","X","") -> X | H95: =IF($D95="Hoàn thành","X","") | I95: =IF($D95="Không hoàn thành","X","")
A96: 89 | B96: Nguyễn Thị Cẩm Thạch | C96: 20500006963 | D96: =IFERROR((VLOOKUP($C96,'Mẫu 4A'!$D$10:$L$400,9,0)),0) -> Tốt | E96: " | F96: =IF($D96="Xuất sắc","X","") | G96: =IF($D96="Tốt","X","") -> X | H96: =IF($D96="Hoàn thành","X","") | I96: =IF($D96="Không hoàn thành","X","")
A97: 90 | B97: Nguyễn Thị Thủy | C97: 11100109681 | D97: =IFERROR((VLOOKUP($C97,'Mẫu 4A'!$D$10:$L$400,9,0)),0) -> Tốt | E97: " | F97: =IF($D97="Xuất sắc","X","") | G97: =IF($D97="Tốt","X","") -> X | H97: =IF($D97="Hoàn thành","X","") | I97: =IF($D97="Không hoàn thành","X","")
A98: 91 | B98: Nguyễn Văn Đông | C98: 11100000796 | D98: =IFERROR((VLOOKUP($C98,'Mẫu 4A'!$D$10:$L$400,9,0)),0) -> Tốt | E98: " | F98: =IF($D98="Xuất sắc","X","") | G98: =IF($D98="Tốt","X","") -> X | H98: =IF($D98="Hoàn thành","X","") | I98: =IF($D98="Không hoàn thành","X","")
A99: 92 | B99: Đặng Thị Kiến Trúc | C99: 11100067776 | D99: =IFERROR((VLOOKUP($C99,'Mẫu 4A'!$D$10:$L$400,9,0)),0) -> Tốt | E99: " | F99: =IF($D99="Xuất sắc","X","") | G99: =IF($D99="Tốt","X","") -> X | H99: =IF($D99="Hoàn thành","X","") | I99: =IF($D99="Không hoàn thành","X","")
A100: 93 | B100: Nguyễn Thanh Tú | C100: 11100000752 | D100: =IFERROR((VLOOKUP($C100,'Mẫu 4A'!$D$10:$L$400,9,0)),0) -> Tốt | E100: " | F100: =IF($D100="Xuất sắc","X","") | G100: =IF($D100="Tốt","X","") -> X | H100: =IF($D100="Hoàn thành","X","") | I100: =IF($D100="Không hoàn thành","X","")
A101: 94 | B101: Trần Thị Ánh Tuyết | C101: 11100096308 | D101: =IFERROR((VLOOKUP($C101,'Mẫu 4A'!$D$10:$L$400,9,0)),0) -> Tốt | E101: " | F101: =IF($D101="Xuất sắc","X","") | G101: =IF($D101="Tốt","X","") -> X | H101: =IF($D101="Hoàn thành","X","") | I101: =IF($D101="Không hoàn thành","X","") | J101: Hội đồng thi đua nhắc nhở tháng 8/2019
A102: 95 | B102: Trịnh Khắc Vũ | C102: 11100109967 | D102: =IFERROR((VLOOKUP($C102,'Mẫu 4A'!$D$10:$L$400,9,0)),0) -> Tốt | E102: " | F102: =IF($D102="Xuất sắc","X","") | G102: =IF($D102="Tốt","X","") -> X | H102: =IF($D102="Hoàn thành","X","") | I102: =IF($D102="Không hoàn thành","X","")
A103: 96 | B103: Nguyễn Phương Hà | C103: 11100067248 | D103: =IFERROR((VLOOKUP($C103,'Mẫu 4A'!$D$10:$L$400,9,0)),0) -> Tốt | E103: " | F103: =IF($D103="Xuất sắc","X","") | G103: =IF($D103="Tốt","X","") -> X | H103: =IF($D103="Hoàn thành","X","") | I103: =IF($D103="Không hoàn thành","X","")
A104: 97 | B104: Nguyễn Thị Thanh Tú | C104: 11100082584 | D104: =IFERROR((VLOOKUP($C104,'Mẫu 4A'!$D$10:$L$400,9,0)),0) -> Xuất sắc | E104: " | F104: =IF($D104="Xuất sắc","X","") -> X | G104: =IF($D104="Tốt","X","") | H104: =IF($D104="Hoàn thành","X","") | I104: =IF($D104="Không hoàn thành","X","")
A105: 98 | B105: Giang Phi Hùng | C105: 11100113288 | D105: =IFERROR((VLOOKUP($C105,'Mẫu 4A'!$D$10:$L$400,9,0)),0) -> Tốt | E105: " | F105: =IF($D105="Xuất sắc","X","") | G105: =IF($D105="Tốt","X","") -> X | H105: =IF($D105="Hoàn thành","X","") | I105: =IF($D105="Không hoàn thành","X","")
A106: 99 | B106: Nguyễn Mạnh Phương | C106: 11100097748 | D106: =IFERROR((VLOOKUP($C106,'Mẫu 4A'!$D$10:$L$400,9,0)),0) -> Tốt | E106: " | F106: =IF($D106="Xuất sắc","X","") | G106: =IF($D106="Tốt","X","") -> X | H106: =IF($D106="Hoàn thành","X","") | I106: =IF($D106="Không hoàn thành","X","")
A107: 100 | B107: Nguyễn Phú Tân | C107: 11100097744 | D107: =IFERROR((VLOOKUP($C107,'Mẫu 4A'!$D$10:$L$400,9,0)),0) -> Tốt | E107: " | F107: =IF($D107="Xuất sắc","X","") | G107: =IF($D107="Tốt","X","") -> X | H107: =IF($D107="Hoàn thành","X","") | I107: =IF($D107="Không hoàn thành","X","")
A108: 101 | B108: Nguyễn Đức Thắng | C108: 11100000763 | D108: =IFERROR((VLOOKUP($C108,'Mẫu 4A'!$D$10:$L$400,9,0)),0) -> Tốt | E108: " | F108: =IF($D108="Xuất sắc","X","") | G108: =IF($D108="Tốt","X","") -> X | H108: =IF($D108="Hoàn thành","X","") | I108: =IF($D108="Không hoàn thành","X","")
A109: 102 | B109: Nguyễn Thị Thu Hà | C109: 60300000097 | D109: =IFERROR((VLOOKUP($C109,'Mẫu 4A'!$D$10:$L$400,9,0)),0) -> Tốt | E109: " | F109: =IF($D109="Xuất sắc","X","") | G109: =IF($D109="Tốt","X","") -> X | H109: =IF($D109="Hoàn thành","X","") | I109: =IF($D109="Không hoàn thành","X","")
A110: 103 | B110: Phạm Thị Thu Hiền | C110: 60300000060 | D110: =IFERROR((VLOOKUP($C110,'Mẫu 4A'!$D$10:$L$400,9,0)),0) -> Không đánh giá | E110: " | F110: Không đánh giá, nghỉ thai sản từ tháng 29/6/2019 | J110: Nghỉ thai sản từ ngày 29/6/2019
A111: 104 | B111: Võ Thị Hồng Lan | C111: 11100091472 | D111: =IFERROR((VLOOKUP($C111,'Mẫu 4A'!$D$10:$L$400,9,0)),0) -> Tốt | E111: " | F111: =IF($D111="Xuất sắc","X","") | G111: =IF($D111="Tốt","X","") -> X | H111: =IF($D111="Hoàn thành","X","") | I111: =IF($D111="Không hoàn thành","X","")
A112: 105 | B112: Nguyễn Thị Thu Tâm | C112: 11100066702 | D112: =IFERROR((VLOOKUP($C112,'Mẫu 4A'!$D$10:$L$400,9,0)),0) -> Hoàn thành | E112: " | F112: =IF($D112="Xuất sắc","X","") | G112: =IF($D112="Tốt","X","") | H112: =IF($D112="Hoàn thành","X","") -> X | I112: =IF($D112="Không hoàn thành","X","") | J112: Thi đua tháng 7 xếp loại B
A113: 106 | B113: Vương Thanh Thủy | C113: 11100000801 | D113: =IFERROR((VLOOKUP($C113,'Mẫu 4A'!$D$10:$L$400,9,0)),0) -> Tốt | E113: " | F113: =IF($D113="Xuất sắc","X","") | G113: =IF($D113="Tốt","X","") -> X | H113: =IF($D113="Hoàn thành","X","") | I113: =IF($D113="Không hoàn thành","X","")
A114: 107 | B114: Lê Nguyễn Mỹ Trâm | C114: 11100119654 | D114: =IFERROR((VLOOKUP($C114,'Mẫu 4A'!$D$10:$L$400,9,0)),0) -> Tốt | E114: " | F114: =IF($D114="Xuất sắc","X","") | G114: =IF($D114="Tốt","X","") -> X | H114: =IF($D114="Hoàn thành","X","") | I114: =IF($D114="Không hoàn thành","X","") | J114: Thi đua tháng 7 xếp loại B
A115: 108 | B115: Nguyễn Thị Bảo Trân | C115: 11100000737 | D115: =IFERROR((VLOOKUP($C115,'Mẫu 4A'!$D$10:$L$400,9,0)),0) -> Tốt | E115: " | F115: =IF($D115="Xuất sắc","X","") | G115: =IF($D115="Tốt","X","") -> X | H115: =IF($D115="Hoàn thành","X","") | I115: =IF($D115="Không hoàn thành","X","")
A116: 109 | B116: Trần Thanh Trúc | C116: 60200000550 | D116: =IFERROR((VLOOKUP($C116,'Mẫu 4A'!$D$10:$L$400,9,0)),0) -> Tốt | E116: " | F116: =IF($D116="Xuất sắc","X","") | G116: =IF($D116="Tốt","X","") -> X | H116: =IF($D116="Hoàn thành","X","") | I116: =IF($D116="Không hoàn thành","X","")
A117: 110 | B117: Lê Văn Bình | C117: 60100001140 | D117: =IFERROR((VLOOKUP($C117,'Mẫu 4A'!$D$10:$L$400,9,0)),0) -> Tốt | E117: " | F117: =IF($D117="Xuất sắc","X","") | G117: =IF($D117="Tốt","X","") -> X | H117: =IF($D117="Hoàn thành","X","") | I117: =IF($D117="Không hoàn thành","X","")
A118: 111 | B118: Ngô Thanh Điền | C118: 11100000810 | D118: =IFERROR((VLOOKUP($C118,'Mẫu 4A'!$D$10:$L$400,9,0)),0) -> Tốt | E118: " | F118: =IF($D118="Xuất sắc","X","") | G118: =IF($D118="Tốt","X","") -> X | H118: =IF($D118="Hoàn thành","X","") | I118: =IF($D118="Không hoàn thành","X","")
...

Sheet  Tổng hợp theo ĐV
A1: TRƯỜNG CAO ĐẲNG LÝ TỰ TRỌNG THÀNH PHỐ HỒ CHÍ MINH PHÒNG TỔ CHỨC - HÀNH CHÍNH - TỔNG HỢP | F1: Mẫu 4B
A3: BÁO CÁO DANH SÁCH TỔNG HỢP KẾT QUẢ ĐÁNH GIÁ, PHÂN LOẠI CỦA CÔNG CHỨC, VIÊN CHỨC Kỳ đánh giá: Quý 3/2019
A5: STT | B5: HỌ VÀ TÊN | D5: Họ và tên | E5: Mã nhân viên | F5: Kết quả xếp loại | G5: Đơn vị/chức vụ | H5: Hoàn thành xuất sắc nhiệm vụ | I5: Hoàn thành tốt nhiệm vụ | J5: Hoàn thành nhiệm vụ | K5: Không hoàn thành nhiệm vụ | L5: Ghi chú
A6: (1) | B6: (2) | E6: (3) | F6: (14) | G6: (3) | H6: (14) | I6: (3) | J6: (14) | K6: (3) | L6: (14)
A7: I | B7: BAN GIÁM HIỆU
A8: a | B8: Viên chức
A9: 1 | B9: Phạm Hữu | C9: Lộc | D9: =TRIM(B9&" "&C9) -> Phạm Hữu Lộc | E9: 41200001203 | F9: =IFERROR((VLOOKUP($E9,'Mẫu 4A'!$D$10:$L$400,9,0)),0) -> Không đánh giá | G9: Hiệu trưởng | H9: =IF($F9="Xuất sắc","X","") | I9: =IF($F9="Tốt","X","") | J9: =IF($F9="Hoàn thành","X","") | K9: =IF($F9="Không hoàn thành","X","")
A10: 2 | B10: Đinh Hồng | C10: Minh | D10: =TRIM(B10&" "&C10) -> Đinh Hồng Minh | E10: 11100000791 | F10: =IFERROR((VLOOKUP($E10,'Mẫu 4A'!$D$10:$L$400,9,0)),0) -> Xuất sắc | G10: Phó Hiệu trưởng | H10: =IF($F10="Xuất sắc","X","") -> X | I10: =IF($F10="Tốt","X","") | J10: =IF($F10="Hoàn thành","X","") | K10: =IF($F10="Không hoàn thành","X","")
A11: 3 | B11: Đinh Văn | C11: Đệ | D11: =TRIM(B11&" "&C11) -> Đinh Văn Đệ | E11: 50200000021 | F11: =IFERROR((VLOOKUP($E11,'Mẫu 4A'!$D$10:$L$400,9,0)),0) -> Xuất sắc | G11: Phó Hiệu trưởng | H11: =IF($F11="Xuất sắc","X","") -> X | I11: =IF($F11="Tốt","X","") | J11: =IF($F11="Hoàn thành","X","") | K11: =IF($F11="Không hoàn thành","X","")
A12: 4 | B12: Châu Văn | C12: Bảo | D12: =TRIM(B12&" "&C12) -> Châu Văn Bảo | E12: 50200000021 | F12: =IFERROR((VLOOKUP($E12,'Mẫu 4A'!$D$10:$L$400,9,0)),0) -> Xuất sắc | G12: Phó Hiệu trưởng | H12: =IF($F12="Xuất sắc","X","") -> X | I12: =IF($F12="Tốt","X","") | J12: =IF($F12="Hoàn thành","X","") | K12: =IF($F12="Không hoàn thành","X","")
A13: I | B13: PHÒNG TỔ CHỨC - HÀNH CHÍNH - TỔNG HỢP | H13: =IF($F13="Xuất sắc","X","") | I13: =IF($F13="Tốt","X","") | J13: =IF($F13="Hoàn thành","X","") | K13: =IF($F13="Không hoàn thành","X","")
A14: a | B14: Viên chức | H14: =IF($F14="Xuất sắc","X","") | I14: =IF($F14="Tốt","X","") | J14: =IF($F14="Hoàn thành","X","") | K14: =IF($F14="Không hoàn thành","X","")
A15: 1 | B15: Lâm Viết | C15: Dũng | D15: =TRIM(B15&" "&C15) -> Lâm Viết Dũng | E15: 50800000104 | F15: =IFERROR((VLOOKUP($E15,'Mẫu 4A'!$D$10:$L$400,9,0)),0) -> Xuất sắc | G15: P. TC-HC-TH | H15: =IF($F15="Xuất sắc","X","") -> X | I15: =IF($F15="Tốt","X","") | J15: =IF($F15="Hoàn thành","X","") | K15: =IF($F15="Không hoàn thành","X","")
A16: 2 | B16: Nguyễn Thị | C16: Hoa | D16: =TRIM(B16&" "&C16) -> Nguyễn Thị Hoa | E16: 11100000743 | F16: =IFERROR((VLOOKUP($E16,'Mẫu 4A'!$D$10:$L$400,9,0)),0) -> Xuất sắc | G16: " | H16: =IF($F16="Xuất sắc","X","") -> X | I16: =IF($F16="Tốt","X","") | J16: =IF($F16="Hoàn thành","X","") | K16: =IF($F16="Không hoàn thành","X","")
A17: 3 | B17: Nguyễn Thành | C17: Nam | D17: =TRIM(B17&" "&C17) -> Nguyễn Thành Nam | E17: 60400000280 | F17: =IFERROR((VLOOKUP($E17,'Mẫu 4A'!$D$10:$L$400,9,0)),0) -> Tốt | G17: " | H17: =IF($F17="Xuất sắc","X","") | I17: =IF($F17="Tốt","X","") -> X | J17: =IF($F17="Hoàn thành","X","") | K17: =IF($F17="Không hoàn thành","X","")
A18: 4 | B18: Phan Thị Ngọc | C18: Phượng | D18: =TRIM(B18&" "&C18) -> Phan Thị Ngọc Phượng | E18: 11100082854 | F18: =IFERROR((VLOOKUP($E18,'Mẫu 4A'!$D$10:$L$400,9,0)),0) -> Xuất sắc | G18: " | H18: =IF($F18="Xuất sắc","X","") -> X | I18: =IF($F18="Tốt","X","") | J18: =IF($F18="Hoàn thành","X","") | K18: =IF($F18="Không hoàn thành","X","")
A19: 5 | B19: Vũ Như | C19: Quỳnh | D19: =TRIM(B19&" "&C19) -> Vũ Như Quỳnh | E19: 11100082861 | F19: =IFERROR((VLOOKUP($E19,'Mẫu 4A'!$D$10:$L$400,9,0)),0) -> Xuất sắc | G19: " | H19: =IF($F19="Xuất sắc","X","") -> X | I19: =IF($F19="Tốt","X","") | J19: =IF($F19="Hoàn thành","X","") | K19: =IF($F19="Không hoàn thành","X","")
A20: 6 | B20: Trần Thị Ánh | C20: Phượng | D20: =TRIM(B20&" "&C20) -> Trần Thị Ánh Phượng | E20: 11100115699 | F20: =IFERROR((VLOOKUP($E20,'Mẫu 4A'!$D$10:$L$400,9,0)),0) -> Xuất sắc | G20: " | H20: =IF($F20="Xuất sắc","X","") -> X | I20: =IF($F20="Tốt","X","") | J20: =IF($F20="Hoàn thành","X","") | K20: =IF($F20="Không hoàn thành","X","")
A21: 7 | B21: Nguyễn Thị Bích | C21: Liễu | D21: =TRIM(B21&" "&C21) -> Nguyễn Thị Bích Liễu | E21: 40400000515 | F21: =IFERROR((VLOOKUP($E21,'Mẫu 4A'!$D$10:$L$400,9,0)),0) -> Xuất sắc | G21: " | H21: =IF($F21="Xuất sắc","X","") -> X | I21: =IF($F21="Tốt","X","") | J21: =IF($F21="Hoàn thành","X","") | K21: =IF($F21="Không hoàn thành","X","") | L21: Nghỉ thai sản từ 04/02/19 đến 04/8/2019 (đánh giá 2 tháng)
A22: 8 | B22: Trần Thị Phương | C22: Oanh | D22: =TRIM(B22&" "&C22) -> Trần Thị Phương Oanh | E22: 11100071604 | F22: =IFERROR((VLOOKUP($E22,'Mẫu 4A'!$D$10:$L$400,9,0)),0) -> Xuất sắc | G22: " | H22: =IF($F22="Xuất sắc","X","") -> X | I22: =IF($F22="Tốt","X","") | J22: =IF($F22="Hoàn thành","X","") | K22: =IF($F22="Không hoàn thành","X","")
A23: 9 | B23: Lưu Hoàng Hải | C23: Yến | D23: =TRIM(B23&" "&C23) -> Lưu Hoàng Hải Yến | E23: 80300000835 | F23: =IFERROR((VLOOKUP($E23,'Mẫu 4A'!$D$10:$L$400,9,0)),0) -> Xuất sắc | G23: " | H23: =IF($F23="Xuất sắc","X","") -> X | I23: =IF($F23="Tốt","X","") | J23: =IF($F23="Hoàn thành","X","") | K23: =IF($F23="Không hoàn thành","X","")
A24: 10 | B24: Huỳnh Thị Minh | C24: Ly | D24: =TRIM(B24&" "&C24) -> Huỳnh Thị Minh Ly | E24: 11100115713 | F24: =IFERROR((VLOOKUP($E24,'Mẫu 4A'!$D$10:$L$400,9,0)),0) -> Xuất sắc | G24: " | H24: =IF($F24="Xuất sắc","X","") -> X | I24: =IF($F24="Tốt","X","") | J24: =IF($F24="Hoàn thành","X","") | K24: =IF($F24="Không hoàn thành","X","")
A25: 11 | B25: Nguyễn Văn | C25: Chì | D25: =TRIM(B25&" "&C25) -> Nguyễn Văn Chì | E25: 40700000887 | F25: =IFERROR((VLOOKUP($E25,'Mẫu 4A'!$D$10:$L$400,9,0)),0) -> Xuất sắc | G25: " | H25: =IF($F25="Xuất sắc","X","") -> X | I25: =IF($F25="Tốt","X","") | J25: =IF($F25="Hoàn thành","X","") | K25: =IF($F25="Không hoàn thành","X","")
A26: 12 | B26: Thân Thị | C26: Nhung | D26: =TRIM(B26&" "&C26) -> Thân Thị Nhung | E26: 40700000683 | F26: =IFERROR((VLOOKUP($E26,'Mẫu 4A'!$D$10:$L$400,9,0)),0) -> Xuất sắc | G26: " | H26: =IF($F26="Xuất sắc","X","") -> X | I26: =IF($F26="Tốt","X","") | J26: =IF($F26="Hoàn thành","X","") | K26: =IF($F26="Không hoàn thành","X","")
A27: 13 | B27: Nguyễn Thị | C27: Vân | D27: =TRIM(B27&" "&C27) -> Nguyễn Thị Vân | E27: 80500000584 | F27: =IFERROR((VLOOKUP($E27,'Mẫu 4A'!$D$10:$L$400,9,0)),0) -> Không đánh giá | G27: " | H27: =IF($F27="Xuất sắc","X","") | I27: =IF($F27="Tốt","X","") | J27: =IF($F27="Hoàn thành","X","") | K27: =IF($F27="Không hoàn thành","X","") | L27: Nghỉ thai sản từ 02/04/2019 đến 02/10/2019
A28: c | B28: Hợp đồng Sở | H28: =IF($F28="Xuất sắc","X","") | I28: =IF($F28="Tốt","X","") | J28: =IF($F28="Hoàn thành","X","") | K28: =IF($F28="Không hoàn thành","X","")
A29: 14 | B29: Lê Hùng | C29: Thanh | D29: =TRIM(B29&" "&C29) -> Lê Hùng Thanh | E29: 11100000803 | F29: =IFERROR((VLOOKUP($E29,'Mẫu 4A'!$D$10:$L$400,9,0)),0) -> Xuất sắc | G29: P. TC-HC-TH | H29: =IF($F29="Xuất sắc","X","") -> X | I29: =IF($F29="Tốt","X","") | J29: =IF($F29="Hoàn thành","X","") | K29: =IF($F29="Không hoàn thành","X","")
A30: 15 | B30: Huỳnh Thị Xuân | C30: Mai | D30: =TRIM(B30&" "&C30) -> Huỳnh Thị Xuân Mai | E30: 11100071597 | F30: =IFERROR((VLOOKUP($E30,'Mẫu 4A'!$D$10:$L$400,9,0)),0) -> Xuất sắc | G30: " | H30: =IF($F30="Xuất sắc","X","") -> X | I30: =IF($F30="Tốt","X","") | J30: =IF($F30="Hoàn thành","X","") | K30: =IF($F30="Không hoàn thành","X","")
A31: 16 | B31: Trần Văn Cu | C31: Anh | D31: =TRIM(B31&" "&C31) -> Trần Văn Cu Anh | E31: 11100000805 | F31: =IFERROR((VLOOKUP($E31,'Mẫu 4A'!$D$10:$L$400,9,0)),0) -> Xuất sắc | G31: " | H31: =IF($F31="Xuất sắc","X","") -> X | I31: =IF($F31="Tốt","X","") | J31: =IF($F31="Hoàn thành","X","") | K31: =IF($F31="Không hoàn thành","X","")
A32: d | B32: Hợp đồng 68 | H32: =IF($F32="Xuất sắc","X","") | I32: =IF($F32="Tốt","X","") | J32: =IF($F32="Hoàn thành","X","") | K32: =IF($F32="Không hoàn thành","X","")
A33: 17 | B33: Huỳnh Thanh | C33: Nhàn | D33: =TRIM(B33&" "&C33) -> Huỳnh Thanh Nhàn | E33: 79000H05.000574 | F33: =IFERROR((VLOOKUP($E33,'Mẫu 4A'!$D$10:$L$400,9,0)),0) -> Xuất sắc | G33: P. TC-HC-TH | H33: =IF($F33="Xuất sắc","X","") -> X | I33: =IF($F33="Tốt","X","") | J33: =IF($F33="Hoàn thành","X","") | K33: =IF($F33="Không hoàn thành","X","")
A34: 18 | B34: Phạm Hữu Thành | C34: Phú | D34: =TRIM(B34&" "&C34) -> Phạm Hữu Thành Phú | E34: 79000H05.000575 | F34: =IFERROR((VLOOKUP($E34,'Mẫu 4A'!$D$10:$L$400,9,0)),0) -> Xuất sắc | G34: " | H34: =IF($F34="Xuất sắc","X","") -> X | I34: =IF($F34="Tốt","X","") | J34: =IF($F34="Hoàn thành","X","") | K34: =IF($F34="Không hoàn thành","X","")
A35: 19 | B35: Lê Hồng | C35: Phúc | D35: =TRIM(B35&" "&C35) -> Lê Hồng Phúc | E35: 79000H05.000448 | F35: =IFERROR((VLOOKUP($E35,'Mẫu 4A'!$D$10:$L$400,9,0)),0) -> Xuất sắc | G35: " | H35: =IF($F35="Xuất sắc","X","") -> X | I35: =IF($F35="Tốt","X","") | J35: =IF($F35="Hoàn thành","X","") | K35: =IF($F35="Không hoàn thành","X","")
A36: 20 | B36: Nguyễn Hữu Xuân | C36: Vũ | D36: =TRIM(B36&" "&C36) -> Nguyễn Hữu Xuân Vũ | E36: 79000H05.000420 | F36: =IFERROR((VLOOKUP($E36,'Mẫu 4A'!$D$10:$L$400,9,0)),0) -> Tốt | G36: " | H36: =IF($F36="Xuất sắc","X","") | I36: =IF($F36="Tốt","X","") -> X | J36: =IF($F36="Hoàn thành","X","") | K36: =IF($F36="Không hoàn thành","X","")
A37: e | B37: Hợp đồng trường | H37: =IF($F37="Xuất sắc","X","") | I37: =IF($F37="Tốt","X","") | J37: =IF($F37="Hoàn thành","X","") | K37: =IF($F37="Không hoàn thành","X","")
A38: 21 | B38: Phạm Hữu | C38: Tấn | D38: =TRIM(B38&" "&C38) -> Phạm Hữu Tấn | E38: 79000H05.000568 | F38: =IFERROR((VLOOKUP($E38,'Mẫu 4A'!$D$10:$L$400,9,0)),0) -> Tốt | G38: P. TC-HC-TH | H38: =IF($F38="Xuất sắc","X","") | I38: =IF($F38="Tốt","X","") -> X | J38: =IF($F38="Hoàn thành","X","") | K38: =IF($F38="Không hoàn thành","X","")
A39: 22 | B39: Nguyễn Tiến | C39: Hưng | D39: =TRIM(B39&" "&C39) -> Nguyễn Tiến Hưng | E39: 79000H05.000299 | F39: =IFERROR((VLOOKUP($E39,'Mẫu 4A'!$D$10:$L$400,9,0)),0) -> Tốt | G39: " | H39: =IF($F39="Xuất sắc","X","") | I39: =IF($F39="Tốt","X","") -> X | J39: =IF($F39="Hoàn thành","X","") | K39: =IF($F39="Không hoàn thành","X","")
A40: 23 | B40: Đồng Anh | C40: Tuấn | D40: =TRIM(B40&" "&C40) -> Đồng Anh Tuấn | E40: 79000H05.000527 | F40: =IFERROR((VLOOKUP($E40,'Mẫu 4A'!$D$10:$L$400,9,0)),0) -> Tốt | G40: " | H40: =IF($F40="Xuất sắc","X","") | I40: =IF($F40="Tốt","X","") -> X | J40: =IF($F40="Hoàn thành","X","") | K40: =IF($F40="Không hoàn thành","X","") | L40: HĐ thi đua nhắc nhở tháng 9/2019
A41: 24 | B41: Trần Thanh | C41: Phương | D41: =TRIM(B41&" "&C41) -> Trần Thanh Phương | E41: 79000H05.326689 | F41: =IFERROR((VLOOKUP($E41,'Mẫu 4A'!$D$10:$L$400,9,0)),0) -> Tốt | G41: " | H41: =IF($F41="Xuất sắc","X","") | I41: =IF($F41="Tốt","X","") -> X | J41: =IF($F41="Hoàn thành","X","") | K41: =IF($F41="Không hoàn thành","X","")
A42: 25 | B42: Nguyễn Thanh | C42: Hiền | D42: =TRIM(B42&" "&C42) -> Nguyễn Thanh Hiền | E42: 79000H05.110707 | F42: =IFERROR((VLOOKUP($E42,'Mẫu 4A'!$D$10:$L$400,9,0)),0) -> Tốt | G42: " | H42: =IF($F42="Xuất sắc","X","") | I42: =IF($F42="Tốt","X","") -> X | J42: =IF($F42="Hoàn thành","X","") | K42: =IF($F42="Không hoàn thành","X","")
A43: 26 | B43: Lê Hồng | C43: Sơn | D43: =TRIM(B43&" "&C43) -> Lê Hồng Sơn | E43: 79000H05.852722 | F43: =IFERROR((VLOOKUP($E43,'Mẫu 4A'!$D$10:$L$400,9,0)),0) -> Tốt | G43: " | H43: =IF($F43="Xuất sắc","X","") | I43: =IF($F43="Tốt","X","") -> X | J43: =IF($F43="Hoàn thành","X","") | K43: =IF($F43="Không hoàn thành","X","")
A44: II | B44: PHÒNG CÔNG TÁC CHÍNH TRỊ - HỌC SINH SINH VIÊN | H44: =IF($F44="Xuất sắc","X","") | I44: =IF($F44="Tốt","X","") | J44: =IF($F44="Hoàn thành","X","") | K44: =IF($F44="Không hoàn thành","X","")
A45: a | B45: Viên chức | H45: =IF($F45="Xuất sắc","X","") | I45: =IF($F45="Tốt","X","") | J45: =IF($F45="Hoàn thành","X","") | K45: =IF($F45="Không hoàn thành","X","")
A46: 1 | B46: Lê Xuân | C46: Thiện | D46: =TRIM(B46&" "&C46) -> Lê Xuân Thiện | E46: 11100000742 | F46: =IFERROR((VLOOKUP($E46,'Mẫu 4A'!$D$10:$L$400,9,0)),0) -> Xuất sắc | G46: P. CTCT-HSSV | H46: =IF($F46="Xuất sắc","X","") -> X | I46: =IF($F46="Tốt","X","") | J46: =IF($F46="Hoàn thành","X","") | K46: =IF($F46="Không hoàn thành","X","")
A47: 2 | B47: Hồ Minh | C47: Lợi | D47: =TRIM(B47&" "&C47) -> Hồ Minh Lợi | E47: 11100000704 | F47: =IFERROR((VLOOKUP($E47,'Mẫu 4A'!$D$10:$L$400,9,0)),0) -> Xuất sắc | G47: " | H47: =IF($F47="Xuất sắc","X","") -> X | I47: =IF($F47="Tốt","X","") | J47: =IF($F47="Hoàn thành","X","") | K47: =IF($F47="Không hoàn thành","X","")
A48: 3 | B48: Nguyễn Ngọc | C48: Hiệp | D48: =TRIM(B48&" "&C48) -> Nguyễn Ngọc Hiệp | E48: 11100000751 | F48: =IFERROR((VLOOKUP($E48,'Mẫu 4A'!$D$10:$L$400,9,0)),0) -> Tốt | G48: " | H48: =IF($F48="Xuất sắc","X","") | I48: =IF($F48="Tốt","X","") -> X | J48: =IF($F48="Hoàn thành","X","") | K48: =IF($F48="Không hoàn thành","X","")
A49: 4 | B49: Nguyễn Thị Kim | C49: Anh | D49: =TRIM(B49&" "&C49) -> Nguyễn Thị Kim Anh | E49: 11100115721 | F49: =IFERROR((VLOOKUP($E49,'Mẫu 4A'!$D$10:$L$400,9,0)),0) -> Xuất sắc | G49: " | H49: =IF($F49="Xuất sắc","X","") -> X | I49: =IF($F49="Tốt","X","") | J49: =IF($F49="Hoàn thành","X","") | K49: =IF($F49="Không hoàn thành","X","")
A50: 5 | B50: Phạm Thị Lê | C50: Chi | D50: =TRIM(B50&" "&C50) -> Phạm Thị Lê Chi | E50: 11100110014 | F50: =IFERROR((VLOOKUP($E50,'Mẫu 4A'!$D$10:$L$400,9,0)),0) -> Hoàn thành | G50: " | H50: =IF($F50="Xuất sắc","X","") | I50: =IF($F50="Tốt","X","") | J50: =IF($F50="Hoàn thành","X","") -> X | K50: =IF($F50="Không hoàn thành","X","") | L50: Thi đua tháng 8 xếp loại B
A51: 6 | B51: Bùi Thị | C51: Dương | D51: =TRIM(B51&" "&C51) -> Bùi Thị Dương | E51: 11100115717 | F51: =IFERROR((VLOOKUP($E51,'Mẫu 4A'!$D$10:$L$400,9,0)),0) -> Tốt | G51: " | H51: =IF($F51="Xuất sắc","X","") | I51: =IF($F51="Tốt","X","") -> X | J51: =IF($F51="Hoàn thành","X","") | K51: =IF($F51="Không hoàn thành","X","")
A52: 7 | B52: Hà Nhật | C52: Thanh | D52: =TRIM(B52&" "&C52) -> Hà Nhật Thanh | E52: 11100000741 | F52: =IFERROR((VLOOKUP($E52,'Mẫu 4A'!$D$10:$L$400,9,0)),0) -> Xuất sắc | G52: " | H52: =IF($F52="Xuất sắc","X","") -> X | I52: =IF($F52="Tốt","X","") | J52: =IF($F52="Hoàn thành","X","") | K52: =IF($F52="Không hoàn thành","X","")
A53: 8 | B53: Trần Thị Thu | C53: Hà | D53: =TRIM(B53&" "&C53) -> Trần Thị Thu Hà | E53: 11100071600 | F53: =IFERROR((VLOOKUP($E53,'Mẫu 4A'!$D$10:$L$400,9,0)),0) -> Xuất sắc | G53: " | H53: =IF($F53="Xuất sắc","X","") -> X | I53: =IF($F53="Tốt","X","") | J53: =IF($F53="Hoàn thành","X","") | K53: =IF($F53="Không hoàn thành","X","")
A54: 9 | B54: Phan Đức | C54: Long | D54: =TRIM(B54&" "&C54) -> Phan Đức Long | E54: 11100000789 | F54: =IFERROR((VLOOKUP($E54,'Mẫu 4A'!$D$10:$L$400,9,0)),0) -> Tốt | G54: " | H54: =IF($F54="Xuất sắc","X","") | I54: =IF($F54="Tốt","X","") -> X | J54: =IF($F54="Hoàn thành","X","") | K54: =IF($F54="Không hoàn thành","X","")
A55: 10 | B55: Nguyễn Tất | C55: Thắng | D55: =TRIM(B55&" "&C55) -> Nguyễn Tất Thắng | E55: 11100000772 | F55: =IFERROR((VLOOKUP($E55,'Mẫu 4A'!$D$10:$L$400,9,0)),0) -> Xuất sắc | G55: " | H55: =IF($F55="Xuất sắc","X","") -> X | I55: =IF($F55="Tốt","X","") | J55: =IF($F55="Hoàn thành","X","") | K55: =IF($F55="Không hoàn thành","X","")
A56: c | B56: Hợp đồng Sở | H56: =IF($F56="Xuất sắc","X","") | I56: =IF($F56="Tốt","X","") | J56: =IF($F56="Hoàn thành","X","") | K56: =IF($F56="Không hoàn thành","X","")
A57: 11 | B57: Trần Văn | C57: Lý | D57: =TRIM(B57&" "&C57) -> Trần Văn Lý | E57: 11100000812 | F57: =IFERROR((VLOOKUP($E57,'Mẫu 4A'!$D$10:$L$400,9,0)),0) -> Tốt | G57: P. CTCT-HSSV | H57: =IF($F57="Xuất sắc","X","") | I57: =IF($F57="Tốt","X","") -> X | J57: =IF($F57="Hoàn thành","X","") | K57: =IF($F57="Không hoàn thành","X","")
A58: 12 | B58: Lê Thị | C58: Nữ | D58: =TRIM(B58&" "&C58) -> Lê Thị Nữ | E58: 11100071602 | F58: =IFERROR((VLOOKUP($E58,'Mẫu 4A'!$D$10:$L$400,9,0)),0) -> Xuất sắc | G58: " | H58: =IF($F58="Xuất sắc","X","") -> X | I58: =IF($F58="Tốt","X","") | J58: =IF($F58="Hoàn thành","X","") | K58: =IF($F58="Không hoàn thành","X","")
A59: e | B59: Hợp đồng Trường | H59: =IF($F59="Xuất sắc","X","") | I59: =IF($F59="Tốt","X","") | J59: =IF($F59="Hoàn thành","X","") | K59: =IF($F59="Không hoàn thành","X","")
A60: 13 | B60: Nguyễn Thị | C60: Nhung | D60: =TRIM(B60&" "&C60) -> Nguyễn Thị Nhung | E60: 79000H05.000552 | F60: =IFERROR((VLOOKUP($E60,'Mẫu 4A'!$D$10:$L$400,9,0)),0) -> Xuất sắc | G60: P. CTCT-HSSV | H60: =IF($F60="Xuất sắc","X","") -> X | I60: =IF($F60="Tốt","X","") | J60: =IF($F60="Hoàn thành","X","") | K60: =IF($F60="Không hoàn thành","X","")
A61: 14 | B61: Nguyễn Trung | C61: Dũng | D61: =TRIM(B61&" "&C61) -> Nguyễn Trung Dũng | E61: 79000H05.000195 | F61: =IFERROR((VLOOKUP($E61,'Mẫu 4A'!$D$10:$L$400,9,0)),0) -> Xuất sắc | G61: " | H61: =IF($F61="Xuất sắc","X","") -> X | I61: =IF($F61="Tốt","X","") | J61: =IF($F61="Hoàn thành","X","") | K61: =IF($F61="Không hoàn thành","X","")
A62: 15 | B62: Lê Thị Hà | C62: Giang | D62: =TRIM(B62&" "&C62) -> Lê Thị Hà Giang | E62: 79000H05.000459 | F62: =IFERROR((VLOOKUP($E62,'Mẫu 4A'!$D$10:$L$400,9,0)),0) -> Tốt | G62: " | H62: =IF($F62="Xuất sắc","X","") | I62: =IF($F62="Tốt","X","") -> X | J62: =IF($F62="Hoàn thành","X","") | K62: =IF($F62="Không hoàn thành","X","") | L62: HĐ thi đua nhắc nhở tháng 9/2019
A63: 16 | B63: Huỳnh Văn | C63: Hiếu | D63: =TRIM(B63&" "&C63) -> Huỳnh Văn Hiếu | E63: 79000H05.000443 | F63: =IFERROR((VLOOKUP($E63,'Mẫu 4A'!$D$10:$L$400,9,0)),0) -> Xuất sắc | G63: " | H63: =IF($F63="Xuất sắc","X","") -> X | I63: =IF($F63="Tốt","X","") | J63: =IF($F63="Hoàn thành","X","") | K63: =IF($F63="Không hoàn thành","X","")
A64: 17 | B64: Bùi Đức | C64: Phước | D64: =TRIM(B64&" "&C64) -> Bùi Đức Phước | E64: 79000H05.000608 | F64: =IFERROR((VLOOKUP($E64,'Mẫu 4A'!$D$10:$L$400,9,0)),0) -> Xuất sắc | G64: " | H64: =IF($F64="Xuất sắc","X","") -> X | I64: =IF($F64="Tốt","X","") | J64: =IF($F64="Hoàn thành","X","") | K64: =IF($F64="Không hoàn thành","X","")
A65: 18 | B65: Võ Thị | C65: Tuyết | D65: =TRIM(B65&" "&C65) -> Võ Thị Tuyết | E65: 79000H05.000507 | F65: =IFERROR((VLOOKUP($E65,'Mẫu 4A'!$D$10:$L$400,9,0)),0) -> Tốt | G65: " | H65: =IF($F65="Xuất sắc","X","") | I65: =IF($F65="Tốt","X","") -> X | J65: =IF($F65="Hoàn thành","X","") | K65: =IF($F65="Không hoàn thành","X","")
A66: 19 | B66: Trịnh Tuấn | C66: Vũ | D66: =TRIM(B66&" "&C66) -> Trịnh Tuấn Vũ | E66: 79000H05.000317 | F66: =IFERROR((VLOOKUP($E66,'Mẫu 4A'!$D$10:$L$400,9,0)),0) -> Tốt | G66: " | H66: =IF($F66="Xuất sắc","X","") | I66: =IF($F66="Tốt","X","") -> X | J66: =IF($F66="Hoàn thành","X","") | K66: =IF($F66="Không hoàn thành","X","")
A67: III | B67: PHÒNG KHẢO THÍ VÀ ĐẢM BẢO CHẤT LƯỢNG | H67: =IF($F67="Xuất sắc","X","") | I67: =IF($F67="Tốt","X","") | J67: =IF($F67="Hoàn thành","X","") | K67: =IF($F67="Không hoàn thành","X","")
A68: c | B68: Viên chức | H68: =IF($F68="Xuất sắc","X","") | I68: =IF($F68="Tốt","X","") | J68: =IF($F68="Hoàn thành","X","") | K68: =IF($F68="Không hoàn thành","X","")
A69: 1 | B69: Nguyễn Chí | C69: Nhân | D69: =TRIM(B69&" "&C69) -> Nguyễn Chí Nhân | E69: 11100066861 | F69: =IFERROR((VLOOKUP($E69,'Mẫu 4A'!$D$10:$L$400,9,0)),0) -> Tốt | G69: P. KT&ĐBCL | H69: =IF($F69="Xuất sắc","X","") | I69: =IF($F69="Tốt","X","") -> X | J69: =IF($F69="Hoàn thành","X","") | K69: =IF($F69="Không hoàn thành","X","")
A70: 2 | B70: Võ Thị Anh | C70: Đào | D70: =TRIM(B70&" "&C70) -> Võ Thị Anh Đào | E70: 11100000701 | F70: =IFERROR((VLOOKUP($E70,'Mẫu 4A'!$D$10:$L$400,9,0)),0) -> Xuất sắc | G70: " | H70: =IF($F70="Xuất sắc","X","") -> X | I70: =IF($F70="Tốt","X","") | J70: =IF($F70="Hoàn thành","X","") | K70: =IF($F70="Không hoàn thành","X","")
A71: 3 | B71: Nguyễn Thanh | C71: Sơn | D71: =TRIM(B71&" "&C71) -> Nguyễn Thanh Sơn | E71: 11100122989 | F71: =IFERROR((VLOOKUP($E71,'Mẫu 4A'!$D$10:$L$400,9,0)),0) -> Tốt | G71: " | H71: =IF($F71="Xuất sắc","X","") | I71: =IF($F71="Tốt","X","") -> X | J71: =IF($F71="Hoàn thành","X","") | K71: =IF($F71="Không hoàn thành","X","")
A72: 4 | B72: Lương Minh | C72: Dũng | D72: =TRIM(B72&" "&C72) -> Lương Minh Dũng | E72: 40800000245 | F72: =IFERROR((VLOOKUP($E72,'Mẫu 4A'!$D$10:$L$400,9,0)),0) -> Xuất sắc | G72: " | H72: =IF($F72="Xuất sắc","X","") -> X | I72: =IF($F72="Tốt","X","") | J72: =IF($F72="Hoàn thành","X","") | K72: =IF($F72="Không hoàn thành","X","")
A73: 5 | B73: Nguyễn Thị | C73: Tuyết | D73: =TRIM(B73&" "&C73) -> Nguyễn Thị Tuyết | E73: 50700000482 | F73: =IFERROR((VLOOKUP($E73,'Mẫu 4A'!$D$10:$L$400,9,0)),0) -> Xuất sắc | G73: " | H73: =IF($F73="Xuất sắc","X","") -> X | I73: =IF($F73="Tốt","X","") | J73: =IF($F73="Hoàn thành","X","") | K73: =IF($F73="Không hoàn thành","X","")
A74: 6 | B74: Vũ Thị Thu | C74: Thủy | D74: =TRIM(B74&" "&C74) -> Vũ Thị Thu Thủy | E74: 11100115710 | F74: =IFERROR((VLOOKUP($E74,'Mẫu 4A'!$D$10:$L$400,9,0)),0) -> Tốt | G74: " | H74: =IF($F74="Xuất sắc","X","") | I74: =IF($F74="Tốt","X","") -> X | J74: =IF($F74="Hoàn thành","X","") | K74: =IF($F74="Không hoàn thành","X","")
A75: e | B75: Hợp đồng Trường | H75: =IF($F75="Xuất sắc","X","") | I75: =IF($F75="Tốt","X","") | J75: =IF($F75="Hoàn thành","X","") | K75: =IF($F75="Không hoàn thành","X","")
A76: 7 | B76: Nguyễn Yến | C76: Nhi | D76: =TRIM(B76&" "&C76) -> Nguyễn Yến Nhi | E76: 79000H05.000518 | F76: =IFERROR((VLOOKUP($E76,'Mẫu 4A'!$D$10:$L$400,9,0)),0) -> Xuất sắc | G76: P. KT&ĐBCL | H76: =IF($F76="Xuất sắc","X","") -> X | I76: =IF($F76="Tốt","X","") | J76: =IF($F76="Hoàn thành","X","") | K76: =IF($F76="Không hoàn thành","X","")
A77: IV | B77: PHÒNG KẾ HOẠCH - TÀI CHÍNH | H77: =IF($F77="Xuất sắc","X","") | I77: =IF($F77="Tốt","X","") | J77: =IF($F77="Hoàn thành","X","") | K77: =IF($F77="Không hoàn thành","X","")
A78: a | B78: Viên chức | H78: =IF($F78="Xuất sắc","X","") | I78: =IF($F78="Tốt","X","") | J78: =IF($F78="Hoàn thành","X","") | K78: =IF($F78="Không hoàn thành","X","")
A79: 1 | B79: Nguyễn | C79: Kính | D79: =TRIM(B79&" "&C79) -> Nguyễn Kính | E79: 50800000800 | F79: =IFERROR((VLOOKUP($E79,'Mẫu 4A'!$D$10:$L$400,9,0)),0) -> Xuất sắc | G79: P. KH-TC | H79: =IF($F79="Xuất sắc","X","") -> X | I79: =IF($F79="Tốt","X","") | J79: =IF($F79="Hoàn thành","X","") | K79: =IF($F79="Không hoàn thành","X","")
A80: 2 | B80: Nguyễn Thị Kim | C80: Dung | D80: =TRIM(B80&" "&C80) -> Nguyễn Thị Kim Dung | E80: 11100071598 | F80: =IFERROR((VLOOKUP($E80,'Mẫu 4A'!$D$10:$L$400,9,0)),0) -> Tốt | G80: " | H80: =IF($F80="Xuất sắc","X","") | I80: =IF($F80="Tốt","X","") -> X | J80: =IF($F80="Hoàn thành","X","") | K80: =IF($F80="Không hoàn thành","X","")
A81: 3 | B81: Hồng Mộng Tuyết | C81: Dung | D81: =TRIM(B81&" "&C81) -> Hồng Mộng Tuyết Dung | E81: 11100115722 | F81: =IFERROR((VLOOKUP($E81,'Mẫu 4A'!$D$10:$L$400,9,0)),0) -> Xuất sắc | G81: " | H81: =IF($F81="Xuất sắc","X","") -> X | I81: =IF($F81="Tốt","X","") | J81: =IF($F81="Hoàn thành","X","") | K81: =IF($F81="Không hoàn thành","X","")
A82: 4 | B82: Đỗ Thị | C82: Ngọc | D82: =TRIM(B82&" "&C82) -> Đỗ Thị Ngọc | E82: 50800001163 | F82: =IFERROR((VLOOKUP($E82,'Mẫu 4A'!$D$10:$L$400,9,0)),0) -> Xuất sắc | G82: " | H82: =IF($F82="Xuất sắc","X","") -> X | I82: =IF($F82="Tốt","X","") | J82: =IF($F82="Hoàn thành","X","") | K82: =IF($F82="Không hoàn thành","X","")
A83: 5 | B83: Trần Thị Minh | C83: Thoa | D83: =TRIM(B83&" "&C83) -> Trần Thị Minh Thoa | E83: 11100121674 | F83: =IFERROR((VLOOKUP($E83,'Mẫu 4A'!$D$10:$L$400,9,0)),0) -> Xuất sắc | G83: " | H83: =IF($F83="Xuất sắc","X","") -> X | I83: =IF($F83="Tốt","X","") | J83: =IF($F83="Hoàn thành","X","") | K83: =IF($F83="Không hoàn thành","X","")
A84: 6 | B84: Nguyễn Thị Hồng | C84: Thắm | D84: =TRIM(B84&" "&C84) -> Nguyễn Thị Hồng Thắm | E84: 40700000691 | F84: =IFERROR((VLOOKUP($E84,'Mẫu 4A'!$D$10:$L$400,9,0)),0) -> Xuất sắc | G84: " | H84: =IF($F84="Xuất sắc","X","") -> X | I84: =IF($F84="Tốt","X","") | J84: =IF($F84="Hoàn thành","X","") | K84: =IF($F84="Không hoàn thành","X","")
A85: 7 | B85: Phạm Lê Đông | C85: Hưng | D85: =TRIM(B85&" "&C85) -> Phạm Lê Đông Hưng | E85: 50700000361 | F85: =IFERROR((VLOOKUP($E85,'Mẫu 4A'!$D$10:$L$400,9,0)),0) -> Xuất sắc | G85: " | H85: =IF($F85="Xuất sắc","X","") -> X | I85: =IF($F85="Tốt","X","") | J85: =IF($F85="Hoàn thành","X","") | K85: =IF($F85="Không hoàn thành","X","")
A86: e | B86: Hợp đồng Trường | H86: =IF($F86="Xuất sắc","X","") | I86: =IF($F86="Tốt","X","") | J86: =IF($F86="Hoàn thành","X","") | K86: =IF($F86="Không hoàn thành","X","")
A87: 9 | B87: Trần Thị Thảo | C87: Vân | D87: =TRIM(B87&" "&C87) -> Trần Thị Thảo Vân | E87: 79000H05.000490 | F87: =IFERROR((VLOOKUP($E87,'Mẫu 4A'!$D$10:$L$400,9,0)),0) -> Tốt | G87: P. KH-TC | H87: =IF($F87="Xuất sắc","X","") | I87: =IF($F87="Tốt","X","") -> X | J87: =IF($F87="Hoàn thành","X","") | K87: =IF($F87="Không hoàn thành","X","")
A88: 10 | B88: Nguyễn Thị Minh | C88: Thùy | D88: =TRIM(B88&" "&C88) -> Nguyễn Thị Minh Thùy | E88: 79000H05.784781 | F88: =IFERROR((VLOOKUP($E88,'Mẫu 4A'!$D$10:$L$400,9,0)),0) -> Tốt | G88: " | H88: =IF($F88="Xuất sắc","X","") | I88: =IF($F88="Tốt","X","") -> X | J88: =IF($F88="Hoàn thành","X","") | K88: =IF($F88="Không hoàn thành","X","")
A89: V | B89: PHÒNG QUẢN TRỊ - DỊCH VỤ | H89: =IF($F89="Xuất sắc","X","") | I89: =IF($F89="Tốt","X","") | J89: =IF($F89="Hoàn thành","X","") | K89: =IF($F89="Không hoàn thành","X","")
A90: a | B90: Viên chức | H90: =IF($F90="Xuất sắc","X","") | I90: =IF($F90="Tốt","X","") | J90: =IF($F90="Hoàn thành","X","") | K90: =IF($F90="Không hoàn thành","X","")
A91: 1 | B91: Lê Quang | C91: Liêm | D91: =TRIM(B91&" "&C91) -> Lê Quang Liêm | E91: 50200000160 | F91: =IFERROR((VLOOKUP($E91,'Mẫu 4A'!$D$10:$L$400,9,0)),0) -> Xuất sắc | G91: P. QT-DV | H91: =IF($F91="Xuất sắc","X","") -> X | I91: =IF($F91="Tốt","X","") | J91: =IF($F91="Hoàn thành","X","") | K91: =IF($F91="Không hoàn thành","X","")
A92: 2 | B92: Nguyễn Văn | C92: Thành | D92: =TRIM(B92&" "&C92) -> Nguyễn Văn Thành | E92: 11100000723 | F92: =IFERROR((VLOOKUP($E92,'Mẫu 4A'!$D$10:$L$400,9,0)),0) -> Tốt | G92: " | H92: =IF($F92="Xuất sắc","X","") | I92: =IF($F92="Tốt","X","") -> X | J92: =IF($F92="Hoàn thành","X","") | K92: =IF($F92="Không hoàn thành","X","")
A93: 3 | B93: Nguyễn Trọng | C93: Phú | D93: =TRIM(B93&" "&C93) -> Nguyễn Trọng Phú | E93: 11100083294 | F93: =IFERROR((VLOOKUP($E93,'Mẫu 4A'!$D$10:$L$400,9,0)),0) -> Tốt | G93: " | H93: =IF($F93="Xuất sắc","X","") | I93: =IF($F93="Tốt","X","") -> X | J93: =IF($F93="Hoàn thành","X","") | K93: =IF($F93="Không hoàn thành","X","")
A94: 4 | B94: Đỗ Văn | C94: Trong | D94: =TRIM(B94&" "&C94) -> Đỗ Văn Trong | E94: 11100071601 | F94: =IFERROR((VLOOKUP($E94,'Mẫu 4A'!$D$10:$L$400,9,0)),0) -> Tốt | G94: " | H94: =IF($F94="Xuất sắc","X","") | I94: =IF($F94="Tốt","X","") -> X | J94: =IF($F94="Hoàn thành","X","") | K94: =IF($F94="Không hoàn thành","X","")
A95: 5 | B95: Giáp Văn | C95: Thịnh | D95: =TRIM(B95&" "&C95) -> Giáp Văn Thịnh | E95: 11100115709 | F95: =IFERROR((VLOOKUP($E95,'Mẫu 4A'!$D$10:$L$400,9,0)),0) -> Xuất sắc | G95: " | H95: =IF($F95="Xuất sắc","X","") -> X | I95: =IF($F95="Tốt","X","") | J95: =IF($F95="Hoàn thành","X","") | K95: =IF($F95="Không hoàn thành","X","")
A96: 6 | B96: Vũ Ngọc | C96: Quang | D96: =TRIM(B96&" "&C96) -> Vũ Ngọc Quang | E96: 11100083308 | F96: =IFERROR((VLOOKUP($E96,'Mẫu 4A'!$D$10:$L$400,9,0)),0) -> Tốt | G96: " | H96: =IF($F96="Xuất sắc","X","") | I96: =IF($F96="Tốt","X","") -> X | J96: =IF($F96="Hoàn thành","X","") | K96: =IF($F96="Không hoàn thành","X","")
A97: 7 | B97: Lê Hồng Anh | C97: Tuấn | D97: =TRIM(B97&" "&C97) -> Lê Hồng Anh Tuấn | E97: 40900000037 | F97: =IFERROR((VLOOKUP($E97,'Mẫu 4A'!$D$10:$L$400,9,0)),0) -> Xuất sắc | G97: " | H97: =IF($F97="Xuất sắc","X","") -> X | I97: =IF($F97="Tốt","X","") | J97: =IF($F97="Hoàn thành","X","") | K97: =IF($F97="Không hoàn thành","X","")
A98: 8 | B98: Ninh Đỗ | C98: Hiệp | D98: =TRIM(B98&" "&C98) -> Ninh Đỗ Hiệp | E98: 11100115706 | F98: =IFERROR((VLOOKUP($E98,'Mẫu 4A'!$D$10:$L$400,9,0)),0) -> Tốt | G98: " | H98: =IF($F98="Xuất sắc","X","") | I98: =IF($F98="Tốt","X","") -> X | J98: =IF($F98="Hoàn thành","X","") | K98: =IF($F98="Không hoàn thành","X","")
A99: 9 | B99: Bùi Đặng Hoàng | C99: Tuấn | D99: =TRIM(B99&" "&C99) -> Bùi Đặng Hoàng Tuấn | E99: 40800000327 | F99: =IFERROR((VLOOKUP($E99,'Mẫu 4A'!$D$10:$L$400,9,0)),0) -> Tốt | G99: " | H99: =IF($F99="Xuất sắc","X","") | I99: =IF($F99="Tốt","X","") -> X | J99: =IF($F99="Hoàn thành","X","") | K99: =IF($F99="Không hoàn thành","X","")
A100: 10 | B100: Nguyễn Tiến Việt | C100: Dũng | D100: =TRIM(B100&" "&C100) -> Nguyễn Tiến Việt Dũng | E100: 40800000301 | F100: =IFERROR((VLOOKUP($E100,'Mẫu 4A'!$D$10:$L$400,9,0)),0) -> Tốt | G100: " | H100: =IF($F100="Xuất sắc","X","") | I100: =IF($F100="Tốt","X","") -> X | J100: =IF($F100="Hoàn thành","X","") | K100: =IF($F100="Không hoàn thành","X","")
A101: 11 | B101: Nguyễn Cao | C101: Thắng | D101: =TRIM(B101&" "&C101) -> Nguyễn Cao Thắng | E101: 80600000454 | F101: =IFERROR((VLOOKUP($E101,'Mẫu 4A'!$D$10:$L$400,9,0)),0) -> Xuất sắc | G101: " | H101: =IF($F101="Xuất sắc","X","") -> X | I101: =IF($F101="Tốt","X","") | J101: =IF($F101="Hoàn thành","X","") | K101: =IF($F101="Không hoàn thành","X","")
A102: 12 | B102: Nguyễn Thùy | C102: Dương | D102: =TRIM(B102&" "&C102) -> Nguyễn Thùy Dương | E102: 21000001676 | F102: =IFERROR((VLOOKUP($E102,'Mẫu 4A'!$D$10:$L$400,9,0)),0) -> Tốt | G102: " | H102: =IF($F102="Xuất sắc","X","") | I102: =IF($F102="Tốt","X","") -> X | J102: =IF($F102="Hoàn thành","X","") | K102: =IF($F102="Không hoàn thành","X","")
...

Sheet Mẫu 4A
A1: TRƯỜNG CAO ĐẲNG LÝ TỰ TRỌNG THÀNH PHỐ HỒ CHÍ MINH PHÒNG TỔ CHỨC - HÀNH CHÍNH - TỔNG HỢP | L1: Mẫu 4B
A3: BÁO CÁO DANH SÁCH TỔNG HỢP KẾT QUẢ ĐÁNH GIÁ, PHÂN LOẠI CỦA CÔNG CHỨC, VIÊN CHỨC Kỳ đánh giá: Quý 3/2019
A5: STT | B5: HỌ VÀ TÊN | D5: MÃ NHÂN VIÊN | E5: ĐIỂM TỰ ĐÁNH GIÁ | F5: Kết quả cá nhân xếp loại | G5: HỘI ĐỒNG ĐÁNH GIÁ | M5: Ghi chú
G6: Tiêu chí I+II | H6: Tiêu chí III | I6: Tổng số Điểm cộng | J6: Tổng số Điểm trừ | K6: Tổng điểm | L6: Kết quả xếp loại
A7: (1) | B7: (2) | D7: (3) | G7: (9) | H7: (10) | I7: (11) | J7: (12) | K7: (13)=(9+10+11)-(12) | L7: (14)
A8: I | B8: BAN GIÁM HIỆU
A9: a | B9: Viên chức
A10: 1 | B10: Phạm Hữu | C10: Lộc | D10: 41200001203 | E10: 99 | F10: =IF(AND($E10>=90,$E10<=100),"Xuất sắc",IF(AND($E10>=75,$E10<90),"Tốt",IF(AND($E10>=50,$E10<75),"Hoàn thành",IF(AND($E10<50,$E10>0),"Không hoàn thành",IF($E10=0,"Không đánh giá",""))))) -> Xuất sắc | K10: =G10+H10+I10-J10 -> 0 | L10: =IF(AND($K10>=90,$K10<=100),"Xuất sắc",IF(AND($K10>=75,$K10<90),"Tốt",IF(AND($K10>=50,$K10<75),"Hoàn thành",IF(AND($K10<50,$K10>0),"Không hoàn thành",IF($K10=0,"Không đánh giá",""))))) -> Không đánh giá
A11: 2 | B11: Đinh Hồng | C11: Minh | D11: 11100000791 | E11: 95 | F11: =IF(AND($E11>=90,$E11<=100),"Xuất sắc",IF(AND($E11>=75,$E11<90),"Tốt",IF(AND($E11>=50,$E11<75),"Hoàn thành",IF(AND($E11<50,$E11>0),"Không hoàn thành",IF($E11=0,"Không đánh giá",""))))) -> Xuất sắc | G11: 35 | H11: 60 | K11: =G11+H11+I11-J11 -> 95 | L11: =IF(AND($K11>=90,$K11<=100),"Xuất sắc",IF(AND($K11>=75,$K11<90),"Tốt",IF(AND($K11>=50,$K11<75),"Hoàn thành",IF(AND($K11<50,$K11>0),"Không hoàn thành",IF($K11=0,"Không đánh giá",""))))) -> Xuất sắc
A12: 3 | B12: Đinh Văn | C12: Đệ | D12: 50200000021 | E12: 96 | F12: =IF(AND($E12>=90,$E12<=100),"Xuất sắc",IF(AND($E12>=75,$E12<90),"Tốt",IF(AND($E12>=50,$E12<75),"Hoàn thành",IF(AND($E12<50,$E12>0),"Không hoàn thành",IF($E12=0,"Không đánh giá",""))))) -> Xuất sắc | G12: 36 | H12: 60 | K12: =G12+H12+I12-J12 -> 96 | L12: =IF(AND($K12>=90,$K12<=100),"Xuất sắc",IF(AND($K12>=75,$K12<90),"Tốt",IF(AND($K12>=50,$K12<75),"Hoàn thành",IF(AND($K12<50,$K12>0),"Không hoàn thành",IF($K12=0,"Không đánh giá",""))))) -> Xuất sắc
A13: 4 | B13: Châu Văn | C13: Bảo | D13: 50200000021 | E13: 96 | F13: =IF(AND($E13>=90,$E13<=100),"Xuất sắc",IF(AND($E13>=75,$E13<90),"Tốt",IF(AND($E13>=50,$E13<75),"Hoàn thành",IF(AND($E13<50,$E13>0),"Không hoàn thành",IF($E13=0,"Không đánh giá",""))))) -> Xuất sắc | G13: 36 | H13: 60 | K13: =G13+H13+I13-J13 -> 96 | L13: =IF(AND($K13>=90,$K13<=100),"Xuất sắc",IF(AND($K13>=75,$K13<90),"Tốt",IF(AND($K13>=50,$K13<75),"Hoàn thành",IF(AND($K13<50,$K13>0),"Không hoàn thành",IF($K13=0,"Không đánh giá",""))))) -> Xuất sắc
A14: I | B14: PHÒNG TỔ CHỨC - HÀNH CHÍNH - TỔNG HỢP
A15: a | B15: Viên chức
A16: 1 | B16: Lâm Viết | C16: Dũng | D16: 50800000104 | E16: 95 | F16: =IF(AND($E16>=90,$E16<=100),"Xuất sắc",IF(AND($E16>=75,$E16<90),"Tốt",IF(AND($E16>=50,$E16<75),"Hoàn thành",IF(AND($E16<50,$E16>0),"Không hoàn thành",IF($E16=0,"Không đánh giá",""))))) -> Xuất sắc | G16: 35 | H16: 60 | K16: =G16+H16+I16-J16 -> 95 | L16: =IF(AND($K16>=90,$K16<=100),"Xuất sắc",IF(AND($K16>=75,$K16<90),"Tốt",IF(AND($K16>=50,$K16<75),"Hoàn thành",IF(AND($K16<50,$K16>0),"Không hoàn thành",IF($K16=0,"Không đánh giá",""))))) -> Xuất sắc
A17: 2 | B17: Nguyễn Thị | C17: Hoa | D17: 11100000743 | E17: 89 | F17: =IF(AND($E17>=90,$E17<=100),"Xuất sắc",IF(AND($E17>=75,$E17<90),"Tốt",IF(AND($E17>=50,$E17<75),"Hoàn thành",IF(AND($E17<50,$E17>0),"Không hoàn thành",IF($E17=0,"Không đánh giá",""))))) -> Tốt | G17: 33 | H17: 60 | K17: =G17+H17+I17-J17 -> 93 | L17: =IF(AND($K17>=90,$K17<=100),"Xuất sắc",IF(AND($K17>=75,$K17<90),"Tốt",IF(AND($K17>=50,$K17<75),"Hoàn thành",IF(AND($K17<50,$K17>0),"Không hoàn thành",IF($K17=0,"Không đánh giá",""))))) -> Xuất sắc
A18: 3 | B18: Nguyễn Thành | C18: Nam | D18: 60400000280 | E18: 94 | F18: =IF(AND($E18>=90,$E18<=100),"Xuất sắc",IF(AND($E18>=75,$E18<90),"Tốt",IF(AND($E18>=50,$E18<75),"Hoàn thành",IF(AND($E18<50,$E18>0),"Không hoàn thành",IF($E18=0,"Không đánh giá",""))))) -> Xuất sắc | G18: 29 | H18: 60 | K18: =G18+H18+I18-J18 -> 89 | L18: =IF(AND($K18>=90,$K18<=100),"Xuất sắc",IF(AND($K18>=75,$K18<90),"Tốt",IF(AND($K18>=50,$K18<75),"Hoàn thành",IF(AND($K18<50,$K18>0),"Không hoàn thành",IF($K18=0,"Không đánh giá",""))))) -> Tốt
A19: 4 | B19: Phan Thị Ngọc | C19: Phượng | D19: 11100082854 | E19: 91 | F19: =IF(AND($E19>=90,$E19<=100),"Xuất sắc",IF(AND($E19>=75,$E19<90),"Tốt",IF(AND($E19>=50,$E19<75),"Hoàn thành",IF(AND($E19<50,$E19>0),"Không hoàn thành",IF($E19=0,"Không đánh giá",""))))) -> Xuất sắc | G19: 31 | H19: 60 | K19: =G19+H19+I19-J19 -> 91 | L19: =IF(AND($K19>=90,$K19<=100),"Xuất sắc",IF(AND($K19>=75,$K19<90),"Tốt",IF(AND($K19>=50,$K19<75),"Hoàn thành",IF(AND($K19<50,$K19>0),"Không hoàn thành",IF($K19=0,"Không đánh giá",""))))) -> Xuất sắc
A20: 5 | B20: Vũ Như | C20: Quỳnh | D20: 11100082861 | E20: 92 | F20: =IF(AND($E20>=90,$E20<=100),"Xuất sắc",IF(AND($E20>=75,$E20<90),"Tốt",IF(AND($E20>=50,$E20<75),"Hoàn thành",IF(AND($E20<50,$E20>0),"Không hoàn thành",IF($E20=0,"Không đánh giá",""))))) -> Xuất sắc | G20: 32 | H20: 60 | K20: =G20+H20+I20-J20 -> 92 | L20: =IF(AND($K20>=90,$K20<=100),"Xuất sắc",IF(AND($K20>=75,$K20<90),"Tốt",IF(AND($K20>=50,$K20<75),"Hoàn thành",IF(AND($K20<50,$K20>0),"Không hoàn thành",IF($K20=0,"Không đánh giá",""))))) -> Xuất sắc
A21: 6 | B21: Trần Thị Ánh | C21: Phượng | D21: 11100115699 | E21: 91 | F21: =IF(AND($E21>=90,$E21<=100),"Xuất sắc",IF(AND($E21>=75,$E21<90),"Tốt",IF(AND($E21>=50,$E21<75),"Hoàn thành",IF(AND($E21<50,$E21>0),"Không hoàn thành",IF($E21=0,"Không đánh giá",""))))) -> Xuất sắc | G21: 31 | H21: 60 | K21: =G21+H21+I21-J21 -> 91 | L21: =IF(AND($K21>=90,$K21<=100),"Xuất sắc",IF(AND($K21>=75,$K21<90),"Tốt",IF(AND($K21>=50,$K21<75),"Hoàn thành",IF(AND($K21<50,$K21>0),"Không hoàn thành",IF($K21=0,"Không đánh giá",""))))) -> Xuất sắc
A22: 7 | B22: Nguyễn Thị Bích | C22: Liễu | D22: 40400000515 | E22: 90 | F22: =IF(AND($E22>=90,$E22<=100),"Xuất sắc",IF(AND($E22>=75,$E22<90),"Tốt",IF(AND($E22>=50,$E22<75),"Hoàn thành",IF(AND($E22<50,$E22>0),"Không hoàn thành",IF($E22=0,"Không đánh giá",""))))) -> Xuất sắc | G22: 30 | H22: 60 | K22: =G22+H22+I22-J22 -> 90 | L22: =IF(AND($K22>=90,$K22<=100),"Xuất sắc",IF(AND($K22>=75,$K22<90),"Tốt",IF(AND($K22>=50,$K22<75),"Hoàn thành",IF(AND($K22<50,$K22>0),"Không hoàn thành",IF($K22=0,"Không đánh giá",""))))) -> Xuất sắc | M22: Nghỉ thai sản từ 04/02/19 đến 04/8/2019 (đánh giá 2 tháng)
A23: 8 | B23: Trần Thị Phương | C23: Oanh | D23: 11100071604 | E23: 91 | F23: =IF(AND($E23>=90,$E23<=100),"Xuất sắc",IF(AND($E23>=75,$E23<90),"Tốt",IF(AND($E23>=50,$E23<75),"Hoàn thành",IF(AND($E23<50,$E23>0),"Không hoàn thành",IF($E23=0,"Không đánh giá",""))))) -> Xuất sắc | G23: 31 | H23: 60 | K23: =G23+H23+I23-J23 -> 91 | L23: =IF(AND($K23>=90,$K23<=100),"Xuất sắc",IF(AND($K23>=75,$K23<90),"Tốt",IF(AND($K23>=50,$K23<75),"Hoàn thành",IF(AND($K23<50,$K23>0),"Không hoàn thành",IF($K23=0,"Không đánh giá",""))))) -> Xuất sắc
A24: 9 | B24: Lưu Hoàng Hải | C24: Yến | D24: 80300000835 | E24: 90 | F24: =IF(AND($E24>=90,$E24<=100),"Xuất sắc",IF(AND($E24>=75,$E24<90),"Tốt",IF(AND($E24>=50,$E24<75),"Hoàn thành",IF(AND($E24<50,$E24>0),"Không hoàn thành",IF($E24=0,"Không đánh giá",""))))) -> Xuất sắc | G24: 30 | H24: 60 | K24: =G24+H24+I24-J24 -> 90 | L24: =IF(AND($K24>=90,$K24<=100),"Xuất sắc",IF(AND($K24>=75,$K24<90),"Tốt",IF(AND($K24>=50,$K24<75),"Hoàn thành",IF(AND($K24<50,$K24>0),"Không hoàn thành",IF($K24=0,"Không đánh giá",""))))) -> Xuất sắc
A25: 10 | B25: Huỳnh Thị Minh | C25: Ly | D25: 11100115713 | E25: 94.5 | F25: =IF(AND($E25>=90,$E25<=100),"Xuất sắc",IF(AND($E25>=75,$E25<90),"Tốt",IF(AND($E25>=50,$E25<75),"Hoàn thành",IF(AND($E25<50,$E25>0),"Không hoàn thành",IF($E25=0,"Không đánh giá",""))))) -> Xuất sắc | G25: 32.5 | H25: 60 | K25: =G25+H25+I25-J25 -> 92.5 | L25: =IF(AND($K25>=90,$K25<=100),"Xuất sắc",IF(AND($K25>=75,$K25<90),"Tốt",IF(AND($K25>=50,$K25<75),"Hoàn thành",IF(AND($K25<50,$K25>0),"Không hoàn thành",IF($K25=0,"Không đánh giá",""))))) -> Xuất sắc
A26: 11 | B26: Nguyễn Văn | C26: Chì | D26: 40700000887 | E26: 90 | F26: =IF(AND($E26>=90,$E26<=100),"Xuất sắc",IF(AND($E26>=75,$E26<90),"Tốt",IF(AND($E26>=50,$E26<75),"Hoàn thành",IF(AND($E26<50,$E26>0),"Không hoàn thành",IF($E26=0,"Không đánh giá",""))))) -> Xuất sắc | G26: 30 | H26: 60 | K26: =G26+H26+I26-J26 -> 90 | L26: =IF(AND($K26>=90,$K26<=100),"Xuất sắc",IF(AND($K26>=75,$K26<90),"Tốt",IF(AND($K26>=50,$K26<75),"Hoàn thành",IF(AND($K26<50,$K26>0),"Không hoàn thành",IF($K26=0,"Không đánh giá",""))))) -> Xuất sắc
A27: 12 | B27: Thân Thị | C27: Nhung | D27: 40700000683 | E27: 93 | F27: =IF(AND($E27>=90,$E27<=100),"Xuất sắc",IF(AND($E27>=75,$E27<90),"Tốt",IF(AND($E27>=50,$E27<75),"Hoàn thành",IF(AND($E27<50,$E27>0),"Không hoàn thành",IF($E27=0,"Không đánh giá",""))))) -> Xuất sắc | G27: 33 | H27: 60 | K27: =G27+H27+I27-J27 -> 93 | L27: =IF(AND($K27>=90,$K27<=100),"Xuất sắc",IF(AND($K27>=75,$K27<90),"Tốt",IF(AND($K27>=50,$K27<75),"Hoàn thành",IF(AND($K27<50,$K27>0),"Không hoàn thành",IF($K27=0,"Không đánh giá",""))))) -> Xuất sắc
A28: 13 | B28: Nguyễn Thị | C28: Vân | D28: 80500000584 | E28: 0 | F28: =IF(AND($E28>=90,$E28<=100),"Xuất sắc",IF(AND($E28>=75,$E28<90),"Tốt",IF(AND($E28>=50,$E28<75),"Hoàn thành",IF(AND($E28<50,$E28>0),"Không hoàn thành",IF($E28=0,"Không đánh giá",""))))) -> Không đánh giá | G28: 0 | H28: 0 | K28: =G28+H28+I28-J28 -> 0 | L28: =IF(AND($K28>=90,$K28<=100),"Xuất sắc",IF(AND($K28>=75,$K28<90),"Tốt",IF(AND($K28>=50,$K28<75),"Hoàn thành",IF(AND($K28<50,$K28>0),"Không hoàn thành",IF($K28=0,"Không đánh giá",""))))) -> Không đánh giá | M28: Nghỉ thai sản từ 02/04/2019 đến 02/10/2019
A29: c | B29: Hợp đồng Sở
A30: 14 | B30: Lê Hùng | C30: Thanh | D30: 11100000803 | E30: 90 | F30: =IF(AND($E30>=90,$E30<=100),"Xuất sắc",IF(AND($E30>=75,$E30<90),"Tốt",IF(AND($E30>=50,$E30<75),"Hoàn thành",IF(AND($E30<50,$E30>0),"Không hoàn thành",IF($E30=0,"Không đánh giá",""))))) -> Xuất sắc | G30: 30 | H30: 60 | K30: =G30+H30+I30-J30 -> 90 | L30: =IF(AND($K30>=90,$K30<=100),"Xuất sắc",IF(AND($K30>=75,$K30<90),"Tốt",IF(AND($K30>=50,$K30<75),"Hoàn thành",IF(AND($K30<50,$K30>0),"Không hoàn thành",IF($K30=0,"Không đánh giá",""))))) -> Xuất sắc
A31: 15 | B31: Huỳnh Thị Xuân | C31: Mai | D31: 11100071597 | E31: 91 | F31: =IF(AND($E31>=90,$E31<=100),"Xuất sắc",IF(AND($E31>=75,$E31<90),"Tốt",IF(AND($E31>=50,$E31<75),"Hoàn thành",IF(AND($E31<50,$E31>0),"Không hoàn thành",IF($E31=0,"Không đánh giá",""))))) -> Xuất sắc | G31: 31 | H31: 60 | K31: =G31+H31+I31-J31 -> 91 | L31: =IF(AND($K31>=90,$K31<=100),"Xuất sắc",IF(AND($K31>=75,$K31<90),"Tốt",IF(AND($K31>=50,$K31<75),"Hoàn thành",IF(AND($K31<50,$K31>0),"Không hoàn thành",IF($K31=0,"Không đánh giá",""))))) -> Xuất sắc
A32: 16 | B32: Trần Văn Cu | C32: Anh | D32: 11100000805 | E32: 88 | F32: =IF(AND($E32>=90,$E32<=100),"Xuất sắc",IF(AND($E32>=75,$E32<90),"Tốt",IF(AND($E32>=50,$E32<75),"Hoàn thành",IF(AND($E32<50,$E32>0),"Không hoàn thành",IF($E32=0,"Không đánh giá",""))))) -> Tốt | G32: 30 | H32: 60 | K32: =G32+H32+I32-J32 -> 90 | L32: =IF(AND($K32>=90,$K32<=100),"Xuất sắc",IF(AND($K32>=75,$K32<90),"Tốt",IF(AND($K32>=50,$K32<75),"Hoàn thành",IF(AND($K32<50,$K32>0),"Không hoàn thành",IF($K32=0,"Không đánh giá",""))))) -> Xuất sắc
A33: d | B33: Hợp đồng 68
A34: 17 | B34: Huỳnh Thanh | C34: Nhàn | D34: 79000H05.000574 | E34: 97 | F34: =IF(AND($E34>=90,$E34<=100),"Xuất sắc",IF(AND($E34>=75,$E34<90),"Tốt",IF(AND($E34>=50,$E34<75),"Hoàn thành",IF(AND($E34<50,$E34>0),"Không hoàn thành",IF($E34=0,"Không đánh giá",""))))) -> Xuất sắc | G34: 32 | H34: 60 | K34: =G34+H34+I34-J34 -> 92 | L34: =IF(AND($K34>=90,$K34<=100),"Xuất sắc",IF(AND($K34>=75,$K34<90),"Tốt",IF(AND($K34>=50,$K34<75),"Hoàn thành",IF(AND($K34<50,$K34>0),"Không hoàn thành",IF($K34=0,"Không đánh giá",""))))) -> Xuất sắc
A35: 18 | B35: Phạm Hữu Thành | C35: Phú | D35: 79000H05.000575 | E35: 93 | F35: =IF(AND($E35>=90,$E35<=100),"Xuất sắc",IF(AND($E35>=75,$E35<90),"Tốt",IF(AND($E35>=50,$E35<75),"Hoàn thành",IF(AND($E35<50,$E35>0),"Không hoàn thành",IF($E35=0,"Không đánh giá",""))))) -> Xuất sắc | G35: 33 | H35: 60 | K35: =G35+H35+I35-J35 -> 93 | L35: =IF(AND($K35>=90,$K35<=100),"Xuất sắc",IF(AND($K35>=75,$K35<90),"Tốt",IF(AND($K35>=50,$K35<75),"Hoàn thành",IF(AND($K35<50,$K35>0),"Không hoàn thành",IF($K35=0,"Không đánh giá",""))))) -> Xuất sắc
A36: 19 | B36: Lê Hồng | C36: Phúc | D36: 79000H05.000448 | E36: 90 | F36: =IF(AND($E36>=90,$E36<=100),"Xuất sắc",IF(AND($E36>=75,$E36<90),"Tốt",IF(AND($E36>=50,$E36<75),"Hoàn thành",IF(AND($E36<50,$E36>0),"Không hoàn thành",IF($E36=0,"Không đánh giá",""))))) -> Xuất sắc | G36: 30 | H36: 60 | K36: =G36+H36+I36-J36 -> 90 | L36: =IF(AND($K36>=90,$K36<=100),"Xuất sắc",IF(AND($K36>=75,$K36<90),"Tốt",IF(AND($K36>=50,$K36<75),"Hoàn thành",IF(AND($K36<50,$K36>0),"Không hoàn thành",IF($K36=0,"Không đánh giá",""))))) -> Xuất sắc
A37: 20 | B37: Nguyễn Hữu Xuân | C37: Vũ | D37: 79000H05.000420 | E37: 88 | F37: =IF(AND($E37>=90,$E37<=100),"Xuất sắc",IF(AND($E37>=75,$E37<90),"Tốt",IF(AND($E37>=50,$E37<75),"Hoàn thành",IF(AND($E37<50,$E37>0),"Không hoàn thành",IF($E37=0,"Không đánh giá",""))))) -> Tốt | G37: 28 | H37: 60 | K37: =G37+H37+I37-J37 -> 88 | L37: =IF(AND($K37>=90,$K37<=100),"Xuất sắc",IF(AND($K37>=75,$K37<90),"Tốt",IF(AND($K37>=50,$K37<75),"Hoàn thành",IF(AND($K37<50,$K37>0),"Không hoàn thành",IF($K37=0,"Không đánh giá",""))))) -> Tốt
A38: e | B38: Hợp đồng trường
A39: 21 | B39: Phạm Hữu | C39: Tấn | D39: 79000H05.000568 | E39: 94 | F39: =IF(AND($E39>=90,$E39<=100),"Xuất sắc",IF(AND($E39>=75,$E39<90),"Tốt",IF(AND($E39>=50,$E39<75),"Hoàn thành",IF(AND($E39<50,$E39>0),"Không hoàn thành",IF($E39=0,"Không đánh giá",""))))) -> Xuất sắc | G39: 28 | H39: 60 | K39: =G39+H39+I39-J39 -> 88 | L39: =IF(AND($K39>=90,$K39<=100),"Xuất sắc",IF(AND($K39>=75,$K39<90),"Tốt",IF(AND($K39>=50,$K39<75),"Hoàn thành",IF(AND($K39<50,$K39>0),"Không hoàn thành",IF($K39=0,"Không đánh giá",""))))) -> Tốt
A40: 22 | B40: Nguyễn Tiến | C40: Hưng | D40: 79000H05.000299 | E40: 80 | F40: =IF(AND($E40>=90,$E40<=100),"Xuất sắc",IF(AND($E40>=75,$E40<90),"Tốt",IF(AND($E40>=50,$E40<75),"Hoàn thành",IF(AND($E40<50,$E40>0),"Không hoàn thành",IF($E40=0,"Không đánh giá",""))))) -> Tốt | G40: 30 | H40: 50 | K40: =G40+H40+I40-J40 -> 80 | L40: =IF(AND($K40>=90,$K40<=100),"Xuất sắc",IF(AND($K40>=75,$K40<90),"Tốt",IF(AND($K40>=50,$K40<75),"Hoàn thành",IF(AND($K40<50,$K40>0),"Không hoàn thành",IF($K40=0,"Không đánh giá",""))))) -> Tốt
A41: 23 | B41: Đồng Anh | C41: Tuấn | D41: 79000H05.000527 | E41: 80 | F41: =IF(AND($E41>=90,$E41<=100),"Xuất sắc",IF(AND($E41>=75,$E41<90),"Tốt",IF(AND($E41>=50,$E41<75),"Hoàn thành",IF(AND($E41<50,$E41>0),"Không hoàn thành",IF($E41=0,"Không đánh giá",""))))) -> Tốt | G41: 30 | H41: 50 | J41: 2.4 | K41: =G41+H41+I41-J41 -> 77.6 | L41: =IF(AND($K41>=90,$K41<=100),"Xuất sắc",IF(AND($K41>=75,$K41<90),"Tốt",IF(AND($K41>=50,$K41<75),"Hoàn thành",IF(AND($K41<50,$K41>0),"Không hoàn thành",IF($K41=0,"Không đánh giá",""))))) -> Tốt | M41: HĐ thi đua nhắc nhở tháng 9/2019
A42: 24 | B42: Trần Thanh | C42: Phương | D42: 79000H05.326689 | E42: 77 | F42: =IF(AND($E42>=90,$E42<=100),"Xuất sắc",IF(AND($E42>=75,$E42<90),"Tốt",IF(AND($E42>=50,$E42<75),"Hoàn thành",IF(AND($E42<50,$E42>0),"Không hoàn thành",IF($E42=0,"Không đánh giá",""))))) -> Tốt | G42: 34 | H42: 50 | K42: =G42+H42+I42-J42 -> 84 | L42: =IF(AND($K42>=90,$K42<=100),"Xuất sắc",IF(AND($K42>=75,$K42<90),"Tốt",IF(AND($K42>=50,$K42<75),"Hoàn thành",IF(AND($K42<50,$K42>0),"Không hoàn thành",IF($K42=0,"Không đánh giá",""))))) -> Tốt
A43: 25 | B43: Nguyễn Thanh | C43: Hiền | D43: 79000H05.110707 | E43: 79 | F43: =IF(AND($E43>=90,$E43<=100),"Xuất sắc",IF(AND($E43>=75,$E43<90),"Tốt",IF(AND($E43>=50,$E43<75),"Hoàn thành",IF(AND($E43<50,$E43>0),"Không hoàn thành",IF($E43=0,"Không đánh giá",""))))) -> Tốt | G43: 30 | H43: 50 | K43: =G43+H43+I43-J43 -> 80 | L43: =IF(AND($K43>=90,$K43<=100),"Xuất sắc",IF(AND($K43>=75,$K43<90),"Tốt",IF(AND($K43>=50,$K43<75),"Hoàn thành",IF(AND($K43<50,$K43>0),"Không hoàn thành",IF($K43=0,"Không đánh giá",""))))) -> Tốt
A44: 26 | B44: Lê Hồng | C44: Sơn | D44: 79000H05.852722 | E44: 86 | F44: =IF(AND($E44>=90,$E44<=100),"Xuất sắc",IF(AND($E44>=75,$E44<90),"Tốt",IF(AND($E44>=50,$E44<75),"Hoàn thành",IF(AND($E44<50,$E44>0),"Không hoàn thành",IF($E44=0,"Không đánh giá",""))))) -> Tốt | G44: 36 | H44: 50 | K44: =G44+H44+I44-J44 -> 86 | L44: =IF(AND($K44>=90,$K44<=100),"Xuất sắc",IF(AND($K44>=75,$K44<90),"Tốt",IF(AND($K44>=50,$K44<75),"Hoàn thành",IF(AND($K44<50,$K44>0),"Không hoàn thành",IF($K44=0,"Không đánh giá",""))))) -> Tốt
A45: II | B45: PHÒNG CÔNG TÁC CHÍNH TRỊ - HỌC SINH SINH VIÊN
A46: a | B46: Viên chức
A47: 1 | B47: Lê Xuân | C47: Thiện | D47: 11100000742 | E47: 97 | F47: =IF(AND($E47>=90,$E47<=100),"Xuất sắc",IF(AND($E47>=75,$E47<90),"Tốt",IF(AND($E47>=50,$E47<75),"Hoàn thành",IF(AND($E47<50,$E47>0),"Không hoàn thành",IF($E47=0,"Không đánh giá",""))))) -> Xuất sắc | G47: 37 | H47: 60 | K47: =G47+H47+I47-J47 -> 97 | L47: =IF(AND($K47>=90,$K47<=100),"Xuất sắc",IF(AND($K47>=75,$K47<90),"Tốt",IF(AND($K47>=50,$K47<75),"Hoàn thành",IF(AND($K47<50,$K47>0),"Không hoàn thành",IF($K47=0,"Không đánh giá",""))))) -> Xuất sắc
A48: 2 | B48: Hồ Minh | C48: Lợi | D48: 11100000704 | E48: 97 | F48: =IF(AND($E48>=90,$E48<=100),"Xuất sắc",IF(AND($E48>=75,$E48<90),"Tốt",IF(AND($E48>=50,$E48<75),"Hoàn thành",IF(AND($E48<50,$E48>0),"Không hoàn thành",IF($E48=0,"Không đánh giá",""))))) -> Xuất sắc | G48: 37 | H48: 60 | K48: =G48+H48+I48-J48 -> 97 | L48: =IF(AND($K48>=90,$K48<=100),"Xuất sắc",IF(AND($K48>=75,$K48<90),"Tốt",IF(AND($K48>=50,$K48<75),"Hoàn thành",IF(AND($K48<50,$K48>0),"Không hoàn thành",IF($K48=0,"Không đánh giá",""))))) -> Xuất sắc
A49: 3 | B49: Nguyễn Ngọc | C49: Hiệp | D49: 11100000751 | E49: 89 | F49: =IF(AND($E49>=90,$E49<=100),"Xuất sắc",IF(AND($E49>=75,$E49<90),"Tốt",IF(AND($E49>=50,$E49<75),"Hoàn thành",IF(AND($E49<50,$E49>0),"Không hoàn thành",IF($E49=0,"Không đánh giá",""))))) -> Tốt | G49: 29 | H49: 60 | K49: =G49+H49+I49-J49 -> 89 | L49: =IF(AND($K49>=90,$K49<=100),"Xuất sắc",IF(AND($K49>=75,$K49<90),"Tốt",IF(AND($K49>=50,$K49<75),"Hoàn thành",IF(AND($K49<50,$K49>0),"Không hoàn thành",IF($K49=0,"Không đánh giá",""))))) -> Tốt
A50: 4 | B50: Nguyễn Thị Kim | C50: Anh | D50: 11100115721 | E50: 85 | F50: =IF(AND($E50>=90,$E50<=100),"Xuất sắc",IF(AND($E50>=75,$E50<90),"Tốt",IF(AND($E50>=50,$E50<75),"Hoàn thành",IF(AND($E50<50,$E50>0),"Không hoàn thành",IF($E50=0,"Không đánh giá",""))))) -> Tốt | G50: 30 | H50: 60 | K50: =G50+H50+I50-J50 -> 90 | L50: =IF(AND($K50>=90,$K50<=100),"Xuất sắc",IF(AND($K50>=75,$K50<90),"Tốt",IF(AND($K50>=50,$K50<75),"Hoàn thành",IF(AND($K50<50,$K50>0),"Không hoàn thành",IF($K50=0,"Không đánh giá",""))))) -> Xuất sắc
A51: 5 | B51: Phạm Thị Lê | C51: Chi | D51: 11100110014 | E51: 79.5 | F51: =IF(AND($E51>=90,$E51<=100),"Xuất sắc",IF(AND($E51>=75,$E51<90),"Tốt",IF(AND($E51>=50,$E51<75),"Hoàn thành",IF(AND($E51<50,$E51>0),"Không hoàn thành",IF($E51=0,"Không đánh giá",""))))) -> Tốt | G51: 27.5 | H51: 50 | K51: =G51+H51+I51-J51 -> 77.5 | L51: Hoàn thành | M51: Thi đua tháng 8 xếp loại B
A52: 6 | B52: Bùi Thị | C52: Dương | D52: 11100115717 | E52: 79 | F52: =IF(AND($E52>=90,$E52<=100),"Xuất sắc",IF(AND($E52>=75,$E52<90),"Tốt",IF(AND($E52>=50,$E52<75),"Hoàn thành",IF(AND($E52<50,$E52>0),"Không hoàn thành",IF($E52=0,"Không đánh giá",""))))) -> Tốt | G52: 24 | H52: 60 | K52: =G52+H52+I52-J52 -> 84 | L52: =IF(AND($K52>=90,$K52<=100),"Xuất sắc",IF(AND($K52>=75,$K52<90),"Tốt",IF(AND($K52>=50,$K52<75),"Hoàn thành",IF(AND($K52<50,$K52>0),"Không hoàn thành",IF($K52=0,"Không đánh giá",""))))) -> Tốt
A53: 7 | B53: Hà Nhật | C53: Thanh | D53: 11100000741 | E53: 85 | F53: =IF(AND($E53>=90,$E53<=100),"Xuất sắc",IF(AND($E53>=75,$E53<90),"Tốt",IF(AND($E53>=50,$E53<75),"Hoàn thành",IF(AND($E53<50,$E53>0),"Không hoàn thành",IF($E53=0,"Không đánh giá",""))))) -> Tốt | G53: 31 | H53: 60 | K53: =G53+H53+I53-J53 -> 91 | L53: =IF(AND($K53>=90,$K53<=100),"Xuất sắc",IF(AND($K53>=75,$K53<90),"Tốt",IF(AND($K53>=50,$K53<75),"Hoàn thành",IF(AND($K53<50,$K53>0),"Không hoàn thành",IF($K53=0,"Không đánh giá",""))))) -> Xuất sắc
A54: 8 | B54: Trần Thị Thu | C54: Hà | D54: 11100071600 | E54: 93 | F54: =IF(AND($E54>=90,$E54<=100),"Xuất sắc",IF(AND($E54>=75,$E54<90),"Tốt",IF(AND($E54>=50,$E54<75),"Hoàn thành",IF(AND($E54<50,$E54>0),"Không hoàn thành",IF($E54=0,"Không đánh giá",""))))) -> Xuất sắc | G54: 33 | H54: 60 | K54: =G54+H54+I54-J54 -> 93 | L54: =IF(AND($K54>=90,$K54<=100),"Xuất sắc",IF(AND($K54>=75,$K54<90),"Tốt",IF(AND($K54>=50,$K54<75),"Hoàn thành",IF(AND($K54<50,$K54>0),"Không hoàn thành",IF($K54=0,"Không đánh giá",""))))) -> Xuất sắc
A55: 9 | B55: Phan Đức | C55: Long | D55: 11100000789 | E55: 86 | F55: =IF(AND($E55>=90,$E55<=100),"Xuất sắc",IF(AND($E55>=75,$E55<90),"Tốt",IF(AND($E55>=50,$E55<75),"Hoàn thành",IF(AND($E55<50,$E55>0),"Không hoàn thành",IF($E55=0,"Không đánh giá",""))))) -> Tốt | G55: 29 | H55: 60 | K55: =G55+H55+I55-J55 -> 89 | L55: =IF(AND($K55>=90,$K55<=100),"Xuất sắc",IF(AND($K55>=75,$K55<90),"Tốt",IF(AND($K55>=50,$K55<75),"Hoàn thành",IF(AND($K55<50,$K55>0),"Không hoàn thành",IF($K55=0,"Không đánh giá",""))))) -> Tốt
A56: 10 | B56: Nguyễn Tất | C56: Thắng | D56: 11100000772 | E56: 84 | F56: =IF(AND($E56>=90,$E56<=100),"Xuất sắc",IF(AND($E56>=75,$E56<90),"Tốt",IF(AND($E56>=50,$E56<75),"Hoàn thành",IF(AND($E56<50,$E56>0),"Không hoàn thành",IF($E56=0,"Không đánh giá",""))))) -> Tốt | G56: 30 | H56: 60 | K56: =G56+H56+I56-J56 -> 90 | L56: =IF(AND($K56>=90,$K56<=100),"Xuất sắc",IF(AND($K56>=75,$K56<90),"Tốt",IF(AND($K56>=50,$K56<75),"Hoàn thành",IF(AND($K56<50,$K56>0),"Không hoàn thành",IF($K56=0,"Không đánh giá",""))))) -> Xuất sắc
A57: c | B57: Hợp đồng Sở
A58: 11 | B58: Trần Văn | C58: Lý | D58: 11100000812 | E58: 77 | F58: =IF(AND($E58>=90,$E58<=100),"Xuất sắc",IF(AND($E58>=75,$E58<90),"Tốt",IF(AND($E58>=50,$E58<75),"Hoàn thành",IF(AND($E58<50,$E58>0),"Không hoàn thành",IF($E58=0,"Không đánh giá",""))))) -> Tốt | G58: 27 | H58: 50 | K58: =G58+H58+I58-J58 -> 77 | L58: =IF(AND($K58>=90,$K58<=100),"Xuất sắc",IF(AND($K58>=75,$K58<90),"Tốt",IF(AND($K58>=50,$K58<75),"Hoàn thành",IF(AND($K58<50,$K58>0),"Không hoàn thành",IF($K58=0,"Không đánh giá",""))))) -> Tốt
A59: 12 | B59: Lê Thị | C59: Nữ | D59: 11100071602 | E59: 90 | F59: =IF(AND($E59>=90,$E59<=100),"Xuất sắc",IF(AND($E59>=75,$E59<90),"Tốt",IF(AND($E59>=50,$E59<75),"Hoàn thành",IF(AND($E59<50,$E59>0),"Không hoàn thành",IF($E59=0,"Không đánh giá",""))))) -> Xuất sắc | G59: 30 | H59: 60 | K59: =G59+H59+I59-J59 -> 90 | L59: =IF(AND($K59>=90,$K59<=100),"Xuất sắc",IF(AND($K59>=75,$K59<90),"Tốt",IF(AND($K59>=50,$K59<75),"Hoàn thành",IF(AND($K59<50,$K59>0),"Không hoàn thành",IF($K59=0,"Không đánh giá",""))))) -> Xuất sắc
A60: e | B60: Hợp đồng Trường | G60: 0 | H60: 0
A61: 13 | B61: Nguyễn Thị | C61: Nhung | D61: 79000H05.000552 | E61: 81 | F61: =IF(AND($E61>=90,$E61<=100),"Xuất sắc",IF(AND($E61>=75,$E61<90),"Tốt",IF(AND($E61>=50,$E61<75),"Hoàn thành",IF(AND($E61<50,$E61>0),"Không hoàn thành",IF($E61=0,"Không đánh giá",""))))) -> Tốt | G61: 30 | H61: 60 | K61: =G61+H61+I61-J61 -> 90 | L61: =IF(AND($K61>=90,$K61<=100),"Xuất sắc",IF(AND($K61>=75,$K61<90),"Tốt",IF(AND($K61>=50,$K61<75),"Hoàn thành",IF(AND($K61<50,$K61>0),"Không hoàn thành",IF($K61=0,"Không đánh giá",""))))) -> Xuất sắc
A62: 14 | B62: Nguyễn Trung | C62: Dũng | D62: 79000H05.000195 | E62: 87 | F62: =IF(AND($E62>=90,$E62<=100),"Xuất sắc",IF(AND($E62>=75,$E62<90),"Tốt",IF(AND($E62>=50,$E62<75),"Hoàn thành",IF(AND($E62<50,$E62>0),"Không hoàn thành",IF($E62=0,"Không đánh giá",""))))) -> Tốt | G62: 30 | H62: 60 | K62: =G62+H62+I62-J62 -> 90 | L62: =IF(AND($K62>=90,$K62<=100),"Xuất sắc",IF(AND($K62>=75,$K62<90),"Tốt",IF(AND($K62>=50,$K62<75),"Hoàn thành",IF(AND($K62<50,$K62>0),"Không hoàn thành",IF($K62=0,"Không đánh giá",""))))) -> Xuất sắc
A63: 15 | B63: Lê Thị Hà | C63: Giang | D63: 79000H05.000459 | E63: 85 | F63: =IF(AND($E63>=90,$E63<=100),"Xuất sắc",IF(AND($E63>=75,$E63<90),"Tốt",IF(AND($E63>=50,$E63<75),"Hoàn thành",IF(AND($E63<50,$E63>0),"Không hoàn thành",IF($E63=0,"Không đánh giá",""))))) -> Tốt | G63: 27 | H63: 60 | J63: 2.61 | K63: =G63+H63+I63-J63 -> 84.39 | L63: =IF(AND($K63>=90,$K63<=100),"Xuất sắc",IF(AND($K63>=75,$K63<90),"Tốt",IF(AND($K63>=50,$K63<75),"Hoàn thành",IF(AND($K63<50,$K63>0),"Không hoàn thành",IF($K63=0,"Không đánh giá",""))))) -> Tốt | M63: HĐ thi đua nhắc nhở tháng 9/2019
A64: 16 | B64: Huỳnh Văn | C64: Hiếu | D64: 79000H05.000443 | E64: 91 | F64: =IF(AND($E64>=90,$E64<=100),"Xuất sắc",IF(AND($E64>=75,$E64<90),"Tốt",IF(AND($E64>=50,$E64<75),"Hoàn thành",IF(AND($E64<50,$E64>0),"Không hoàn thành",IF($E64=0,"Không đánh giá",""))))) -> Xuất sắc | G64: 31 | H64: 60 | K64: =G64+H64+I64-J64 -> 91 | L64: =IF(AND($K64>=90,$K64<=100),"Xuất sắc",IF(AND($K64>=75,$K64<90),"Tốt",IF(AND($K64>=50,$K64<75),"Hoàn thành",IF(AND($K64<50,$K64>0),"Không hoàn thành",IF($K64=0,"Không đánh giá",""))))) -> Xuất sắc
A65: 17 | B65: Bùi Đức | C65: Phước | D65: 79000H05.000608 | E65: 87 | F65: =IF(AND($E65>=90,$E65<=100),"Xuất sắc",IF(AND($E65>=75,$E65<90),"Tốt",IF(AND($E65>=50,$E65<75),"Hoàn thành",IF(AND($E65<50,$E65>0),"Không hoàn thành",IF($E65=0,"Không đánh giá",""))))) -> Tốt | G65: 30 | H65: 60 | K65: =G65+H65+I65-J65 -> 90 | L65: =IF(AND($K65>=90,$K65<=100),"Xuất sắc",IF(AND($K65>=75,$K65<90),"Tốt",IF(AND($K65>=50,$K65<75),"Hoàn thành",IF(AND($K65<50,$K65>0),"Không hoàn thành",IF($K65=0,"Không đánh giá",""))))) -> Xuất sắc
A66: 18 | B66: Võ Thị | C66: Tuyết | D66: 79000H05.000507 | E66: 77 | F66: =IF(AND($E66>=90,$E66<=100),"Xuất sắc",IF(AND($E66>=75,$E66<90),"Tốt",IF(AND($E66>=50,$E66<75),"Hoàn thành",IF(AND($E66<50,$E66>0),"Không hoàn thành",IF($E66=0,"Không đánh giá",""))))) -> Tốt | G66: 28 | H66: 50 | K66: =G66+H66+I66-J66 -> 78 | L66: =IF(AND($K66>=90,$K66<=100),"Xuất sắc",IF(AND($K66>=75,$K66<90),"Tốt",IF(AND($K66>=50,$K66<75),"Hoàn thành",IF(AND($K66<50,$K66>0),"Không hoàn thành",IF($K66=0,"Không đánh giá",""))))) -> Tốt
A67: 19 | B67: Trịnh Tuấn | C67: Vũ | D67: 79000H05.000317 | E67: 79 | F67: =IF(AND($E67>=90,$E67<=100),"Xuất sắc",IF(AND($E67>=75,$E67<90),"Tốt",IF(AND($E67>=50,$E67<75),"Hoàn thành",IF(AND($E67<50,$E67>0),"Không hoàn thành",IF($E67=0,"Không đánh giá",""))))) -> Tốt | G67: 31 | H67: 50 | K67: =G67+H67+I67-J67 -> 81 | L67: =IF(AND($K67>=90,$K67<=100),"Xuất sắc",IF(AND($K67>=75,$K67<90),"Tốt",IF(AND($K67>=50,$K67<75),"Hoàn thành",IF(AND($K67<50,$K67>0),"Không hoàn thành",IF($K67=0,"Không đánh giá",""))))) -> Tốt
A68: III | B68: PHÒNG KHẢO THÍ VÀ ĐẢM BẢO CHẤT LƯỢNG
A69: c | B69: Viên chức
A70: 1 | B70: Nguyễn Chí | C70: Nhân | D70: 11100066861 | E70: 86 | F70: =IF(AND($E70>=90,$E70<=100),"Xuất sắc",IF(AND($E70>=75,$E70<90),"Tốt",IF(AND($E70>=50,$E70<75),"Hoàn thành",IF(AND($E70<50,$E70>0),"Không hoàn thành",IF($E70=0,"Không đánh giá",""))))) -> Tốt | G70: 36 | H70: 50 | K70: =G70+H70+I70-J70 -> 86 | L70: =IF(AND($K70>=90,$K70<=100),"Xuất sắc",IF(AND($K70>=75,$K70<90),"Tốt",IF(AND($K70>=50,$K70<75),"Hoàn thành",IF(AND($K70<50,$K70>0),"Không hoàn thành",IF($K70=0,"Không đánh giá",""))))) -> Tốt
A71: 2 | B71: Võ Thị Anh | C71: Đào | D71: 11100000701 | E71: 88 | F71: =IF(AND($E71>=90,$E71<=100),"Xuất sắc",IF(AND($E71>=75,$E71<90),"Tốt",IF(AND($E71>=50,$E71<75),"Hoàn thành",IF(AND($E71<50,$E71>0),"Không hoàn thành",IF($E71=0,"Không đánh giá",""))))) -> Tốt | G71: 36 | H71: 60 | K71: =G71+H71+I71-J71 -> 96 | L71: =IF(AND($K71>=90,$K71<=100),"Xuất sắc",IF(AND($K71>=75,$K71<90),"Tốt",IF(AND($K71>=50,$K71<75),"Hoàn thành",IF(AND($K71<50,$K71>0),"Không hoàn thành",IF($K71=0,"Không đánh giá",""))))) -> Xuất sắc
A72: 3 | B72: Nguyễn Thanh | C72: Sơn | D72: 11100122989 | E72: 75 | F72: =IF(AND($E72>=90,$E72<=100),"Xuất sắc",IF(AND($E72>=75,$E72<90),"Tốt",IF(AND($E72>=50,$E72<75),"Hoàn thành",IF(AND($E72<50,$E72>0),"Không hoàn thành",IF($E72=0,"Không đánh giá",""))))) -> Tốt | G72: 28 | H72: 50 | K72: =G72+H72+I72-J72 -> 78 | L72: =IF(AND($K72>=90,$K72<=100),"Xuất sắc",IF(AND($K72>=75,$K72<90),"Tốt",IF(AND($K72>=50,$K72<75),"Hoàn thành",IF(AND($K72<50,$K72>0),"Không hoàn thành",IF($K72=0,"Không đánh giá",""))))) -> Tốt
A73: 4 | B73: Lương Minh | C73: Dũng | D73: 40800000245 | E73: 79 | F73: =IF(AND($E73>=90,$E73<=100),"Xuất sắc",IF(AND($E73>=75,$E73<90),"Tốt",IF(AND($E73>=50,$E73<75),"Hoàn thành",IF(AND($E73<50,$E73>0),"Không hoàn thành",IF($E73=0,"Không đánh giá",""))))) -> Tốt | G73: 32 | H73: 60 | K73: =G73+H73+I73-J73 -> 92 | L73: =IF(AND($K73>=90,$K73<=100),"Xuất sắc",IF(AND($K73>=75,$K73<90),"Tốt",IF(AND($K73>=50,$K73<75),"Hoàn thành",IF(AND($K73<50,$K73>0),"Không hoàn thành",IF($K73=0,"Không đánh giá",""))))) -> Xuất sắc
A74: 5 | B74: Nguyễn Thị | C74: Tuyết | D74: 50700000482 | E74: 78 | F74: =IF(AND($E74>=90,$E74<=100),"Xuất sắc",IF(AND($E74>=75,$E74<90),"Tốt",IF(AND($E74>=50,$E74<75),"Hoàn thành",IF(AND($E74<50,$E74>0),"Không hoàn thành",IF($E74=0,"Không đánh giá",""))))) -> Tốt | G74: 32 | H74: 60 | K74: =G74+H74+I74-J74 -> 92 | L74: =IF(AND($K74>=90,$K74<=100),"Xuất sắc",IF(AND($K74>=75,$K74<90),"Tốt",IF(AND($K74>=50,$K74<75),"Hoàn thành",IF(AND($K74<50,$K74>0),"Không hoàn thành",IF($K74=0,"Không đánh giá",""))))) -> Xuất sắc
A75: 6 | B75: Vũ Thị Thu | C75: Thuỷ | D75: 11100115710 | E75: 77 | F75: =IF(AND($E75>=90,$E75<=100),"Xuất sắc",IF(AND($E75>=75,$E75<90),"Tốt",IF(AND($E75>=50,$E75<75),"Hoàn thành",IF(AND($E75<50,$E75>0),"Không hoàn thành",IF($E75=0,"Không đánh giá",""))))) -> Tốt | G75: 29 | H75: 50 | K75: =G75+H75+I75-J75 -> 79 | L75: =IF(AND($K75>=90,$K75<=100),"Xuất sắc",IF(AND($K75>=75,$K75<90),"Tốt",IF(AND($K75>=50,$K75<75),"Hoàn thành",IF(AND($K75<50,$K75>0),"Không hoàn thành",IF($K75=0,"Không đánh giá",""))))) -> Tốt
A76: e | B76: Hợp đồng Trường
A77: 7 | B77: Nguyễn Yến | C77: Nhi | D77: 79000H05.000518 | E77: 79 | F77: =IF(AND($E77>=90,$E77<=100),"Xuất sắc",IF(AND($E77>=75,$E77<90),"Tốt",IF(AND($E77>=50,$E77<75),"Hoàn thành",IF(AND($E77<50,$E77>0),"Không hoàn thành",IF($E77=0,"Không đánh giá",""))))) -> Tốt | G77: 32 | H77: 60 | K77: =G77+H77+I77-J77 -> 92 | L77: =IF(AND($K77>=90,$K77<=100),"Xuất sắc",IF(AND($K77>=75,$K77<90),"Tốt",IF(AND($K77>=50,$K77<75),"Hoàn thành",IF(AND($K77<50,$K77>0),"Không hoàn thành",IF($K77=0,"Không đánh giá",""))))) -> Xuất sắc
A78: IV | B78: PHÒNG KẾ HOẠCH - TÀI CHÍNH
A79: a | B79: Viên chức
A80: 1 | B80: Nguyễn | C80: Kính | D80: 50800000800 | E80: 97 | F80: =IF(AND($E80>=90,$E80<=100),"Xuất sắc",IF(AND($E80>=75,$E80<90),"Tốt",IF(AND($E80>=50,$E80<75),"Hoàn thành",IF(AND($E80<50,$E80>0),"Không hoàn thành",IF($E80=0,"Không đánh giá",""))))) -> Xuất sắc | G80: 38 | H80: 60 | K80: =G80+H80+I80-J80 -> 98 | L80: =IF(AND($K80>=90,$K80<=100),"Xuất sắc",IF(AND($K80>=75,$K80<90),"Tốt",IF(AND($K80>=50,$K80<75),"Hoàn thành",IF(AND($K80<50,$K80>0),"Không hoàn thành",IF($K80=0,"Không đánh giá",""))))) -> Xuất sắc
A81: 2 | B81: Nguyễn Thị Kim | C81: Dung | D81: 11100071598 | E81: 95 | F81: =IF(AND($E81>=90,$E81<=100),"Xuất sắc",IF(AND($E81>=75,$E81<90),"Tốt",IF(AND($E81>=50,$E81<75),"Hoàn thành",IF(AND($E81<50,$E81>0),"Không hoàn thành",IF($E81=0,"Không đánh giá",""))))) -> Xuất sắc | G81: 29 | H81: 60 | K81: =G81+H81+I81-J81 -> 89 | L81: =IF(AND($K81>=90,$K81<=100),"Xuất sắc",IF(AND($K81>=75,$K81<90),"Tốt",IF(AND($K81>=50,$K81<75),"Hoàn thành",IF(AND($K81<50,$K81>0),"Không hoàn thành",IF($K81=0,"Không đánh giá",""))))) -> Tốt
A82: 3 | B82: Hồng Mộng Tuyết | C82: Dung | D82: 11100115722 | E82: 93 | F82: =IF(AND($E82>=90,$E82<=100),"Xuất sắc",IF(AND($E82>=75,$E82<90),"Tốt",IF(AND($E82>=50,$E82<75),"Hoàn thành",IF(AND($E82<50,$E82>0),"Không hoàn thành",IF($E82=0,"Không đánh giá",""))))) -> Xuất sắc | G82: 33 | H82: 60 | K82: =G82+H82+I82-J82 -> 93 | L82: =IF(AND($K82>=90,$K82<=100),"Xuất sắc",IF(AND($K82>=75,$K82<90),"Tốt",IF(AND($K82>=50,$K82<75),"Hoàn thành",IF(AND($K82<50,$K82>0),"Không hoàn thành",IF($K82=0,"Không đánh giá",""))))) -> Xuất sắc
A83: 4 | B83: Đỗ Thị | C83: Ngọc | D83: 50800001163 | E83: 90 | F83: =IF(AND($E83>=90,$E83<=100),"Xuất sắc",IF(AND($E83>=75,$E83<90),"Tốt",IF(AND($E83>=50,$E83<75),"Hoàn thành",IF(AND($E83<50,$E83>0),"Không hoàn thành",IF($E83=0,"Không đánh giá",""))))) -> Xuất sắc | G83: 31 | H83: 60 | K83: =G83+H83+I83-J83 -> 91 | L83: =IF(AND($K83>=90,$K83<=100),"Xuất sắc",IF(AND($K83>=75,$K83<90),"Tốt",IF(AND($K83>=50,$K83<75),"Hoàn thành",IF(AND($K83<50,$K83>0),"Không hoàn thành",IF($K83=0,"Không đánh giá",""))))) -> Xuất sắc
A84: 5 | B84: Trần Thị Minh | C84: Thoa | D84: 11100121674 | E84: 92 | F84: =IF(AND($E84>=90,$E84<=100),"Xuất sắc",IF(AND($E84>=75,$E84<90),"Tốt",IF(AND($E84>=50,$E84<75),"Hoàn thành",IF(AND($E84<50,$E84>0),"Không hoàn thành",IF($E84=0,"Không đánh giá",""))))) -> Xuất sắc | G84: 32 | H84: 60 | K84: =G84+H84+I84-J84 -> 92 | L84: =IF(AND($K84>=90,$K84<=100),"Xuất sắc",IF(AND($K84>=75,$K84<90),"Tốt",IF(AND($K84>=50,$K84<75),"Hoàn thành",IF(AND($K84<50,$K84>0),"Không hoàn thành",IF($K84=0,"Không đánh giá",""))))) -> Xuất sắc
A85: 6 | B85: Nguyễn Thị Hồng | C85: Thắm | D85: 40700000691 | E85: 92 | F85: =IF(AND($E85>=90,$E85<=100),"Xuất sắc",IF(AND($E85>=75,$E85<90),"Tốt",IF(AND($E85>=50,$E85<75),"Hoàn thành",IF(AND($E85<50,$E85>0),"Không hoàn thành",IF($E85=0,"Không đánh giá",""))))) -> Xuất sắc | G85: 32 | H85: 60 | K85: =G85+H85+I85-J85 -> 92 | L85: =IF(AND($K85>=90,$K85<=100),"Xuất sắc",IF(AND($K85>=75,$K85<90),"Tốt",IF(AND($K85>=50,$K85<75),"Hoàn thành",IF(AND($K85<50,$K85>0),"Không hoàn thành",IF($K85=0,"Không đánh giá",""))))) -> Xuất sắc
A86: 7 | B86: Phạm Lê Đông | C86: Hưng | D86: 50700000361 | E86: 91 | F86: =IF(AND($E86>=90,$E86<=100),"Xuất sắc",IF(AND($E86>=75,$E86<90),"Tốt",IF(AND($E86>=50,$E86<75),"Hoàn thành",IF(AND($E86<50,$E86>0),"Không hoàn thành",IF($E86=0,"Không đánh giá",""))))) -> Xuất sắc | G86: 31 | H86: 60 | K86: =G86+H86+I86-J86 -> 91 | L86: =IF(AND($K86>=90,$K86<=100),"Xuất sắc",IF(AND($K86>=75,$K86<90),"Tốt",IF(AND($K86>=50,$K86<75),"Hoàn thành",IF(AND($K86<50,$K86>0),"Không hoàn thành",IF($K86=0,"Không đánh giá",""))))) -> Xuất sắc
A87: e | B87: Hợp đồng Trường
A88: 9 | B88: Trần Thị Thảo | C88: Vân | D88: 79000H05.000490 | E88: 91 | F88: =IF(AND($E88>=90,$E88<=100),"Xuất sắc",IF(AND($E88>=75,$E88<90),"Tốt",IF(AND($E88>=50,$E88<75),"Hoàn thành",IF(AND($E88<50,$E88>0),"Không hoàn thành",IF($E88=0,"Không đánh giá",""))))) -> Xuất sắc | G88: 31 | H88: 50 | K88: =G88+H88+I88-J88 -> 81 | L88: =IF(AND($K88>=90,$K88<=100),"Xuất sắc",IF(AND($K88>=75,$K88<90),"Tốt",IF(AND($K88>=50,$K88<75),"Hoàn thành",IF(AND($K88<50,$K88>0),"Không hoàn thành",IF($K88=0,"Không đánh giá",""))))) -> Tốt
A89: 10 | B89: Nguyễn Thị Minh | C89: Thùy | D89: 79000H05.784781 | E89: 92 | F89: =IF(AND($E89>=90,$E89<=100),"Xuất sắc",IF(AND($E89>=75,$E89<90),"Tốt",IF(AND($E89>=50,$E89<75),"Hoàn thành",IF(AND($E89<50,$E89>0),"Không hoàn thành",IF($E89=0,"Không đánh giá",""))))) -> Xuất sắc | G89: 32 | H89: 50 | K89: =G89+H89+I89-J89 -> 82 | L89: =IF(AND($K89>=90,$K89<=100),"Xuất sắc",IF(AND($K89>=75,$K89<90),"Tốt",IF(AND($K89>=50,$K89<75),"Hoàn thành",IF(AND($K89<50,$K89>0),"Không hoàn thành",IF($K89=0,"Không đánh giá",""))))) -> Tốt
A90: V | B90: PHÒNG QUẢN TRỊ - DỊCH VỤ
A91: a | B91: Viên chức
A92: 1 | B92: Lê Quang | C92: Liêm | D92: 50200000160 | E92: 96 | F92: =IF(AND($E92>=90,$E92<=100),"Xuất sắc",IF(AND($E92>=75,$E92<90),"Tốt",IF(AND($E92>=50,$E92<75),"Hoàn thành",IF(AND($E92<50,$E92>0),"Không hoàn thành",IF($E92=0,"Không đánh giá",""))))) -> Xuất sắc | G92: 35 | H92: 60 | K92: =G92+H92+I92-J92 -> 95 | L92: =IF(AND($K92>=90,$K92<=100),"Xuất sắc",IF(AND($K92>=75,$K92<90),"Tốt",IF(AND($K92>=50,$K92<75),"Hoàn thành",IF(AND($K92<50,$K92>0),"Không hoàn thành",IF($K92=0,"Không đánh giá",""))))) -> Xuất sắc
A93: 2 | B93: Nguyễn Văn | C93: Thành | D93: 11100000723 | E93: 91 | F93: =IF(AND($E93>=90,$E93<=100),"Xuất sắc",IF(AND($E93>=75,$E93<90),"Tốt",IF(AND($E93>=50,$E93<75),"Hoàn thành",IF(AND($E93<50,$E93>0),"Không hoàn thành",IF($E93=0,"Không đánh giá",""))))) -> Xuất sắc | G93: 29 | H93: 60 | K93: =G93+H93+I93-J93 -> 89 | L93: =IF(AND($K93>=90,$K93<=100),"Xuất sắc",IF(AND($K93>=75,$K93<90),"Tốt",IF(AND($K93>=50,$K93<75),"Hoàn thành",IF(AND($K93<50,$K93>0),"Không hoàn thành",IF($K93=0,"Không đánh giá",""))))) -> Tốt
A94: 3 | B94: Nguyễn Trọng | C94: Phú | D94: 11100083294 | E94: 96 | F94: =IF(AND($E94>=90,$E94<=100),"Xuất sắc",IF(AND($E94>=75,$E94<90),"Tốt",IF(AND($E94>=50,$E94<75),"Hoàn thành",IF(AND($E94<50,$E94>0),"Không hoàn thành",IF($E94=0,"Không đánh giá",""))))) -> Xuất sắc | G94: 29 | H94: 60 | K94: =G94+H94+I94-J94 -> 89 | L94: =IF(AND($K94>=90,$K94<=100),"Xuất sắc",IF(AND($K94>=75,$K94<90),"Tốt",IF(AND($K94>=50,$K94<75),"Hoàn thành",IF(AND($K94<50,$K94>0),"Không hoàn thành",IF($K94=0,"Không đánh giá",""))))) -> Tốt
A95: 4 | B95: Đỗ Văn | C95: Trong | D95: 11100071601 | E95: 92 | F95: =IF(AND($E95>=90,$E95<=100),"Xuất sắc",IF(AND($E95>=75,$E95<90),"Tốt",IF(AND($E95>=50,$E95<75),"Hoàn thành",IF(AND($E95<50,$E95>0),"Không hoàn thành",IF($E95=0,"Không đánh giá",""))))) -> Xuất sắc | G95: 26 | H95: 60 | K95: =G95+H95+I95-J95 -> 86 | L95: =IF(AND($K95>=90,$K95<=100),"Xuất sắc",IF(AND($K95>=75,$K95<90),"Tốt",IF(AND($K95>=50,$K95<75),"Hoàn thành",IF(AND($K95<50,$K95>0),"Không hoàn thành",IF($K95=0,"Không đánh giá",""))))) -> Tốt
A96: 5 | B96: Giáp Văn | C96: Thịnh | D96: 11100115709 | E96: 95 | F96: =IF(AND($E96>=90,$E96<=100),"Xuất sắc",IF(AND($E96>=75,$E96<90),"Tốt",IF(AND($E96>=50,$E96<75),"Hoàn thành",IF(AND($E96<50,$E96>0),"Không hoàn thành",IF($E96=0,"Không đánh giá",""))))) -> Xuất sắc | G96: 31 | H96: 60 | K96: =G96+H96+I96-J96 -> 91 | L96: =IF(AND($K96>=90,$K96<=100),"Xuất sắc",IF(AND($K96>=75,$K96<90),"Tốt",IF(AND($K96>=50,$K96<75),"Hoàn thành",IF(AND($K96<50,$K96>0),"Không hoàn thành",IF($K96=0,"Không đánh giá",""))))) -> Xuất sắc
A97: 6 | B97: Vũ Ngọc | C97: Quang | D97: 11100083308 | E97: 90 | F97: =IF(AND($E97>=90,$E97<=100),"Xuất sắc",IF(AND($E97>=75,$E97<90),"Tốt",IF(AND($E97>=50,$E97<75),"Hoàn thành",IF(AND($E97<50,$E97>0),"Không hoàn thành",IF($E97=0,"Không đánh giá",""))))) -> Xuất sắc | G97: 27 | H97: 60 | K97: =G97+H97+I97-J97 -> 87 | L97: =IF(AND($K97>=90,$K97<=100),"Xuất sắc",IF(AND($K97>=75,$K97<90),"Tốt",IF(AND($K97>=50,$K97<75),"Hoàn thành",IF(AND($K97<50,$K97>0),"Không hoàn thành",IF($K97=0,"Không đánh giá",""))))) -> Tốt
A98: 7 | B98: Lê Hồng Anh | C98: Tuấn | D98: 40900000037 | E98: 92 | F98: =IF(AND($E98>=90,$E98<=100),"Xuất sắc",IF(AND($E98>=75,$E98<90),"Tốt",IF(AND($E98>=50,$E98<75),"Hoàn thành",IF(AND($E98<50,$E98>0),"Không hoàn thành",IF($E98=0,"Không đánh giá",""))))) -> Xuất sắc | G98: 31 | H98: 60 | K98: =G98+H98+I98-J98 -> 91 | L98: =IF(AND($K98>=90,$K98<=100),"Xuất sắc",IF(AND($K98>=75,$K98<90),"Tốt",IF(AND($K98>=50,$K98<75),"Hoàn thành",IF(AND($K98<50,$K98>0),"Không hoàn thành",IF($K98=0,"Không đánh giá",""))))) -> Xuất sắc
A99: 8 | B99: Ninh Đỗ | C99: Hiệp | D99: 11100115706 | E99: 81 | F99: =IF(AND($E99>=90,$E99<=100),"Xuất sắc",IF(AND($E99>=75,$E99<90),"Tốt",IF(AND($E99>=50,$E99<75),"Hoàn thành",IF(AND($E99<50,$E99>0),"Không hoàn thành",IF($E99=0,"Không đánh giá",""))))) -> Tốt | G99: 25.5 | H99: 50 | K99: =G99+H99+I99-J99 -> 75.5 | L99: =IF(AND($K99>=90,$K99<=100),"Xuất sắc",IF(AND($K99>=75,$K99<90),"Tốt",IF(AND($K99>=50,$K99<75),"Hoàn thành",IF(AND($K99<50,$K99>0),"Không hoàn thành",IF($K99=0,"Không đánh giá",""))))) -> Tốt
A100: 9 | B100: Bùi Đặng Hoàng | C100: Tuấn | D100: 40800000327 | E100: 84 | F100: =IF(AND($E100>=90,$E100<=100),"Xuất sắc",IF(AND($E100>=75,$E100<90),"Tốt",IF(AND($E100>=50,$E100<75),"Hoàn thành",IF(AND($E100<50,$E100>0),"Không hoàn thành",IF($E100=0,"Không đánh giá",""))))) -> Tốt | G100: 27 | H100: 50 | K100: =G100+H100+I100-J100 -> 77 | L100: =IF(AND($K100>=90,$K100<=100),"Xuất sắc",IF(AND($K100>=75,$K100<90),"Tốt",IF(AND($K100>=50,$K100<75),"Hoàn thành",IF(AND($K100<50,$K100>0),"Không hoàn thành",IF($K100=0,"Không đánh giá",""))))) -> Tốt
A101: 10 | B101: Nguyễn Tiến Việt | C101: Dũng | D101: 40800000301 | E101: 83 | F101: =IF(AND($E101>=90,$E101<=100),"Xuất sắc",IF(AND($E101>=75,$E101<90),"Tốt",IF(AND($E101>=50,$E101<75),"Hoàn thành",IF(AND($E101<50,$E101>0),"Không hoàn thành",IF($E101=0,"Không đánh giá",""))))) -> Tốt | G101: 26 | H101: 50 | K101: =G101+H101+I101-J101 -> 76 | L101: =IF(AND($K101>=90,$K101<=100),"Xuất sắc",IF(AND($K101>=75,$K101<90),"Tốt",IF(AND($K101>=50,$K101<75),"Hoàn thành",IF(AND($K101<50,$K101>0),"Không hoàn thành",IF($K101=0,"Không đánh giá",""))))) -> Tốt
A102: 11 | B102: Nguyễn Cao | C102: Thắng | D102: 80600000454 | E102: 95 | F102: =IF(AND($E102>=90,$E102<=100),"Xuất sắc",IF(AND($E102>=75,$E102<90),"Tốt",IF(AND($E102>=50,$E102<75),"Hoàn thành",IF(AND($E102<50,$E102>0),"Không hoàn thành",IF($E102=0,"Không đánh giá",""))))) -> Xuất sắc | G102: 31 | H102: 60 | K102: =G102+H102+I102-J102 -> 91 | L102: =IF(AND($K102>=90,$K102<=100),"Xuất sắc",IF(AND($K102>=75,$K102<90),"Tốt",IF(AND($K102>=50,$K102<75),"Hoàn thành",IF(AND($K102<50,$K102>0),"Không hoàn thành",IF($K102=0,"Không đánh giá",""))))) -> Xuất sắc
...

Sheet Mẫu 4A (2)
A1: UBND THÀNH PHỐ HỒ CHÍ MINH TRƯỜNG CAO ĐẲNG LÝ TỰ TRỌNG THÀNH PHỐ HỒ CHÍ MINH | E1: CỘNG HÒA XÃ HỘI CHỦ NGHĨA VIỆT NAM Độc lập - Tự do - Hạnh phúc
A3: BÁO CÁO TỔNG HỢP KẾT QUẢ ĐÁNH GIÁ, PHÂN LOẠI THEO HIỆU QUẢ CÔNG VIỆC CỦA CÁN BỘ - GIẢNG VIÊN - NHÂN VIÊN TRONG QUÝ 3/2019
A5: Stt | B5: Họ và tên | D5: MÃ NHÂN VIÊN | E5: Kết quả đánh giá, phân loại theo hiệu quả công việc | F5: Ghi chú
A6: -1 | B6: -2 | E6: -3 | F6: -4
A7: I | B7: BAN GIÁM HIỆU
A8: a | B8: Viên chức
A9: 1 | B9: Phạm Hữu | C9: Lộc | D9: 41200001203 | F9: Công chức, Sở GDĐT đánh giá, phân loại
A10: =A9+1 -> 2 | B10: Đinh Hồng | C10: Minh | D10: 11100000791 | E10: Hoàn thành Xuất sắc nhiệm vụ
A11: =A10+1 -> 3 | B11: Đinh Văn | C11: Đệ | D11: 50200000021 | E11: Hoàn thành Xuất sắc nhiệm vụ
A12: =A11+1 -> 4 | B12: Châu Văn | C12: Bảo | D12: 50200000021 | E12: Hoàn thành Xuất sắc nhiệm vụ
A13: I | B13: PHÒNG TỔ CHỨC - HÀNH CHÍNH - TỔNG HỢP
A14: a | B14: Viên chức
A15: =A12+1 -> 5 | B15: Lâm Viết | C15: Dũng | D15: 50800000104 | E15: Hoàn thành Xuất sắc nhiệm vụ
A16: =A15+1 -> 6 | B16: Nguyễn Thị | C16: Hoa | D16: 11100000743 | E16: Hoàn thành Xuất sắc nhiệm vụ
A17: =A16+1 -> 7 | B17: Nguyễn Thành | C17: Nam | D17: 60400000280 | E17: Hoàn thành Tốt nhiệm vụ
A18: =A17+1 -> 8 | B18: Phan Thị Ngọc | C18: Phượng | D18: 11100082854 | E18: Hoàn thành Xuất sắc nhiệm vụ
A19: =A18+1 -> 9 | B19: Vũ Như | C19: Quỳnh | D19: 11100082861 | E19: Hoàn thành Xuất sắc nhiệm vụ
A20: =A19+1 -> 10 | B20: Trần Thị Ánh | C20: Phượng | D20: 11100115699 | E20: Hoàn thành Xuất sắc nhiệm vụ
A21: =A20+1 -> 11 | B21: Nguyễn Thị Bích | C21: Liễu | D21: 40400000515 | E21: Hoàn thành Xuất sắc nhiệm vụ | F21: Nghỉ thai sản từ 04/02/19 đến 04/8/2019 (đánh giá 2 tháng)
A22: =A21+1 -> 12 | B22: Trần Thị Phương | C22: Oanh | D22: 11100071604 | E22: Hoàn thành Xuất sắc nhiệm vụ
A23: =A22+1 -> 13 | B23: Lưu Hoàng Hải | C23: Yến | D23: 80300000835 | E23: Hoàn thành Xuất sắc nhiệm vụ
A24: =A23+1 -> 14 | B24: Huỳnh Thị Minh | C24: Ly | D24: 11100115713 | E24: Hoàn thành Xuất sắc nhiệm vụ
A25: =A24+1 -> 15 | B25: Nguyễn Văn | C25: Chì | D25: 40700000887 | E25: Hoàn thành Xuất sắc nhiệm vụ
A26: =A25+1 -> 16 | B26: Thân Thị | C26: Nhung | D26: 40700000683 | E26: Hoàn thành Xuất sắc nhiệm vụ
A27: =A26+1 -> 17 | B27: Nguyễn Thị | C27: Vân | D27: 80500000584 | E27: Không đánh giá | F27: Nghỉ thai sản từ 02/04/19 đến 02/10/2019
A28: c | B28: Hợp đồng Sở
A29: =A27+1 -> 18 | B29: Lê Hùng | C29: Thanh | D29: 11100000803 | E29: Hoàn thành Xuất sắc nhiệm vụ
A30: =A29+1 -> 19 | B30: Huỳnh Thị Xuân | C30: Mai | D30: 11100071597 | E30: Hoàn thành Xuất sắc nhiệm vụ
A31: =A30+1 -> 20 | B31: Trần Văn Cu | C31: Anh | D31: 11100000805 | E31: Hoàn thành Xuất sắc nhiệm vụ
A32: d | B32: Hợp đồng 68
A33: =A31+1 -> 21 | B33: Huỳnh Thanh | C33: Nhàn | D33: 79000H05.000574 | E33: Hoàn thành Xuất sắc nhiệm vụ
A34: =A33+1 -> 22 | B34: Phạm Hữu Thành | C34: Phú | D34: 79000H05.000575 | E34: Hoàn thành Xuất sắc nhiệm vụ
A35: =A34+1 -> 23 | B35: Lê Hồng | C35: Phúc | D35: 79000H05.000448 | E35: Hoàn thành Xuất sắc nhiệm vụ
A36: =A35+1 -> 24 | B36: Nguyễn Hữu Xuân | C36: Vũ | D36: 79000H05.000420 | E36: Hoàn thành Tốt nhiệm vụ
A37: e | B37: Hợp đồng trường
A38: =A36+1 -> 25 | B38: Phạm Hữu | C38: Tấn | D38: 79000H05.000568 | E38: Hoàn thành Tốt nhiệm vụ
A39: =A38+1 -> 26 | B39: Nguyễn Tiến | C39: Hưng | D39: 79000H05.000299 | E39: Hoàn thành Tốt nhiệm vụ
A40: =A39+1 -> 27 | B40: Đồng Anh | C40: Tuấn | D40: 79000H05.000527 | E40: Hoàn thành Tốt nhiệm vụ | F40: HĐ thi đua nhắc nhở tháng 9/2019
A41: =A40+1 -> 28 | B41: Trần Thanh | C41: Phương | D41: 79000H05.326689 | E41: Hoàn thành Tốt nhiệm vụ
A42: =A41+1 -> 29 | B42: Nguyễn Thanh | C42: Hiền | D42: 79000H05.110707 | E42: Hoàn thành Tốt nhiệm vụ
A43: =A42+1 -> 30 | B43: Lê Hồng | C43: Sơn | D43: 79000H05.852722 | E43: Hoàn thành Tốt nhiệm vụ
A44: II | B44: PHÒNG CÔNG TÁC CHÍNH TRỊ - HỌC SINH SINH VIÊN
A45: a | B45: Viên chức
A46: =A43+1 -> 31 | B46: Lê Xuân | C46: Thiện | D46: 11100000742 | E46: Hoàn thành Xuất sắc nhiệm vụ
A47: =A46+1 -> 32 | B47: Hồ Minh | C47: Lợi | D47: 11100000704 | E47: Hoàn thành Xuất sắc nhiệm vụ
A48: =A47+1 -> 33 | B48: Nguyễn Ngọc | C48: Hiệp | D48: 11100000751 | E48: Hoàn thành Tốt nhiệm vụ
A49: =A48+1 -> 34 | B49: Nguyễn Thị Kim | C49: Anh | D49: 11100115721 | E49: Hoàn thành Xuất sắc nhiệm vụ
A50: =A49+1 -> 35 | B50: Phạm Thị Lê | C50: Chi | D50: 11100110014 | E50: Hoàn thành nhiệm vụ | F50: Thi đua tháng 8 xếp loại B, hạ 1 bậc đánh giá từ hoàn thành Tốt xuống hoàn thành nhiệm vụ
A51: =A50+1 -> 36 | B51: Bùi Thị | C51: Dương | D51: 11100115717 | E51: Hoàn thành Tốt nhiệm vụ
A52: =A51+1 -> 37 | B52: Hà Nhật | C52: Thanh | D52: 11100000741 | E52: Hoàn thành Xuất sắc nhiệm vụ
A53: =A52+1 -> 38 | B53: Trần Thị Thu | C53: Hà | D53: 11100071600 | E53: Hoàn thành Xuất sắc nhiệm vụ
A54: =A53+1 -> 39 | B54: Phan Đức | C54: Long | D54: 11100000789 | E54: Hoàn thành Tốt nhiệm vụ
A55: =A54+1 -> 40 | B55: Nguyễn Tất | C55: Thắng | D55: 11100000772 | E55: Hoàn thành Xuất sắc nhiệm vụ
A56: c | B56: Hợp đồng Sở
A57: =A55+1 -> 41 | B57: Trần Văn | C57: Lý | D57: 11100000812 | E57: Hoàn thành Tốt nhiệm vụ
A58: =A57+1 -> 42 | B58: Lê Thị | C58: Nữ | D58: 11100071602 | E58: Hoàn thành Xuất sắc nhiệm vụ
A59: e | B59: Hợp đồng Trường
A60: =A58+1 -> 43 | B60: Nguyễn Thị | C60: Nhung | D60: 79000H05.000552 | E60: Hoàn thành Xuất sắc nhiệm vụ
A61: =A60+1 -> 44 | B61: Nguyễn Trung | C61: Dũng | D61: 79000H05.000195 | E61: Hoàn thành Xuất sắc nhiệm vụ
A62: =A61+1 -> 45 | B62: Lê Thị Hà | C62: Giang | D62: 79000H05.000459 | E62: Hoàn thành Tốt nhiệm vụ | F62: HĐ thi đua nhắc nhở tháng 9/2019, trừ 3% điểm thực tế đạt được
A63: =A62+1 -> 46 | B63: Huỳnh Văn | C63: Hiếu | D63: 79000H05.000443 | E63: Hoàn thành Xuất sắc nhiệm vụ
A64: =A63+1 -> 47 | B64: Bùi Đức | C64: Phước | D64: 79000H05.000608 | E64: Hoàn thành Xuất sắc nhiệm vụ
A65: =A64+1 -> 48 | B65: Võ Thị | C65: Tuyết | D65: 79000H05.000507 | E65: Hoàn thành Tốt nhiệm vụ
A66: =A65+1 -> 49 | B66: Trịnh Tuấn | C66: Vũ | D66: 79000H05.000317 | E66: Hoàn thành Tốt nhiệm vụ
A67: III | B67: PHÒNG KHẢO THÍ VÀ ĐẢM BẢO CHẤT LƯỢNG
A68: c | B68: Viên chức
A69: =A66+1 -> 50 | B69: Nguyễn Chí | C69: Nhân | D69: 11100066861 | E69: Hoàn thành Tốt nhiệm vụ
A70: =A69+1 -> 51 | B70: Võ Thị Anh | C70: Đào | D70: 11100000701 | E70: Hoàn thành Xuất sắc nhiệm vụ
A71: =A70+1 -> 52 | B71: Nguyễn Thanh | C71: Sơn | D71: 11100122989 | E71: Hoàn thành Tốt nhiệm vụ
A72: =A71+1 -> 53 | B72: Lương Minh | C72: Dũng | D72: 40800000245 | E72: Hoàn thành Xuất sắc nhiệm vụ
A73: =A72+1 -> 54 | B73: Nguyễn Thị | C73: Tuyết | D73: 50700000482 | E73: Hoàn thành Xuất sắc nhiệm vụ
A74: =A73+1 -> 55 | B74: Vũ Thị Thu | C74: Thuỷ | D74: 11100115710 | E74: Hoàn thành Tốt nhiệm vụ
A75: e | B75: Hợp đồng Trường
A76: =A74+1 -> 56 | B76: Nguyễn Yến | C76: Nhi | D76: 79000H05.000518 | E76: Hoàn thành Xuất sắc nhiệm vụ
A77: IV | B77: PHÒNG KẾ HOẠCH - TÀI CHÍNH
A78: a | B78: Viên chức
A79: =A76+1 -> 57 | B79: Nguyễn | C79: Kính | D79: 50800000800 | E79: Hoàn thành Xuất sắc nhiệm vụ
A80: =A79+1 -> 58 | B80: Nguyễn Thị Kim | C80: Dung | D80: 11100071598 | E80: Hoàn thành Tốt nhiệm vụ
A81: =A80+1 -> 59 | B81: Hồng Mộng Tuyết | C81: Dung | D81: 11100115722 | E81: Hoàn thành Xuất sắc nhiệm vụ
A82: =A81+1 -> 60 | B82: Đỗ Thị | C82: Ngọc | D82: 50800001163 | E82: Hoàn thành Xuất sắc nhiệm vụ
A83: =A82+1 -> 61 | B83: Trần Thị Minh | C83: Thoa | D83: 11100121674 | E83: Hoàn thành Xuất sắc nhiệm vụ
A84: =A83+1 -> 62 | B84: Nguyễn Thị Hồng | C84: Thắm | D84: 40700000691 | E84: Hoàn thành Xuất sắc nhiệm vụ
A85: =A84+1 -> 63 | B85: Phạm Lê Đông | C85: Hưng | D85: 50700000361 | E85: Hoàn thành Xuất sắc nhiệm vụ
A86: e | B86: Hợp đồng Trường
A87: =A85+1 -> 64 | B87: Trần Thị Thảo | C87: Vân | D87: 79000H05.000490 | E87: Hoàn thành Tốt nhiệm vụ
A88: =A87+1 -> 65 | B88: Nguyễn Thị Minh | C88: Thùy | D88: 79000H05.784781 | E88: Hoàn thành Tốt nhiệm vụ
A89: V | B89: PHÒNG QUẢN TRỊ - DỊCH VỤ
A90: a | B90: Viên chức
A91: =A88+1 -> 66 | B91: Lê Quang | C91: Liêm | D91: 50200000160 | E91: Hoàn thành Xuất sắc nhiệm vụ
A92: =A91+1 -> 67 | B92: Nguyễn Văn | C92: Thành | D92: 11100000723 | E92: Hoàn thành Tốt nhiệm vụ
A93: =A92+1 -> 68 | B93: Nguyễn Trọng | C93: Phú | D93: 11100083294 | E93: Hoàn thành Tốt nhiệm vụ
A94: =A93+1 -> 69 | B94: Đỗ Văn | C94: Trong | D94: 11100071601 | E94: Hoàn thành Tốt nhiệm vụ
A95: =A94+1 -> 70 | B95: Giáp Văn | C95: Thịnh | D95: 11100115709 | E95: Hoàn thành Xuất sắc nhiệm vụ
A96: =A95+1 -> 71 | B96: Vũ Ngọc | C96: Quang | D96: 11100083308 | E96: Hoàn thành Tốt nhiệm vụ
A97: =A96+1 -> 72 | B97: Lê Hồng Anh | C97: Tuấn | D97: 40900000037 | E97: Hoàn thành Xuất sắc nhiệm vụ
A98: =A97+1 -> 73 | B98: Ninh Đỗ | C98: Hiệp | D98: 11100115706 | E98: Hoàn thành Tốt nhiệm vụ
A99: =A98+1 -> 74 | B99: Bùi Đặng Hoàng | C99: Tuấn | D99: 40800000327 | E99: Hoàn thành Tốt nhiệm vụ
A100: =A99+1 -> 75 | B100: Nguyễn Tiến Việt | C100: Dũng | D100: 40800000301 | E100: Hoàn thành Tốt nhiệm vụ
A101: =A100+1 -> 76 | B101: Nguyễn Cao | C101: Thắng | D101: 80600000454 | E101: Hoàn thành Xuất sắc nhiệm vụ
A102: =A101+1 -> 77 | B102: Nguyễn Thùy | C102: Dương | D102: 21000001676 | E102: Hoàn thành Tốt nhiệm vụ
...
